- Раздел: Животные
- Дата съёмки: 08.09.2008 13:47
- Дата загрузки фото: 08.09.2008 15:30
- Оригинальная фотография: 1157 x 800 (151 Кб)
- Технические характеристики:
- Фотоаппарат: Sony DSLR-A100
- Выдержка: 1/40
- Гиперфокальное расстояние: 89,15 m
- Диафрагма: 1,4
- Светочувствительность: 200
- Фокусное расстояние: 50,0mm (35mm эквивалент: 75,0mm)
- Полный EXIF
- Adobe
- ColorTransform: YCbCr
- Composite
- Aperture: 1,4
- CircleOfConfusion: 0,020 mm
- FocalLength35efl: 50,0mm (35mm equivalent: 75,0mm)
- HyperfocalDistance: 89,15 m
- LightValue: 5,3
- ScaleFactor35efl: 1,5
- ShutterSpeed: 1/40
- ExifIFD
- ApertureValue: 1,4
- BrightnessValue: 0,37
- Contrast: Normal
- CreateDate: 2008:09:08 13:47:04
- CustomRendered: Normal
- DateTimeOriginal: 2008:09:08 13:47:04
- DigitalZoomRatio: 0
- ExposureCompensation: 0
- ExposureMode: Auto
- ExposureProgram: Aperture-priority AE
- ExposureTime: 1/40
- FNumber: 1,4
- Flash: Off
- FocalLength: 50,0mm
- FocalLengthIn35mmFormat: 75mm
- GainControl: None
- ISO: 200
- LightSource: Unknown (0)
- MaxApertureValue: 1,4
- MeteringMode: Spot
- Saturation: Normal
- SceneCaptureType: Standard
- SceneType: Directly photographed
- Sharpness: Hard
- ShutterSpeedValue: 1/40
- SubjectLocation: 1149 982 329 393
- WhiteBalance: Auto
- ICC-header
- ICC-meas
- ICC-view
- IFD0
- ImageDescription: SONY DSC
- Make: SONY
- Model: DSLR-A100
- ModifyDate: 2008:09:08 15:22:53
- Software: DSLR-A100 v1.04
- IPTC
- Caption-Abstract: SONY DSC
- XMP-crs
- AlreadyApplied: True
- BlueHue: 0
- BlueSaturation: 0
- Brightness: +50
- CameraProfile: ACR 4.4
- ChromaticAberrationB: 0
- ChromaticAberrationR: 0
- Clarity: 42
- ColorNoiseReduction: 25
- Contrast: +25
- ConvertToGrayscale: False
- CropAngle: 0
- CropBottom: 0.877462
- CropHeight: 800
- CropLeft: 0.13783
- CropRight: 0.885631
- CropTop: 0.105033
- CropUnit: 0
- CropWidth: 1157
- Defringe: 0
- Exposure: -0.48
- FillLight: 0
- GreenHue: 0
- GreenSaturation: 0
- HasCrop: True
- HasSettings: True
- HighlightRecovery: 32
- HueAdjustmentAqua: 0
- HueAdjustmentBlue: 0
- HueAdjustmentGreen: 0
- HueAdjustmentMagenta: 0
- HueAdjustmentOrange: 0
- HueAdjustmentPurple: 0
- HueAdjustmentRed: 0
- HueAdjustmentYellow: 0
- LuminanceAdjustmentAqua: 0
- LuminanceAdjustmentBlue: 0
- LuminanceAdjustmentGreen: 0
- LuminanceAdjustmentMagenta: 0
- LuminanceAdjustmentOrange: 0
- LuminanceAdjustmentPurple: 0
- LuminanceAdjustmentRed: 0
- LuminanceAdjustmentYellow: 0
- LuminanceSmoothing: 0
- ParametricDarks: -5
- ParametricHighlightSplit: 75
- ParametricHighlights: 0
- ParametricLights: +20
- ParametricMidtoneSplit: 50
- ParametricShadowSplit: 25
- ParametricShadows: 0
- RedHue: 0
- RedSaturation: 0
- Saturation: +5
- SaturationAdjustmentAqua: 0
- SaturationAdjustmentBlue: 0
- SaturationAdjustmentGreen: 0
- SaturationAdjustmentMagenta: 0
- SaturationAdjustmentOrange: 0
- SaturationAdjustmentPurple: 0
- SaturationAdjustmentRed: 0
- SaturationAdjustmentYellow: 0
- ShadowTint: 0
- Shadows: 5
- SharpenDetail: 60
- SharpenEdgeMasking: 71
- SharpenRadius: +1.4
- Sharpness: 61
- SplitToningBalance: 0
- SplitToningHighlightHue: 0
- SplitToningHighlightSaturation: 0
- SplitToningShadowHue: 0
- SplitToningShadowSaturation: 0
- Temperature: 4857
- Tint: +14
- ToneCurve: 0, 0, 32, 22, 64, 56, 128, 128, 192, 196, 255, 255
- ToneCurveName: Medium Contrast
- Version: 4.4.1
- Vibrance: +26
- VignetteAmount: 0
- WhiteBalance: Custom
- XMP-dc
- XMP-exif
- DateTimeDigitized: 2008:09:08 13:47:04+04:00
- DateTimeOriginal: 2008:09:08 13:47:04+04:00
- FlashFired: False
- FlashFunction: False
- FlashMode: Off
- FlashRedEyeMode: False
- FlashReturn: No return detection
- FocalLengthIn35mmFormat: 75
- SubjectArea: 1149, 982, 329, 393
- XMP-tiff
- ImageHeight: 800
- ImageWidth: 1157
- XMP-xmp
- ModifyDate: 2008:09:08 15:22:53+04:00