- Раздел: Другое, разное
- Дата съёмки: 13.09.2008 12:59
- Дата загрузки фото: 14.09.2008 16:57
- Оригинальная фотография: 4672 x 3104 (6,4 Мб)
- Технические характеристики:
- Фотоаппарат: Pentax K20D
- Выдержка: 1/40
- Гиперфокальное расстояние: 6,54 m
- Диафрагма: 4,0
- Светочувствительность: 100
- Фокусное расстояние: 23,1mm (35mm эквивалент: 34,0mm)
- Экспокоррекция: 0,7
- Полный EXIF
- Adobe
- ColorTransform: YCbCr
- Composite
- Aperture: 4,0
- CircleOfConfusion: 0,020 mm
- FocalLength35efl: 23,1mm (35mm equivalent: 34,0mm)
- HyperfocalDistance: 6,54 m
- LightValue: 9,3
- ScaleFactor35efl: 1,5
- ShutterSpeed: 1/40
- ExifIFD
- ApertureValue: 4,0
- CFAPattern: [Blue,Green][Green,Red]
- Contrast: Normal
- CreateDate: 2008:09:13 12:59:23
- CustomRendered: Normal
- DateTimeOriginal: 2008:09:13 12:59:23
- ExposureCompensation: 0,7
- ExposureMode: Manual
- ExposureProgram: Unknown (0)
- ExposureTime: 1/40
- FNumber: 4,0
- Flash: On, Red-eye reduction
- FocalLength: 23,1mm
- FocalLengthIn35mmFormat: 34mm
- ISO: 100
- MeteringMode: Multi-segment
- Saturation: Normal
- SceneCaptureType: Standard
- SensingMethod: One-chip color area
- Sharpness: Soft
- ShutterSpeedValue: 1/40
- SubjectDistanceRange: Distant
- WhiteBalance: Auto
- ICC-header
- IFD0
- Make: PENTAX
- Model: PENTAX K20D
- ModifyDate: 2008:09:13 20:40:57
- Software: K20D Ver 1.01
- XMP-aux
- XMP-crs
- AlreadyApplied: True
- BlueHue: 0
- BlueSaturation: 0
- Brightness: +71
- CameraProfile: ACR 4.4
- ChromaticAberrationB: 0
- ChromaticAberrationR: 0
- Clarity: +12
- ColorNoiseReduction: 25
- Contrast: +49
- ConvertToGrayscale: False
- Defringe: 0
- Exposure: +0.10
- FillLight: 12
- GreenHue: 0
- GreenSaturation: 0
- HasCrop: False
- HasSettings: True
- HighlightRecovery: 15
- HueAdjustmentAqua: 0
- HueAdjustmentBlue: 0
- HueAdjustmentGreen: 0
- HueAdjustmentMagenta: 0
- HueAdjustmentOrange: 0
- HueAdjustmentPurple: 0
- HueAdjustmentRed: 0
- HueAdjustmentYellow: 0
- LuminanceAdjustmentAqua: 0
- LuminanceAdjustmentBlue: 0
- LuminanceAdjustmentGreen: 0
- LuminanceAdjustmentMagenta: 0
- LuminanceAdjustmentOrange: 0
- LuminanceAdjustmentPurple: 0
- LuminanceAdjustmentRed: 0
- LuminanceAdjustmentYellow: 0
- LuminanceSmoothing: 0
- ParametricDarks: 0
- ParametricHighlightSplit: 75
- ParametricHighlights: 0
- ParametricLights: 0
- ParametricMidtoneSplit: 50
- ParametricShadowSplit: 25
- ParametricShadows: 0
- PostCropVignetteAmount: 0
- RawFileName: IMGP0448.PEF
- RedHue: 0
- RedSaturation: 0
- Saturation: 0
- SaturationAdjustmentAqua: 0
- SaturationAdjustmentBlue: 0
- SaturationAdjustmentGreen: 0
- SaturationAdjustmentMagenta: 0
- SaturationAdjustmentOrange: 0
- SaturationAdjustmentPurple: 0
- SaturationAdjustmentRed: 0
- SaturationAdjustmentYellow: 0
- ShadowTint: 0
- Shadows: 1
- SharpenDetail: 25
- SharpenEdgeMasking: 0
- SharpenRadius: +1.0
- Sharpness: 25
- SplitToningBalance: 0
- SplitToningHighlightHue: 0
- SplitToningHighlightSaturation: 0
- SplitToningShadowHue: 0
- SplitToningShadowSaturation: 0
- Temperature: 4750
- Tint: -17
- ToneCurve: 0, 0, 32, 22, 64, 56, 128, 128, 192, 196, 255, 255
- ToneCurveName: Medium Contrast
- Version: 4.5
- Vibrance: +8
- VignetteAmount: 0
- WhiteBalance: As Shot
- XMP-exif
- DateTimeDigitized: 2008:09:13 12:59:23+04:00
- DateTimeOriginal: 2008:09:13 12:59:23+04:00
- ExifImageLength: 3104
- ExifImageWidth: 4672
- FlashFired: True
- FlashFunction: False
- FlashMode: On
- FlashRedEyeMode: True
- FlashReturn: No return detection
- FocalLengthIn35mmFormat: 34
- XMP-tiff
- ImageHeight: 3104
- ImageWidth: 4672
- XMP-xmp
- CreateDate: 2008:09:13 12:59:23+04:00
- CreatorTool: K20D Ver 1.01
- ModifyDate: 2008:09:13 20:40:57+04:00
- Просмотров: 335
- Рейтинг: голосов еще нет
- Отзывов: 0