| » Участники » TiN_MGP » Железо » Комповый хлам » RC Helicopter motor regulator, dead |
Уважаемые друзья и участники проекта iXBT.photo! К сожалению, 1 марта 2026 года проект iXBT.photo прекратит свою работу и будет закрыт. Мы высоко ценим ваше участие и тот вклад, который вы внесли в развитие нашего сообщества. Пожалуйста, не забудьте сохранить ваши фотографии до этой даты.
С уважением, команда iXBT.com
| RC Helicopter motor regulator, dead |
RC Helicopter motor regulator, dead
- Раздел: Компьютеры, железо
- Дата съёмки: 22.09.2008 23:52
- Дата загрузки фото: 24.09.2008 09:27
- Оригинальная фотография: 3655 x 2142 (2,5 Мб)
- Технические характеристики:
- Фотоаппарат: Nikon D200
- Выдержка: 0,8
- Гиперфокальное расстояние: 80,17 m
- Диафрагма: 5,6
- Светочувствительность: 200
- Фокусное расстояние: 95,0 mm (35 mm equivalent: 142,0 mm)
- Полный EXIF
- Adobe
- ColorTransform: YCbCr
- Composite
- Aperture: 5,6
- CircleOfConfusion: 0,020 mm
- FOV: 14,0 deg
- FocalLength35efl: 95,0 mm (35 mm equivalent: 142,0 mm)
- HyperfocalDistance: 80,17 m
- ScaleFactor35efl: 1,5
- ShutterSpeed: 0,8
- ExifIFD
- ApertureValue: 5,6
- CFAPattern: [Green,Red][Blue,Green]
- Contrast: High
- CreateDate: 2008:09:22 23:52:29
- CustomRendered: Normal
- DateTimeOriginal: 2008:09:22 23:52:29
- DigitalZoomRatio: 1
- ExposureCompensation: 0
- ExposureMode: Manual
- ExposureProgram: Manual
- ExposureTime: 0,8
- FNumber: 5,6
- Flash: No Flash
- FocalLength: 95,0 mm
- FocalLengthIn35mmFormat: 142 mm
- GainControl: None
- ISO: 200
- LightSource: Flash
- MaxApertureValue: 5,7
- MeteringMode: Multi-segment
- Saturation: High
- SceneCaptureType: Standard
- SceneType: Directly photographed
- SensingMethod: One-chip color area
- Sharpness: Hard
- ShutterSpeedValue: 0,8
- SubjectDistanceRange: Unknown
- UserComment: ILYA_MGP@MAIL.RU;ICQ:86080981 (C)TiN
- WhiteBalance: Manual
- ICC-header
- ICC-meas
- ICC-view
- IFD0
- Make: NIKON CORPORATION
- Model: NIKON D200
- ModifyDate: 2008:09:23 00:08:05
- Software: Ver.2.00
- XMP-aux
- ImageNumber: 16831
- Lens: 18.0-135.0 mm f/3.5-5.6
- LensInfo: 180/10 1350/10 35/10 56/10
- XMP-crs
- AlreadyApplied: True
- BlueHue: 0
- BlueSaturation: 0
- Brightness: 0
- CameraProfile: ACR 4.4
- ChromaticAberrationB: 0
- ChromaticAberrationR: 0
- Clarity: 0
- ColorNoiseReduction: 25
- Contrast: +48
- ConvertToGrayscale: False
- CropAngle: 0
- CropBottom: 0.943329
- CropHeight: 2142
- CropLeft: 0.053755
- CropRight: 0.997628
- CropTop: 0.116883
- CropUnit: 0
- CropWidth: 3655
- Defringe: 0
- Exposure: +1.33
- FillLight: 0
- GreenHue: 0
- GreenSaturation: 0
- HasCrop: True
- HasSettings: True
- HighlightRecovery: 51
- HueAdjustmentAqua: 0
- HueAdjustmentBlue: 0
- HueAdjustmentGreen: 0
- HueAdjustmentMagenta: 0
- HueAdjustmentOrange: 0
- HueAdjustmentPurple: 0
- HueAdjustmentRed: 0
- HueAdjustmentYellow: 0
- LuminanceAdjustmentAqua: 0
- LuminanceAdjustmentBlue: 0
- LuminanceAdjustmentGreen: 0
- LuminanceAdjustmentMagenta: 0
- LuminanceAdjustmentOrange: 0
- LuminanceAdjustmentPurple: 0
- LuminanceAdjustmentRed: 0
- LuminanceAdjustmentYellow: 0
- LuminanceSmoothing: 0
- ParametricDarks: 0
- ParametricHighlightSplit: 75
- ParametricHighlights: 0
- ParametricLights: 0
- ParametricMidtoneSplit: 50
- ParametricShadowSplit: 25
- ParametricShadows: 0
- PostCropVignetteAmount: 0
- RedHue: 0
- RedSaturation: 0
- Saturation: 0
- SaturationAdjustmentAqua: 0
- SaturationAdjustmentBlue: 0
- SaturationAdjustmentGreen: 0
- SaturationAdjustmentMagenta: 0
- SaturationAdjustmentOrange: 0
- SaturationAdjustmentPurple: 0
- SaturationAdjustmentRed: 0
- SaturationAdjustmentYellow: 0
- ShadowTint: 0
- Shadows: 16
- SharpenDetail: 25
- SharpenEdgeMasking: 0
- SharpenRadius: +1.0
- Sharpness: 25
- SplitToningBalance: 0
- SplitToningHighlightHue: 0
- SplitToningHighlightSaturation: 0
- SplitToningShadowHue: 0
- SplitToningShadowSaturation: 0
- Temperature: 5333
- Tint: -9
- ToneCurve: 0, 0, 32, 22, 64, 56, 128, 128, 192, 196, 255, 255
- ToneCurveName: Medium Contrast
- Version: 4.5
- Vibrance: 0
- VignetteAmount: 0
- WhiteBalance: Custom
- XMP-exif
- DateTimeDigitized: 2008:09:22 23:52:29.41+03:00
- DateTimeOriginal: 2008:09:22 23:52:29.41+03:00
- ExifImageHeight: 2142
- ExifImageWidth: 3655
- FlashFired: False
- FlashFunction: False
- FlashMode: Unknown
- FlashRedEyeMode: False
- FlashReturn: No return detection
- XMP-tiff
- ImageHeight: 2142
- ImageWidth: 3655
- XMP-xmp
- CreateDate: 2008:09:22 23:52:29.41+03:00
- ModifyDate: 2008:09:23 00:08:05+03:00
- Просмотров: 587
- Рейтинг: голосов еще нет
- Отзывов: 0
Получить код для блога
| Вставка фотографии в текущем разрешении |
Вставка миниатюры |
HTML (для вставки в блог):
BBCode (для вставки в форум):
Ссылка на фото:
Ссылка на миниатюру:
- Послать ссылку другу
| Комментарии к фотографии |