- Раздел: Другое, разное
- Дата съёмки: 24.09.2008 18:28
- Дата загрузки фото: 06.10.2008 13:06
- Оригинальная фотография: 1000 x 786 (317 Кб)
- Технические характеристики:
- Фотоаппарат: Sony DSLR-A700
- Выдержка: 1/200
- Гиперфокальное расстояние: 220,16 m
- Диафрагма: 10,0
- Светочувствительность: 1600
- Фокусное расстояние: 210,0 mm (35 mm equivalent: 315,0 mm)
- Экспокоррекция: +0,7
- Полный EXIF
- Adobe
- ColorTransform: YCbCr
- Composite
- Aperture: 10,0
- CircleOfConfusion: 0,020 mm
- FOV: 6,0 deg
- FocalLength35efl: 210,0 mm (35 mm equivalent: 315,0 mm)
- HyperfocalDistance: 220,16 m
- ScaleFactor35efl: 1,5
- ShutterSpeed: 1/200
- ExifIFD
- ApertureValue: 10,0
- BrightnessValue: 6
- ColorSpace: sRGB
- Contrast: High
- CreateDate: 2008:09:24 18:28:35
- CustomRendered: Normal
- DateTimeOriginal: 2008:09:24 18:28:35
- DigitalZoomRatio: 0
- ExifImageHeight: 786
- ExifImageWidth: 1000
- ExposureCompensation: +0,7
- ExposureMode: Auto
- ExposureProgram: Aperture-priority AE
- ExposureTime: 1/200
- FNumber: 10,0
- Flash: Off
- FocalLength: 210,0 mm
- FocalLengthIn35mmFormat: 315 mm
- ISO: 1600
- LightSource: Daylight
- MaxApertureValue: 5,6
- MeteringMode: Multi-segment
- Saturation: Low
- SceneCaptureType: Standard
- SceneType: Directly photographed
- Sharpness: Hard
- ShutterSpeedValue: 1/200
- WhiteBalance: Manual
- ICC-header
- ICC-meas
- ICC-view
- IFD0
- ImageDescription: SONY DSC
- Make: SONY
- Model: DSLR-A700
- ModifyDate: 2008:09:25 10:33:33
- Orientation: Horizontal (normal)
- IFD1
- IPTC
- Caption-Abstract: SONY DSC
- XMP-crs
- AlreadyApplied: True
- BlueHue: 0
- BlueSaturation: 0
- Brightness: +50
- CameraProfile: ACR 4.4
- ChromaticAberrationB: 0
- ChromaticAberrationR: 0
- Clarity: 0
- ColorNoiseReduction: 15
- Contrast: +25
- ConvertToGrayscale: False
- CropAngle: 0
- CropBottom: 0.785714
- CropHeight: 1772
- CropLeft: 0.333333
- CropRight: 0.861111
- CropTop: 0.16369
- CropUnit: 0
- CropWidth: 2255
- Defringe: 0
- Exposure: 0.00
- FillLight: 0
- GreenHue: 0
- GreenSaturation: 0
- HasCrop: True
- HasSettings: True
- HighlightRecovery: 0
- HueAdjustmentAqua: 0
- HueAdjustmentBlue: 0
- HueAdjustmentGreen: 0
- HueAdjustmentMagenta: 0
- HueAdjustmentOrange: 0
- HueAdjustmentPurple: 0
- HueAdjustmentRed: 0
- HueAdjustmentYellow: -29
- LuminanceAdjustmentAqua: 0
- LuminanceAdjustmentBlue: 0
- LuminanceAdjustmentGreen: 0
- LuminanceAdjustmentMagenta: 0
- LuminanceAdjustmentOrange: 0
- LuminanceAdjustmentPurple: 0
- LuminanceAdjustmentRed: 0
- LuminanceAdjustmentYellow: 0
- LuminanceSmoothing: 55
- ParametricDarks: 0
- ParametricHighlightSplit: 75
- ParametricHighlights: -6
- ParametricLights: -15
- ParametricMidtoneSplit: 50
- ParametricShadowSplit: 25
- ParametricShadows: -10
- PostCropVignetteAmount: 0
- RedHue: 0
- RedSaturation: 0
- Saturation: 0
- SaturationAdjustmentAqua: 0
- SaturationAdjustmentBlue: 0
- SaturationAdjustmentGreen: 0
- SaturationAdjustmentMagenta: 0
- SaturationAdjustmentOrange: 0
- SaturationAdjustmentPurple: 0
- SaturationAdjustmentRed: 0
- SaturationAdjustmentYellow: -17
- ShadowTint: 0
- Shadows: 11
- SharpenDetail: 8
- SharpenEdgeMasking: 16
- SharpenRadius: +1.0
- Sharpness: 97
- SplitToningBalance: 0
- SplitToningHighlightHue: 0
- SplitToningHighlightSaturation: 0
- SplitToningShadowHue: 0
- SplitToningShadowSaturation: 0
- Temperature: 5650
- Tint: +2
- ToneCurve: 0, 0, 32, 22, 64, 56, 128, 128, 192, 196, 255, 255
- ToneCurveName: Medium Contrast
- Version: 4.5
- Vibrance: 0
- VignetteAmount: 0
- WhiteBalance: As Shot
- XMP-dc
- Description: SONY DSC
- Format: image/jpeg
- XMP-exif
- DateTimeDigitized: 2008:09:24 18:28:35+04:00
- DateTimeOriginal: 2008:09:24 18:28:35+04:00
- FlashFired: False
- FlashFunction: False
- FlashMode: Off
- FlashRedEyeMode: False
- FlashReturn: No return detection
- XMP-tiff
- ImageHeight: 1772
- ImageWidth: 2255
- XMP-xmp
- CreateDate: 2008:09:24 18:28:35+04:00
- ModifyDate: 2008:09:25 10:33:33+04:00
- XMP-xmpMM
- Просмотров: 275
- Рейтинг: голосов еще нет
- Отзывов: 0