- Раздел: Активный отдых, туризм
- Дата съёмки: 07.10.2008 17:24
- Дата загрузки фото: 07.10.2008 21:26
- Оригинальная фотография: 886 x 591 (273 Кб)
- Технические характеристики:
- Фотоаппарат: Nikon D1X
- Выдержка: 1/640
- Диафрагма: 11,0
- Светочувствительность: 200
- Фокусное расстояние: 35,0 mm
- Полный EXIF
- Adobe
- ColorTransform: YCbCr
- Composite
- Aperture: 11,0
- FocalLength35efl: 35,0 mm
- ShutterSpeed: 1/640
- ExifIFD
- ApertureValue: 11,0
- CFAPattern: [Blue,Green][Green,Red]
- ColorSpace: sRGB
- CreateDate: 2008:10:03 12:03:39
- DateTimeOriginal: 2008:10:03 12:03:39
- ExifImageHeight: 591
- ExifImageWidth: 886
- ExposureCompensation: 0
- ExposureProgram: Aperture-priority AE
- ExposureTime: 1/640
- FNumber: 11,0
- FocalLength: 35,0 mm
- ISO: 200
- MaxApertureValue: 2,0
- MeteringMode: Center-weighted average
- SceneType: Directly photographed
- SensingMethod: One-chip color area
- ShutterSpeedValue: 1/640
- ICC-header
- ICC-meas
- ICC-view
- IFD0
- Copyright: Copyright,
- Make: NIKON CORPORATION
- Model: NIKON D1X
- ModifyDate: 2008:10:07 17:24:44
- Orientation: Horizontal (normal)
- IFD1
- IPTC
- CopyrightNotice: Copyright,
- XMP-aux
- Lens: 35.0 mm f/2.0
- LensInfo: 350/10 350/10 20/10 20/10
- XMP-crs
- AlreadyApplied: True
- BlueHue: 0
- BlueSaturation: 0
- Brightness: +50
- CameraProfile: ACR 4.4
- ChromaticAberrationB: 0
- ChromaticAberrationR: 0
- Clarity: +28
- ColorNoiseReduction: 25
- Contrast: +36
- ConvertToGrayscale: False
- Defringe: 0
- Exposure: +0.35
- FillLight: 43
- GreenHue: 0
- GreenSaturation: 0
- HasCrop: False
- HasSettings: True
- HighlightRecovery: 0
- HueAdjustmentAqua: 0
- HueAdjustmentBlue: 0
- HueAdjustmentGreen: 0
- HueAdjustmentMagenta: 0
- HueAdjustmentOrange: 0
- HueAdjustmentPurple: 0
- HueAdjustmentRed: 0
- HueAdjustmentYellow: 0
- LuminanceAdjustmentAqua: 0
- LuminanceAdjustmentBlue: 0
- LuminanceAdjustmentGreen: 0
- LuminanceAdjustmentMagenta: 0
- LuminanceAdjustmentOrange: 0
- LuminanceAdjustmentPurple: 0
- LuminanceAdjustmentRed: 0
- LuminanceAdjustmentYellow: 0
- LuminanceSmoothing: 0
- ParametricDarks: 0
- ParametricHighlightSplit: 75
- ParametricHighlights: 0
- ParametricLights: 0
- ParametricMidtoneSplit: 50
- ParametricShadowSplit: 25
- ParametricShadows: 0
- PostCropVignetteAmount: 0
- RawFileName: DSC_3283.NEF
- RedHue: 0
- RedSaturation: 0
- Saturation: +7
- SaturationAdjustmentAqua: 0
- SaturationAdjustmentBlue: 0
- SaturationAdjustmentGreen: 0
- SaturationAdjustmentMagenta: 0
- SaturationAdjustmentOrange: 0
- SaturationAdjustmentPurple: 0
- SaturationAdjustmentRed: 0
- SaturationAdjustmentYellow: 0
- ShadowTint: 0
- Shadows: 5
- SharpenDetail: 25
- SharpenEdgeMasking: 0
- SharpenRadius: +1.0
- Sharpness: 25
- SplitToningBalance: 0
- SplitToningHighlightHue: 0
- SplitToningHighlightSaturation: 0
- SplitToningShadowHue: 0
- SplitToningShadowSaturation: 0
- Temperature: 5000
- Tint: -2
- ToneCurve: 0, 0, 32, 22, 64, 56, 128, 128, 192, 196, 255, 255
- ToneCurveName: Medium Contrast
- Version: 4.5
- Vibrance: 0
- VignetteAmount: 0
- WhiteBalance: As Shot
- XMP-dc
- Format: image/jpeg
- Rights: Copyright,
- XMP-exif
- DateTimeDigitized: 2008:10:03 12:03:39.18+04:00
- DateTimeOriginal: 2008:10:03 12:03:39.18+04:00
- XMP-tiff
- XMP-xmp
- CreateDate: 2008:10:07 17:24:44+04:00
- ModifyDate: 2008:10:07 17:24:44+04:00
- Rating: 0
- XMP-xmpMM
- DerivedFrom:
- Просмотров: 1627
- Рейтинг: голосов еще нет
- Отзывов: 6