- Раздел: Природа
- Дата съёмки: 18.08.2008 19:08
- Дата загрузки фото: 13.10.2008 14:58
- Оригинальная фотография: 1000 x 750 (796 Кб)
- Технические характеристики:
- Фотоаппарат: FujiFilm FinePix S6500fd
- Выдержка: 1/1600
- Гиперфокальное расстояние: 1,84 m
- Диафрагма: 5,0
- Светочувствительность: 100
- Фокусное расстояние: 6,2 mm (35 mm equivalent: 44,6 mm)
- Полный EXIF
- Adobe
- ColorTransform: YCbCr
- Composite
- Aperture: 5,0
- CircleOfConfusion: 0,004 mm
- FOV: 43,0 deg
- FocalLength35efl: 6,2 mm (35 mm equivalent: 44,6 mm)
- HyperfocalDistance: 1,84 m
- ScaleFactor35efl: 7,2
- ShutterSpeed: 1/1600
- ExifIFD
- ApertureValue: 5,0
- BrightnessValue: 9,77
- CreateDate: 2008:08:18 19:08:24
- CustomRendered: Normal
- DateTimeOriginal: 2008:08:18 19:08:24
- ExposureCompensation: 0
- ExposureMode: Manual
- ExposureProgram: Manual
- ExposureTime: 1/1600
- FNumber: 5,0
- Flash: Off
- FocalLength: 6,2 mm
- ISO: 100
- LightSource: Unknown
- MaxApertureValue: 2,8
- MeteringMode: Spot
- SceneCaptureType: Standard
- SceneType: Directly photographed
- SensingMethod: One-chip color area
- Sharpness: Hard
- ShutterSpeedValue: 1/1600
- SubjectDistanceRange: Unknown
- WhiteBalance: Auto
- ICC-header
- IFD0
- Make: FUJIFILM
- Model: FinePix S6500fd
- ModifyDate: 2008:08:25 18:31:34
- Software: Digital Camera FinePix S6500fd Ver1.00
- TimeZoneOffset: 4 4
- XMP-crs
- AlreadyApplied: True
- BlueHue: 0
- BlueSaturation: 0
- Brightness: +44
- CameraProfile: ACR 3.6
- ChromaticAberrationB: 0
- ChromaticAberrationR: 0
- Clarity: 100
- ColorNoiseReduction: 25
- Contrast: +25
- ConvertToGrayscale: False
- Defringe: 0
- Exposure: +0.33
- FillLight: 71
- GreenHue: 0
- GreenSaturation: 0
- HasCrop: False
- HasSettings: True
- HighlightRecovery: 46
- HueAdjustmentAqua: 0
- HueAdjustmentBlue: 0
- HueAdjustmentGreen: 0
- HueAdjustmentMagenta: 0
- HueAdjustmentOrange: 0
- HueAdjustmentPurple: 0
- HueAdjustmentRed: 0
- HueAdjustmentYellow: 0
- LuminanceAdjustmentAqua: 0
- LuminanceAdjustmentBlue: 0
- LuminanceAdjustmentGreen: 0
- LuminanceAdjustmentMagenta: 0
- LuminanceAdjustmentOrange: 0
- LuminanceAdjustmentPurple: 0
- LuminanceAdjustmentRed: 0
- LuminanceAdjustmentYellow: 0
- LuminanceSmoothing: 0
- ParametricDarks: 0
- ParametricHighlightSplit: 75
- ParametricHighlights: 0
- ParametricLights: 0
- ParametricMidtoneSplit: 50
- ParametricShadowSplit: 25
- ParametricShadows: 0
- RedHue: 0
- RedSaturation: 0
- Saturation: +6
- SaturationAdjustmentAqua: 0
- SaturationAdjustmentBlue: 0
- SaturationAdjustmentGreen: 0
- SaturationAdjustmentMagenta: 0
- SaturationAdjustmentOrange: 0
- SaturationAdjustmentPurple: 0
- SaturationAdjustmentRed: 0
- SaturationAdjustmentYellow: 0
- ShadowTint: 0
- Shadows: 5
- SharpenDetail: 39
- SharpenEdgeMasking: 0
- SharpenRadius: +1.4
- Sharpness: 53
- SplitToningBalance: 0
- SplitToningHighlightHue: 0
- SplitToningHighlightSaturation: 0
- SplitToningShadowHue: 0
- SplitToningShadowSaturation: 0
- Temperature: 4700
- Tint: -10
- ToneCurve: 0, 0, 32, 22, 64, 56, 128, 128, 192, 196, 255, 255
- ToneCurveName: Medium Contrast
- Version: 1.0
- Vibrance: +6
- VignetteAmount: 0
- WhiteBalance: As Shot
- XMP-exif
- DateTimeDigitized: 2008:08:18 19:08:24+04:00
- DateTimeOriginal: 2008:08:18 19:08:24+04:00
- FlashFired: False
- FlashFunction: False
- FlashMode: Off
- FlashRedEyeMode: False
- FlashReturn: No return detection
- XMP-tiff
- ImageHeight: 750
- ImageWidth: 1000
- XMP-xmp
- ModifyDate: 2008:08:25 18:31:34+04:00
- Просмотров: 264
- Рейтинг: голосов еще нет
- Отзывов: 0