- Раздел: Пейзаж
- Дата съёмки: 08.10.2008 02:03
- Дата загрузки фото: 23.10.2008 15:45
- Оригинальная фотография: 700 x 465 (288 Кб)
- Технические характеристики:
- Фотоаппарат: Pentax K20D
- Выдержка: 1/15
- Гиперфокальное расстояние: 6,73 m
- Диафрагма: 8,0
- Светочувствительность: 320
- Фокусное расстояние: 33,0 mm (35 mm equivalent: 49,0 mm)
- Полный EXIF
- Adobe
- ColorTransform: YCbCr
- Composite
- Aperture: 8,0
- CircleOfConfusion: 0,020 mm
- FOV: 40,0 deg
- FocalLength35efl: 33,0 mm (35 mm equivalent: 49,0 mm)
- HyperfocalDistance: 6,73 m
- ScaleFactor35efl: 1,5
- ShutterSpeed: 1/15
- ExifIFD
- ApertureValue: 8,0
- ColorSpace: sRGB
- Contrast: High
- CreateDate: 2008:10:05 18:27:44
- CustomRendered: Normal
- DateTimeOriginal: 2008:10:05 18:27:44
- ExifImageHeight: 465
- ExifImageWidth: 700
- ExposureCompensation: 0
- ExposureMode: Auto
- ExposureProgram: Aperture-priority AE
- ExposureTime: 1/15
- FNumber: 8,0
- Flash: Off
- FocalLength: 33,0 mm
- FocalLengthIn35mmFormat: 49 mm
- ISO: 320
- MeteringMode: Spot
- Saturation: Normal
- SceneCaptureType: Standard
- SensingMethod: One-chip color area
- Sharpness: Normal
- ShutterSpeedValue: 1/15
- SubjectDistanceRange: Distant
- WhiteBalance: Manual
- ICC-header
- ICC-meas
- ICC-view
- IFD0
- BitsPerSample: 16 16 16
- ImageHeight: 2976
- ImageWidth: 4480
- Make: PENTAX Corporation
- Model: PENTAX K20D
- ModifyDate: 2008:10:08 02:03:17
- Orientation: Horizontal (normal)
- PhotometricInterpretation: RGB
- PlanarConfiguration: Chunky
- SamplesPerPixel: 3
- IFD1
- IPTC
- XMP-crs
- AlreadyApplied: True
- BlueHue: 0
- BlueSaturation: 0
- Brightness: +50
- CameraProfile: Embedded
- ChromaticAberrationB: 0
- ChromaticAberrationR: 0
- ColorNoiseReduction: 25
- Contrast: +50
- ConvertToGrayscale: False
- CropAngle: 1.646475
- CropBottom: 1
- CropLeft: 0.029888
- CropRight: 0.970112
- CropTop: 0
- Exposure: -0.20
- FillLight: 3
- GreenHue: 0
- GreenSaturation: 0
- HasCrop: True
- HasSettings: True
- HighlightRecovery: 22
- HueAdjustmentAqua: -46
- HueAdjustmentBlue: 0
- HueAdjustmentGreen: +32
- HueAdjustmentMagenta: +97
- HueAdjustmentOrange: +50
- HueAdjustmentPurple: -98
- HueAdjustmentRed: -37
- HueAdjustmentYellow: -28
- LuminanceAdjustmentAqua: 0
- LuminanceAdjustmentBlue: -26
- LuminanceAdjustmentGreen: 0
- LuminanceAdjustmentMagenta: +52
- LuminanceAdjustmentOrange: 0
- LuminanceAdjustmentPurple: 0
- LuminanceAdjustmentRed: +45
- LuminanceAdjustmentYellow: +28
- LuminanceSmoothing: 0
- ParametricDarks: 0
- ParametricHighlightSplit: 75
- ParametricHighlights: 0
- ParametricLights: 0
- ParametricMidtoneSplit: 50
- ParametricShadowSplit: 25
- ParametricShadows: 0
- RawFileName: _IGP3417.DNG
- RedHue: 0
- RedSaturation: 0
- Saturation: +16
- SaturationAdjustmentAqua: 0
- SaturationAdjustmentBlue: 0
- SaturationAdjustmentGreen: 0
- SaturationAdjustmentMagenta: 0
- SaturationAdjustmentOrange: 0
- SaturationAdjustmentPurple: 0
- SaturationAdjustmentRed: 0
- SaturationAdjustmentYellow: 0
- ShadowTint: 0
- Shadows: 15
- Sharpness: 25
- SplitToningBalance: 0
- SplitToningHighlightHue: 0
- SplitToningHighlightSaturation: 0
- SplitToningShadowHue: 0
- SplitToningShadowSaturation: 0
- Temperature: 6200
- Tint: +104
- ToneCurve: 0, 0, 32, 22, 64, 56, 128, 128, 192, 196, 255, 255
- ToneCurveName: Medium Contrast
- Version: 4.0
- Vibrance: 0
- VignetteAmount: 0
- WhiteBalance: Custom
- XMP-dc
- XMP-exif
- DateTimeDigitized: 2008:10:05 18:27:44+04:00
- DateTimeOriginal: 2008:10:05 18:27:44+04:00
- FlashFired: False
- FlashFunction: False
- FlashMode: Off
- FlashRedEyeMode: False
- FlashReturn: No return detection
- XMP-tiff
- BitsPerSample: 16, 16, 16
- XMP-xmp
- CreateDate: 2008:10:08 02:03:17+04:00
- ModifyDate: 2008:10:08 02:03:17+04:00
- Rating: 0
- XMP-xmpMM
- Просмотров: 556
- Рейтинг: голосов еще нет
- Отзывов: 0