- Раздел: Семья, личное
- Дата съёмки: 15.11.2008 21:13
- Дата загрузки фото: 15.11.2008 22:55
- Оригинальная фотография: 3074 x 2066 (2,5 Мб)
- Технические характеристики:
- Фотоаппарат: Nikon D40
- Выдержка: 1/20
- Гиперфокальное расстояние: 69,34 m
- Диафрагма: 1,8
- Светочувствительность: 800
- Фокусное расстояние: 50,0 mm (35 mm equivalent: 75,0 mm)
- Полный EXIF
- Adobe
- ColorTransform: YCbCr
- Composite
- Aperture: 1,8
- CircleOfConfusion: 0,020 mm
- FOV: 26,0 deg
- FocalLength35efl: 50,0 mm (35 mm equivalent: 75,0 mm)
- HyperfocalDistance: 69,34 m
- ScaleFactor35efl: 1,5
- ShutterSpeed: 1/20
- ExifIFD
- ApertureValue: 1,8
- CFAPattern: [Blue,Green][Green,Red]
- ColorSpace: sRGB
- Contrast: Normal
- CreateDate: 2008:11:15 19:33:36
- CustomRendered: Normal
- DateTimeOriginal: 2008:11:15 19:33:36
- DigitalZoomRatio: 1
- ExifImageHeight: 2066
- ExifImageWidth: 3074
- ExposureCompensation: 0
- ExposureMode: Auto
- ExposureProgram: Aperture-priority AE
- ExposureTime: 1/20
- FNumber: 1,8
- Flash: No Flash
- FocalLength: 50,0 mm
- FocalLengthIn35mmFormat: 75 mm
- GainControl: Low gain up
- ISO: 800
- LightSource: Unknown
- MaxApertureValue: 1,7
- MeteringMode: Multi-segment
- Saturation: Normal
- SceneCaptureType: Standard
- SceneType: Directly photographed
- SensingMethod: One-chip color area
- Sharpness: Normal
- ShutterSpeedValue: 1/20
- SubjectDistanceRange: Unknown
- WhiteBalance: Auto
- ICC-header
- ICC-meas
- ICC-view
- IFD0
- Make: NIKON CORPORATION
- Model: NIKON D40
- ModifyDate: 2008:11:15 21:13:09
- Orientation: Horizontal (normal)
- IFD1
- IPTC
- XMP-aux
- ImageNumber: 3350
- Lens: 50.0 mm f/1.8
- LensInfo: 500/10 500/10 18/10 18/10
- XMP-crs
- AlreadyApplied: True
- BlueHue: 0
- BlueSaturation: 0
- Brightness: +50
- CameraProfile: ACR 3.7
- ChromaticAberrationB: 0
- ChromaticAberrationR: 0
- Clarity: 0
- ColorNoiseReduction: 25
- Contrast: +25
- ConvertToGrayscale: False
- Defringe: 0
- Exposure: +0.20
- FillLight: 1
- GreenHue: 0
- GreenSaturation: 0
- HasCrop: False
- HasSettings: True
- HighlightRecovery: 1
- HueAdjustmentAqua: 0
- HueAdjustmentBlue: 0
- HueAdjustmentGreen: 0
- HueAdjustmentMagenta: 0
- HueAdjustmentOrange: 0
- HueAdjustmentPurple: 0
- HueAdjustmentRed: 0
- HueAdjustmentYellow: 0
- LuminanceAdjustmentAqua: 0
- LuminanceAdjustmentBlue: 0
- LuminanceAdjustmentGreen: 0
- LuminanceAdjustmentMagenta: 0
- LuminanceAdjustmentOrange: 0
- LuminanceAdjustmentPurple: 0
- LuminanceAdjustmentRed: 0
- LuminanceAdjustmentYellow: 0
- LuminanceSmoothing: 0
- ParametricDarks: 0
- ParametricHighlightSplit: 75
- ParametricHighlights: 0
- ParametricLights: 0
- ParametricMidtoneSplit: 50
- ParametricShadowSplit: 25
- ParametricShadows: 0
- PostCropVignetteAmount: 0
- RawFileName: DSC_3280.NEF
- RedHue: 0
- RedSaturation: 0
- Saturation: 0
- SaturationAdjustmentAqua: 0
- SaturationAdjustmentBlue: 0
- SaturationAdjustmentGreen: 0
- SaturationAdjustmentMagenta: 0
- SaturationAdjustmentOrange: 0
- SaturationAdjustmentPurple: 0
- SaturationAdjustmentRed: 0
- SaturationAdjustmentYellow: 0
- ShadowTint: 0
- Shadows: 0
- SharpenDetail: 0
- SharpenEdgeMasking: 0
- SharpenRadius: +0.5
- Sharpness: 0
- SplitToningBalance: 0
- SplitToningHighlightHue: 0
- SplitToningHighlightSaturation: 0
- SplitToningShadowHue: 0
- SplitToningShadowSaturation: 0
- Temperature: 2350
- Tint: -5
- ToneCurve: 0, 0, 32, 22, 64, 56, 128, 128, 192, 196, 255, 255
- ToneCurveName: Medium Contrast
- Version: 4.5
- Vibrance: 0
- VignetteAmount: 0
- WhiteBalance: Custom
- XMP-dc
- XMP-exif
- DateTimeDigitized: 2008:11:15 19:33:36.00+02:00
- DateTimeOriginal: 2008:11:15 19:33:36.00+02:00
- FlashFired: False
- FlashFunction: False
- FlashMode: Unknown
- FlashRedEyeMode: False
- FlashReturn: No return detection
- XMP-tiff
- XMP-xmp
- CreateDate: 2008:11:15 21:13:09+02:00
- ModifyDate: 2008:11:15 21:13:09+02:00
- Rating: 0
- XMP-xmpMM
- DerivedFrom: