Уважаемые друзья и участники проекта iXBT.photo! К сожалению, 1 марта 2026 года проект iXBT.photo прекратит свою работу и будет закрыт. Мы высоко ценим ваше участие и тот вклад, который вы внесли в развитие нашего сообщества. Пожалуйста, не забудьте сохранить ваши фотографии до этой даты.
С уважением, команда iXBT.com
| Гриф |
Гриф
- Раздел: Природа
- Дата съёмки: 03.09.2008 22:51
- Дата загрузки фото: 19.11.2008 01:19
- Оригинальная фотография: 1024 x 545 ( 74 Кб)
- Технические характеристики:
- Фотоаппарат: Sony DSLR-A700
- Выдержка: 1/5000
- Гиперфокальное расстояние: 54,36 m
- Диафрагма: 4,5
- Светочувствительность: 200
- Фокусное расстояние: 70,0 mm (35 mm equivalent: 105,0 mm)
- Полный EXIF
- Adobe
- ColorTransform: YCbCr
- Composite
- Aperture: 4,5
- CircleOfConfusion: 0,020 mm
- FOV: 19,0 deg
- FocalLength35efl: 70,0 mm (35 mm equivalent: 105,0 mm)
- HyperfocalDistance: 54,36 m
- ScaleFactor35efl: 1,5
- ShutterSpeed: 1/5000
- ExifIFD
- ApertureValue: 4,5
- BrightnessValue: 10,62
- ColorSpace: sRGB
- Contrast: Normal
- CreateDate: 2008:06:12 18:21:47
- CustomRendered: Normal
- DateTimeOriginal: 2008:06:12 18:21:47
- DigitalZoomRatio: 0
- ExifImageHeight: 545
- ExifImageWidth: 1024
- ExposureCompensation: 0
- ExposureMode: Auto
- ExposureProgram: Aperture-priority AE
- ExposureTime: 1/5000
- FNumber: 4,5
- Flash: Off
- FocalLength: 70,0 mm
- FocalLengthIn35mmFormat: 105 mm
- ISO: 200
- LightSource: Unknown
- MaxApertureValue: 2,8
- MeteringMode: Center-weighted average
- Saturation: Normal
- SceneCaptureType: Standard
- SceneType: Directly photographed
- Sharpness: Normal
- ShutterSpeedValue: 1/5000
- WhiteBalance: Auto
- ICC-header
- ICC-meas
- ICC-view
- IFD0
- BitsPerSample: 16 16 16
- ImageDescription: SONY DSC
- ImageHeight: 2848
- ImageWidth: 4272
- Make: SONY
- Model: DSLR-A700
- ModifyDate: 2008:09:03 22:51:57
- Orientation: Horizontal (normal)
- PhotometricInterpretation: RGB
- PlanarConfiguration: Chunky
- SamplesPerPixel: 3
- IFD1
- IPTC
- Caption-Abstract: SONY DSC
- XMP-crs
- AlreadyApplied: True
- BlueHue: 0
- BlueSaturation: 0
- Brightness: +23
- CameraProfile: Standard
- ChromaticAberrationB: 0
- ChromaticAberrationR: 0
- Clarity: +90
- ColorNoiseReduction: 20
- Contrast: +75
- ConvertToGrayscale: False
- Defringe: 2
- Exposure: +0.60
- FillLight: 20
- GreenHue: 0
- GreenSaturation: 0
- HasCrop: False
- HasSettings: True
- HighlightRecovery: 35
- HueAdjustmentAqua: 0
- HueAdjustmentBlue: 0
- HueAdjustmentGreen: 0
- HueAdjustmentMagenta: 0
- HueAdjustmentOrange: 0
- HueAdjustmentPurple: 0
- HueAdjustmentRed: 0
- HueAdjustmentYellow: 0
- LuminanceAdjustmentAqua: 0
- LuminanceAdjustmentBlue: 0
- LuminanceAdjustmentGreen: 0
- LuminanceAdjustmentMagenta: 0
- LuminanceAdjustmentOrange: 0
- LuminanceAdjustmentPurple: 0
- LuminanceAdjustmentRed: 0
- LuminanceAdjustmentYellow: 0
- LuminanceSmoothing: 50
- ParametricDarks: 0
- ParametricHighlightSplit: 75
- ParametricHighlights: 0
- ParametricLights: 0
- ParametricMidtoneSplit: 50
- ParametricShadowSplit: 25
- ParametricShadows: 0
- PostCropVignetteAmount: 0
- RedHue: 0
- RedSaturation: 0
- Saturation: +15
- SaturationAdjustmentAqua: 0
- SaturationAdjustmentBlue: 0
- SaturationAdjustmentGreen: 0
- SaturationAdjustmentMagenta: 0
- SaturationAdjustmentOrange: 0
- SaturationAdjustmentPurple: 0
- SaturationAdjustmentRed: 0
- SaturationAdjustmentYellow: 0
- ShadowTint: 0
- Shadows: 1
- SharpenDetail: 65
- SharpenEdgeMasking: 0
- SharpenRadius: +1.0
- Sharpness: 55
- SplitToningBalance: 0
- SplitToningHighlightHue: 0
- SplitToningHighlightSaturation: 0
- SplitToningShadowHue: 0
- SplitToningShadowSaturation: 0
- Temperature: 5500
- Tint: +10
- ToneCurve: 0, 0, 32, 22, 64, 56, 128, 128, 192, 196, 255, 255
- ToneCurveName: Medium Contrast
- Version: 4.5
- Vibrance: +14
- VignetteAmount: 0
- WhiteBalance: Daylight
- XMP-dc
- Description: SONY DSC
- Format: image/jpeg
- XMP-exif
- DateTimeDigitized: 2008:06:12 18:21:47+04:00
- DateTimeOriginal: 2008:06:12 18:21:47+04:00
- FlashFired: False
- FlashFunction: False
- FlashMode: Off
- FlashRedEyeMode: False
- FlashReturn: No return detection
- XMP-tiff
- BitsPerSample: 8, 8, 8
- ImageHeight: 545
- ImageWidth: 1024
- XMP-xmp
- CreateDate: 2008:09:03 22:51:57+04:00
- ModifyDate: 2008:09:03 22:51:57+04:00
- XMP-xmpMM
- Просмотров: 282
- Рейтинг: голосов еще нет
- Отзывов: 0
Получить код для блога
| Вставка фотографии в текущем разрешении |
Вставка миниатюры |
HTML (для вставки в блог):
BBCode (для вставки в форум):
Ссылка на фото:
Ссылка на миниатюру:
- Послать ссылку другу
| Комментарии к фотографии |