| » Участники » healix » Киев » Московский мост |
Уважаемые друзья и участники проекта iXBT.photo! К сожалению, 1 марта 2026 года проект iXBT.photo прекратит свою работу и будет закрыт. Мы высоко ценим ваше участие и тот вклад, который вы внесли в развитие нашего сообщества. Пожалуйста, не забудьте сохранить ваши фотографии до этой даты.
С уважением, команда iXBT.com
| Московский мост |
Московский мост
- Раздел: Город
- Дата съёмки: 21.11.2008 19:55
- Дата загрузки фото: 21.11.2008 23:58
- Оригинальная фотография: 1000 x 667 (293 Кб)
- Технические характеристики:
- Фотоаппарат: Canon EOS 400D DIGITAL
- Выдержка: 8,0
- Гиперфокальное расстояние: 22,80 m
- Диафрагма: 10,0
- Светочувствительность: 100
- Фокусное расстояние: 33,0 mm (35 mm equivalent: 207,6 mm)
- Полный EXIF
- Adobe
- ColorTransform: YCbCr
- Composite
- Aperture: 10,0
- CircleOfConfusion: 0,005 mm
- FOV: 9,0 deg
- FocalLength35efl: 33,0 mm (35 mm equivalent: 207,6 mm)
- HyperfocalDistance: 22,80 m
- LightValue: 3,6
- ScaleFactor35efl: 6,3
- ShutterSpeed: 8,0
- ExifIFD
- ApertureValue: 10,0
- CreateDate: 2008:11:21 19:55:24
- CustomRendered: Normal
- DateTimeOriginal: 2008:11:21 19:55:24
- ExposureCompensation: 0
- ExposureMode: Manual
- ExposureProgram: Manual
- ExposureTime: 8,0
- FNumber: 10,0
- Flash: Off
- FocalLength: 33,0 mm
- ISO: 100
- MaxApertureValue: 4,0
- MeteringMode: Average
- SceneCaptureType: Standard
- ShutterSpeedValue: 8,0
- WhiteBalance: Auto
- ICC-header
- ICC-meas
- ICC-view
- IFD0
- Artist: healix
- Make: Canon
- Model: Canon EOS 400D DIGITAL
- ModifyDate: 2008:11:21 22:56:58
- IPTC
- By-line: healix
- City: Kyiv
- Country-PrimaryLocationCode: 380
- Country-PrimaryLocationName: Ukraine
- XMP-aux
- Firmware: 1.1.1
- FlashCompensation: 0
- ImageNumber: 208
- Lens: EF-S17-85mm f/4-5.6 IS USM
- LensInfo: 17/1 85/1 0/0 0/0
- OwnerName: healix
- SerialNumber: 1731111124
- XMP-crs
- AlreadyApplied: True
- BlueHue: 0
- BlueSaturation: 0
- Brightness: 0
- CameraProfile: ACR 4.4
- ChromaticAberrationB: 0
- ChromaticAberrationR: 0
- Clarity: 0
- ColorNoiseReduction: 25
- Contrast: 0
- ConvertToGrayscale: False
- CropAngle: 0
- CropBottom: 0.879282
- CropHeight: 667
- CropLeft: 0
- CropRight: 0.879282
- CropTop: 0
- CropUnit: 0
- CropWidth: 1000
- Defringe: 0
- Exposure: 0.00
- FillLight: 0
- GreenHue: 0
- GreenSaturation: 0
- HasCrop: True
- HasSettings: True
- HighlightRecovery: 24
- HueAdjustmentAqua: 0
- HueAdjustmentBlue: 0
- HueAdjustmentGreen: 0
- HueAdjustmentMagenta: 0
- HueAdjustmentOrange: 0
- HueAdjustmentPurple: 0
- HueAdjustmentRed: 0
- HueAdjustmentYellow: 0
- LuminanceAdjustmentAqua: 0
- LuminanceAdjustmentBlue: 0
- LuminanceAdjustmentGreen: 0
- LuminanceAdjustmentMagenta: 0
- LuminanceAdjustmentOrange: 0
- LuminanceAdjustmentPurple: 0
- LuminanceAdjustmentRed: 0
- LuminanceAdjustmentYellow: 0
- LuminanceSmoothing: 0
- ParametricDarks: 0
- ParametricHighlightSplit: 75
- ParametricHighlights: 0
- ParametricLights: 0
- ParametricMidtoneSplit: 50
- ParametricShadowSplit: 25
- ParametricShadows: 0
- PostCropVignetteAmount: 0
- RedHue: 0
- RedSaturation: 0
- Saturation: 0
- SaturationAdjustmentAqua: 0
- SaturationAdjustmentBlue: 0
- SaturationAdjustmentGreen: 0
- SaturationAdjustmentMagenta: 0
- SaturationAdjustmentOrange: 0
- SaturationAdjustmentPurple: 0
- SaturationAdjustmentRed: 0
- SaturationAdjustmentYellow: 0
- ShadowTint: 0
- Shadows: 0
- SharpenDetail: 25
- SharpenEdgeMasking: 0
- SharpenRadius: +1.0
- Sharpness: 25
- SplitToningBalance: 0
- SplitToningHighlightHue: 0
- SplitToningHighlightSaturation: 0
- SplitToningShadowHue: 0
- SplitToningShadowSaturation: 0
- Temperature: 2850
- Tint: 0
- ToneCurve: 0, 0, 32, 22, 64, 56, 128, 128, 192, 196, 255, 255
- ToneCurveName: Medium Contrast
- Version: 4.6
- Vibrance: 0
- VignetteAmount: 0
- XMP-dc
- XMP-exif
- DateTimeDigitized: 2008:11:21 19:55:24+02:00
- DateTimeOriginal: 2008:11:21 19:55:24+02:00
- ExifImageHeight: 667
- ExifImageWidth: 1000
- FlashFired: False
- FlashFunction: False
- FlashMode: Off
- FlashRedEyeMode: False
- FlashReturn: No return detection
- XMP-iptcCore
- XMP-tiff
- ImageHeight: 667
- ImageWidth: 1000
- XMP-xmp
- CreateDate: 2008:11:21 19:55:24+02:00
- ModifyDate: 2008:11:21 22:56:58+02:00
- Просмотров: 397
- Рейтинг: голосов еще нет
- Отзывов: 0
Получить код для блога
| Вставка фотографии в текущем разрешении |
Вставка миниатюры |
HTML (для вставки в блог):
BBCode (для вставки в форум):
Ссылка на фото:
Ссылка на миниатюру:
- Послать ссылку другу
| Комментарии к фотографии |