- Раздел: Другое, разное
- Дата съёмки: 17.11.2008 17:04
- Дата загрузки фото: 24.11.2008 22:40
- Оригинальная фотография: 2000 x 3008 (392 Кб)
- Технические характеристики:
- Фотоаппарат: Nikon D40
- Выдержка: 1/60
- Гиперфокальное расстояние: 99,85 m
- Диафрагма: 2,8
- Светочувствительность: 200
- Фокусное расстояние: 75,0 mm (35 mm equivalent: 112,0 mm)
- Полный EXIF
- Adobe
- ColorTransform: YCbCr
- Composite
- Aperture: 2,8
- CircleOfConfusion: 0,020 mm
- FOV: 18,0 deg
- FocalLength35efl: 75,0 mm (35 mm equivalent: 112,0 mm)
- HyperfocalDistance: 99,85 m
- ScaleFactor35efl: 1,5
- ShutterSpeed: 1/60
- ExifIFD
- ApertureValue: 2,8
- CFAPattern: [Blue,Green][Green,Red]
- Contrast: Normal
- CreateDate: 2008:11:17 17:04:55
- CustomRendered: Normal
- DateTimeOriginal: 2008:11:17 17:04:55
- DigitalZoomRatio: 1
- ExposureCompensation: 0
- ExposureMode: Manual
- ExposureProgram: Manual
- ExposureTime: 1/60
- FNumber: 2,8
- Flash: No Flash
- FocalLength: 75,0 mm
- FocalLengthIn35mmFormat: 112 mm
- GainControl: None
- ISO: 200
- LightSource: Unknown
- MaxApertureValue: 2,8
- MeteringMode: Multi-segment
- Saturation: Normal
- SceneCaptureType: Standard
- SceneType: Directly photographed
- SensingMethod: One-chip color area
- Sharpness: Normal
- ShutterSpeedValue: 1/60
- SubjectDistanceRange: Unknown
- WhiteBalance: Auto
- ICC-header
- IFD0
- Make: NIKON CORPORATION
- Model: NIKON D40
- ModifyDate: 2008:11:17 19:32:10
- Software: Ver.1.10
- TimeZoneOffset: 2 2
- XMP-aux
- ImageNumber: 11441
- Lens: 28.0-75.0 mm f/2.8
- LensInfo: 280/10 750/10 28/10 28/10
- XMP-crs
- AlreadyApplied: True
- BlueHue: 0
- BlueSaturation: 0
- Brightness: +63
- CameraProfile: ACR 3.7
- ChromaticAberrationB: 0
- ChromaticAberrationR: 0
- ColorNoiseReduction: 25
- Contrast: +56
- ConvertToGrayscale: False
- Exposure: +0.45
- FillLight: 0
- GreenHue: 0
- GreenSaturation: 0
- HasCrop: False
- HasSettings: True
- HighlightRecovery: 0
- HueAdjustmentAqua: 0
- HueAdjustmentBlue: 0
- HueAdjustmentGreen: 0
- HueAdjustmentMagenta: 0
- HueAdjustmentOrange: 0
- HueAdjustmentPurple: 0
- HueAdjustmentRed: 0
- HueAdjustmentYellow: 0
- LuminanceAdjustmentAqua: 0
- LuminanceAdjustmentBlue: 0
- LuminanceAdjustmentGreen: 0
- LuminanceAdjustmentMagenta: 0
- LuminanceAdjustmentOrange: 0
- LuminanceAdjustmentPurple: 0
- LuminanceAdjustmentRed: 0
- LuminanceAdjustmentYellow: 0
- LuminanceSmoothing: 0
- ParametricDarks: 0
- ParametricHighlightSplit: 75
- ParametricHighlights: 0
- ParametricLights: 0
- ParametricMidtoneSplit: 50
- ParametricShadowSplit: 25
- ParametricShadows: 0
- RawFileName: DSC_5214.NEF
- RedHue: 0
- RedSaturation: 0
- Saturation: -35
- SaturationAdjustmentAqua: 0
- SaturationAdjustmentBlue: 0
- SaturationAdjustmentGreen: 0
- SaturationAdjustmentMagenta: 0
- SaturationAdjustmentOrange: 0
- SaturationAdjustmentPurple: 0
- SaturationAdjustmentRed: 0
- SaturationAdjustmentYellow: 0
- ShadowTint: 0
- Shadows: 16
- Sharpness: 25
- SplitToningBalance: 0
- SplitToningHighlightHue: 0
- SplitToningHighlightSaturation: 0
- SplitToningShadowHue: 0
- SplitToningShadowSaturation: 0
- Temperature: 7500
- Tint: 0
- ToneCurve: 0, 0, 32, 22, 64, 56, 128, 128, 192, 196, 255, 255
- ToneCurveName: Medium Contrast
- Version: 4.0
- Vibrance: -43
- VignetteAmount: 0
- XMP-exif
- DateTimeDigitized: 2008:11:17 17:04:55.20+02:00
- DateTimeOriginal: 2008:11:17 17:04:55.20+02:00
- FlashFired: False
- FlashFunction: False
- FlashMode: Unknown
- FlashRedEyeMode: False
- FlashReturn: No return detection
- XMP-tiff
- ImageHeight: 3008
- ImageWidth: 2000
- XMP-xmp
- CreatorTool: Ver.1.10
- ModifyDate: 2008:11:17 19:32:10+02:00
- Просмотров: 195
- Рейтинг: голосов еще нет
- Отзывов: 0