- Раздел: Тесты фототехники
- Дата съёмки: 10.07.2008 10:55
- Дата загрузки фото: 29.11.2008 22:26
- Оригинальная фотография: 920 x 616 (356 Кб)
- Технические характеристики:
- Фотоаппарат: Sony DSLR-A100
- Выдержка: 1/250
- Гиперфокальное расстояние: 10,82 m
- Диафрагма: 5,6
- Светочувствительность: 100
- Фокусное расстояние: 35,0 mm (35 mm equivalent: 52,0 mm)
- Полный EXIF
- Adobe
- ColorTransform: YCbCr
- Composite
- Aperture: 5,6
- CircleOfConfusion: 0,020 mm
- FOV: 38,0 deg
- FocalLength35efl: 35,0 mm (35 mm equivalent: 52,0 mm)
- HyperfocalDistance: 10,82 m
- ScaleFactor35efl: 1,5
- ShutterSpeed: 1/250
- ExifIFD
- ApertureValue: 5,6
- BrightnessValue: 7,87
- Contrast: Normal
- CreateDate: 2008:07:10 10:55:54
- CustomRendered: Normal
- DateTimeOriginal: 2008:07:10 10:55:54
- DigitalZoomRatio: 0
- ExposureCompensation: 0
- ExposureMode: Auto
- ExposureProgram: Aperture-priority AE
- ExposureTime: 1/250
- FNumber: 5,6
- Flash: Off
- FocalLength: 35,0 mm
- FocalLengthIn35mmFormat: 52 mm
- GainControl: None
- ISO: 100
- LightSource: Unknown
- MaxApertureValue: 5,6
- MeteringMode: Multi-segment
- Saturation: Normal
- SceneCaptureType: Standard
- SceneType: Directly photographed
- Sharpness: Normal
- ShutterSpeedValue: 1/250
- SubjectLocation: 1936 1296 329 393
- WhiteBalance: Auto
- ICC-header
- ICC-meas
- ICC-view
- IFD0
- Copyright: wrest.livejournal.com
- ImageDescription: Turkie 2008
- Make: SONY
- Model: DSLR-A100
- ModifyDate: 2008:11:29 22:25:11
- Software: DSLR-A100 v1.04
- IPTC
- Caption-Abstract: Turkie 2008
- CopyrightNotice: wrest.livejournal.com
- Sub-location: Turkie
- XMP-crs
- AlreadyApplied: True
- BlueHue: 0
- BlueSaturation: 0
- Brightness: +52
- CameraProfile: ACR 4.4
- ChromaticAberrationB: -2
- ChromaticAberrationR: -25
- Clarity: 0
- ColorNoiseReduction: 17
- Contrast: +35
- ConvertToGrayscale: False
- CropAngle: 0
- CropBottom: 0.452494
- CropHeight: 616
- CropLeft: 0.425842
- CropRight: 0.663492
- CropTop: 0.214844
- CropUnit: 0
- CropWidth: 920
- Defringe: 0
- Exposure: 0.00
- FillLight: 0
- GreenHue: 0
- GreenSaturation: 0
- HasCrop: True
- HasSettings: True
- HighlightRecovery: 100
- HueAdjustmentAqua: 0
- HueAdjustmentBlue: 0
- HueAdjustmentGreen: 0
- HueAdjustmentMagenta: 0
- HueAdjustmentOrange: 0
- HueAdjustmentPurple: 0
- HueAdjustmentRed: 0
- HueAdjustmentYellow: 0
- LuminanceAdjustmentAqua: 0
- LuminanceAdjustmentBlue: 0
- LuminanceAdjustmentGreen: 0
- LuminanceAdjustmentMagenta: 0
- LuminanceAdjustmentOrange: 0
- LuminanceAdjustmentPurple: 0
- LuminanceAdjustmentRed: 0
- LuminanceAdjustmentYellow: 0
- LuminanceSmoothing: 0
- ParametricDarks: 0
- ParametricHighlightSplit: 75
- ParametricHighlights: 0
- ParametricLights: 0
- ParametricMidtoneSplit: 50
- ParametricShadowSplit: 25
- ParametricShadows: 0
- PostCropVignetteAmount: 0
- RedHue: 0
- RedSaturation: 0
- Saturation: 0
- SaturationAdjustmentAqua: 0
- SaturationAdjustmentBlue: 0
- SaturationAdjustmentGreen: 0
- SaturationAdjustmentMagenta: 0
- SaturationAdjustmentOrange: 0
- SaturationAdjustmentPurple: 0
- SaturationAdjustmentRed: 0
- SaturationAdjustmentYellow: 0
- ShadowTint: 0
- Shadows: 4
- SharpenDetail: 0
- SharpenEdgeMasking: 0
- SharpenRadius: +1.0
- Sharpness: 0
- SplitToningBalance: 0
- SplitToningHighlightHue: 0
- SplitToningHighlightSaturation: 0
- SplitToningShadowHue: 0
- SplitToningShadowSaturation: 0
- Temperature: 6850
- Tint: -5
- ToneCurve: 0, 0, 32, 22, 64, 56, 128, 128, 192, 196, 255, 255
- ToneCurveName: Medium Contrast
- Version: 4.6
- Vibrance: 0
- VignetteAmount: 0
- WhiteBalance: Custom
- XMP-dc
- Description: Turkie 2008
- Rights: wrest.livejournal.com
- XMP-exif
- DateTimeDigitized: 2008:07:10 10:55:54+04:00
- DateTimeOriginal: 2008:07:10 10:55:54+04:00
- ExifImageHeight: 616
- ExifImageWidth: 920
- FlashFired: False
- FlashFunction: False
- FlashMode: Off
- FlashRedEyeMode: False
- FlashReturn: No return detection
- SubjectArea: 1936, 1296, 329, 393
- XMP-iptcCore
- CreatorContactInfoCiUrlWork: wrest.livejournal.com
- Location: Turkie
- XMP-tiff
- ImageHeight: 616
- ImageWidth: 920
- XMP-xmp
- CreateDate: 2008:07:10 10:55:54+04:00
- Label: July 7-16, 2008
- ModifyDate: 2008:11:29 22:25:11+03:00
- XMP-xmpRights
- Marked: True
- WebStatement: wrest.livejournal.com
- Просмотров: 988
- Рейтинг: голосов еще нет
- Отзывов: 0