- Раздел: Тесты фототехники
- Дата съёмки: 23.11.2008 14:38
- Дата загрузки фото: 01.12.2008 22:35
- Оригинальная фотография: 2100 x 3149 (3,6 Мб)
- Технические характеристики:
- Фотоаппарат: Canon EOS 30D
- Выдержка: 1/2500
- Гиперфокальное расстояние: 59,30 m
- Диафрагма: 2,5
- Светочувствительность: 100
- Фокусное расстояние: 50,0 mm (35 mm equivalent: 89,1 mm)
- Полный EXIF
- Adobe
- ColorTransform: YCbCr
- Composite
- Aperture: 2,5
- CircleOfConfusion: 0,017 mm
- FOV: 22,0 deg
- FlashOn: Off
- FocalLength35efl: 50,0 mm (35 mm equivalent: 89,1 mm)
- HyperfocalDistance: 59,30 m
- ScaleFactor35efl: 1,8
- ShutterSpeed: 1/2500
- ExifIFD
- ApertureValue: 2,5
- CreateDate: 2008:11:23 14:38:54
- CustomRendered: Normal
- DateTimeOriginal: 2008:11:23 14:38:54
- ExposureCompensation: 0
- ExposureMode: Auto
- ExposureProgram: Aperture-priority AE
- ExposureTime: 1/2500
- FNumber: 2,5
- Flash: Off
- FocalLength: 50,0 mm
- ISO: 100
- MaxApertureValue: 1,8
- MeteringMode: Multi-segment
- SceneCaptureType: Standard
- ShutterSpeedValue: 1/2500
- WhiteBalance: Auto
- ICC-header
- ICC-meas
- ICC-view
- IFD0
- Artist: unknown
- Make: Canon
- Model: Canon EOS 30D
- ModifyDate: 2008:11:23 15:47:42
- IPTC
- By-line: unknown
- Keywords: Îëÿ, Ïåðâûé Г±ГГҐГЈ, Ñà øêГ
- XMP-aux
- Firmware: 1.0.5
- FlashCompensation: 0,333333333333333
- ImageNumber: 192
- Lens: EF50mm f/1.8
- LensInfo: 50/1 50/1 0/0 0/0
- OwnerName: unknown
- SerialNumber: 1530912316
- XMP-crs
- AlreadyApplied: True
- BlueHue: 0
- BlueSaturation: 0
- Brightness: +50
- CameraProfile: Camera Standard beta 1
- ChromaticAberrationB: 0
- ChromaticAberrationR: 0
- Clarity: 0
- ColorNoiseReduction: 25
- Contrast: +50
- ConvertToGrayscale: False
- CropAngle: 0
- CropBottom: 0.898795
- CropHeight: 2100
- CropLeft: 0.101205
- CropRight: 1
- CropTop: 0
- CropUnit: 0
- CropWidth: 3149
- Defringe: 0
- Exposure: +0.29
- FillLight: 14
- GreenHue: 0
- GreenSaturation: 0
- HasCrop: True
- HasSettings: True
- HighlightRecovery: 0
- HueAdjustmentAqua: 0
- HueAdjustmentBlue: 0
- HueAdjustmentGreen: 0
- HueAdjustmentMagenta: 0
- HueAdjustmentOrange: 0
- HueAdjustmentPurple: 0
- HueAdjustmentRed: 0
- HueAdjustmentYellow: 0
- LuminanceAdjustmentAqua: 0
- LuminanceAdjustmentBlue: 0
- LuminanceAdjustmentGreen: 0
- LuminanceAdjustmentMagenta: 0
- LuminanceAdjustmentOrange: 0
- LuminanceAdjustmentPurple: 0
- LuminanceAdjustmentRed: 0
- LuminanceAdjustmentYellow: 0
- LuminanceSmoothing: 0
- ParametricDarks: 0
- ParametricHighlightSplit: 75
- ParametricHighlights: 0
- ParametricLights: 0
- ParametricMidtoneSplit: 50
- ParametricShadowSplit: 25
- ParametricShadows: 0
- PostCropVignetteAmount: 0
- RedHue: 0
- RedSaturation: 0
- Saturation: 0
- SaturationAdjustmentAqua: 0
- SaturationAdjustmentBlue: 0
- SaturationAdjustmentGreen: 0
- SaturationAdjustmentMagenta: 0
- SaturationAdjustmentOrange: 0
- SaturationAdjustmentPurple: 0
- SaturationAdjustmentRed: 0
- SaturationAdjustmentYellow: 0
- ShadowTint: 0
- Shadows: 2
- SharpenDetail: 25
- SharpenEdgeMasking: 0
- SharpenRadius: +1.0
- Sharpness: 30
- SplitToningBalance: 0
- SplitToningHighlightHue: 0
- SplitToningHighlightSaturation: 0
- SplitToningShadowHue: 0
- SplitToningShadowSaturation: 0
- Temperature: 4550
- Tint: -7
- ToneCurve: 0, 0, 32, 22, 64, 56, 128, 128, 192, 196, 255, 255
- ToneCurveName: Medium Contrast
- Version: 4.6
- Vibrance: 0
- VignetteAmount: 0
- WhiteBalance: As Shot
- XMP-dc
- Creator: unknown
- Subject: Оля, Первый снег, Сашка
- XMP-exif
- DateTimeDigitized: 2008:11:23 14:38:54+02:00
- DateTimeOriginal: 2008:11:23 14:38:54+02:00
- ExifImageHeight: 3149
- ExifImageWidth: 2100
- FlashFired: False
- FlashFunction: False
- FlashMode: Off
- FlashRedEyeMode: False
- FlashReturn: No return detection
- XMP-tiff
- ImageHeight: 3149
- ImageWidth: 2100
- XMP-xmp
- CreateDate: 2008:11:23 14:38:54+02:00
- ModifyDate: 2008:11:23 15:47:42+02:00
- Просмотров: 294
- Рейтинг: голосов еще нет
- Отзывов: 0