- Раздел: Пейзаж
- Дата съёмки: 05.12.2008 16:57
- Дата загрузки фото: 06.12.2008 22:57
- Оригинальная фотография: 813 x 534 (240 Кб)
- Технические характеристики:
- Фотоаппарат: Canon EOS 5D
- Выдержка: 1/500
- Гиперфокальное расстояние: 44,10 m
- Диафрагма: 5,0
- Светочувствительность: 800
- Фокусное расстояние: 35,0 mm (35 mm equivalent: 189,3 mm)
- Полный EXIF
- Adobe
- ColorTransform: YCbCr
- Composite
- Aperture: 5,0
- CircleOfConfusion: 0,006 mm
- FOV: 10,0 deg
- FocalLength35efl: 35,0 mm (35 mm equivalent: 189,3 mm)
- HyperfocalDistance: 44,10 m
- ScaleFactor35efl: 5,4
- ShutterSpeed: 1/500
- ExifIFD
- ApertureValue: 5,0
- ColorSpace: sRGB
- CreateDate: 2008:07:23 05:02:40
- CustomRendered: Normal
- DateTimeOriginal: 2008:07:23 05:02:40
- ExifImageHeight: 534
- ExifImageWidth: 813
- ExposureCompensation: 0
- ExposureMode: Auto
- ExposureProgram: Program AE
- ExposureTime: 1/500
- FNumber: 5,0
- Flash: Off
- FocalLength: 35,0 mm
- ISO: 800
- MaxApertureValue: 1,4
- MeteringMode: Multi-segment
- SceneCaptureType: Standard
- ShutterSpeedValue: 1/500
- WhiteBalance: Auto
- ICC-header
- ICC-meas
- ICC-view
- IFD0
- Artist: Sergey A. Kashporov
- Make: Canon
- Model: Canon EOS 5D
- ModifyDate: 2008:12:05 16:57:02
- Orientation: Horizontal (normal)
- IFD1
- IPTC
- By-line: Sergey A. Kashporov
- Keywords: Norway, _orig
- XMP-aux
- Firmware: 1.1.1
- FlashCompensation: 0
- ImageNumber: 14
- Lens: EF35mm f/1.4L USM
- LensInfo: 35/1 35/1 0/0 0/0
- SerialNumber: 2731200361
- XMP-crs
- AlreadyApplied: True
- BlueHue: 0
- BlueSaturation: 0
- Brightness: +29
- CameraProfile: ACR 4.4
- ChromaticAberrationB: 0
- ChromaticAberrationR: 0
- Clarity: 0
- ColorNoiseReduction: 25
- Contrast: +14
- ConvertToGrayscale: False
- CropAngle: -0.69207
- CropBottom: 0.982023
- CropLeft: 0
- CropRight: 1
- CropTop: 0.021857
- Defringe: 0
- Exposure: +0.57
- FillLight: 0
- GreenHue: 0
- GreenSaturation: 0
- HasCrop: True
- HasSettings: True
- HighlightRecovery: 19
- HueAdjustmentAqua: 0
- HueAdjustmentBlue: 0
- HueAdjustmentGreen: 0
- HueAdjustmentMagenta: 0
- HueAdjustmentOrange: 0
- HueAdjustmentPurple: 0
- HueAdjustmentRed: 0
- HueAdjustmentYellow: 0
- LuminanceAdjustmentAqua: 0
- LuminanceAdjustmentBlue: 0
- LuminanceAdjustmentGreen: 0
- LuminanceAdjustmentMagenta: 0
- LuminanceAdjustmentOrange: 0
- LuminanceAdjustmentPurple: 0
- LuminanceAdjustmentRed: 0
- LuminanceAdjustmentYellow: 0
- LuminanceSmoothing: 0
- ParametricDarks: -14
- ParametricHighlightSplit: 75
- ParametricHighlights: +36
- ParametricLights: +10
- ParametricMidtoneSplit: 50
- ParametricShadowSplit: 25
- ParametricShadows: -36
- PostCropVignetteAmount: 0
- RawFileName: 20080723_050240_5D_35_5_6764.cr2
- RedHue: 0
- RedSaturation: 0
- Saturation: 0
- SaturationAdjustmentAqua: 0
- SaturationAdjustmentBlue: +5
- SaturationAdjustmentGreen: 0
- SaturationAdjustmentMagenta: 0
- SaturationAdjustmentOrange: +5
- SaturationAdjustmentPurple: 0
- SaturationAdjustmentRed: +5
- SaturationAdjustmentYellow: -2
- ShadowTint: 0
- Shadows: 7
- SharpenDetail: 50
- SharpenEdgeMasking: 0
- SharpenRadius: +0.8
- Sharpness: 40
- SplitToningBalance: 0
- SplitToningHighlightHue: 0
- SplitToningHighlightSaturation: 0
- SplitToningShadowHue: 0
- SplitToningShadowSaturation: 0
- Temperature: 4950
- Tint: -2
- ToneCurve: 0, 0, 32, 22, 64, 56, 128, 128, 192, 196, 255, 255
- ToneCurveName: Medium Contrast
- Version: 4.6
- Vibrance: 0
- VignetteAmount: 0
- WhiteBalance: As Shot
- XMP-dc
- Creator: Sergey A. Kashporov
- Format: image/jpeg
- Subject: Norway, _orig
- XMP-exif
- DateTimeDigitized: 2008:07:23 05:02:40+04:00
- DateTimeOriginal: 2008:07:23 05:02:40+04:00
- FlashFired: False
- FlashFunction: False
- FlashMode: Off
- FlashRedEyeMode: False
- FlashReturn: No return detection
- XMP-iptcCore
- CreatorContactInfoCiAdrCtry: Russia
- CreatorContactInfoCiEmailWork: sergey@kashporov.ru
- XMP-lr
- HierarchicalSubject: FotoClub 24, Norway, _orig
- XMP-tiff
- XMP-xmp
- CreateDate: 2008:12:05 16:57:02+03:00
- ModifyDate: 2008:12:05 16:57:02+03:00
- Rating: 0
- XMP-xmpMM
- XMP-xmpRights
- Marked: True
- WebStatement: http://www.digimarc.com/cgi-bin/ci.pl%3F4+459188+0+0+5