Уважаемые друзья и участники проекта iXBT.photo! К сожалению, 1 марта 2026 года проект iXBT.photo прекратит свою работу и будет закрыт. Мы высоко ценим ваше участие и тот вклад, который вы внесли в развитие нашего сообщества. Пожалуйста, не забудьте сохранить ваши фотографии до этой даты.
С уважением, команда iXBT.com
| IMGP2994.jpg |
IMGP2994.jpg
- Раздел: Портрет
- Дата съёмки: 22.12.2008 14:46
- Дата загрузки фото: 25.12.2008 20:47
- Оригинальная фотография: 2757 x 1750 (1,0 Мб)
- Технические характеристики:
- Фотоаппарат: Pentax K100D Super
- Выдержка: 1/45
- Гиперфокальное расстояние: 9,78 m
- Диафрагма: 4,0
- Светочувствительность: 200
- Фокусное расстояние: 28,0 mm (35 mm equivalent: 42,0 mm)
- Экспокоррекция: +3/2
- Полный EXIF
- Adobe
- ColorTransform: YCbCr
- Composite
- Aperture: 4,0
- CircleOfConfusion: 0,020 mm
- FOV: 46,0 deg
- FocalLength35efl: 28,0 mm (35 mm equivalent: 42,0 mm)
- HyperfocalDistance: 9,78 m
- ScaleFactor35efl: 1,5
- ShutterSpeed: 1/45
- ExifIFD
- ApertureValue: 4,0
- CFAPattern: [Red,Green][Green,Blue]
- Contrast: Normal
- CreateDate: 2008:12:22 14:46:39
- CustomRendered: Normal
- DateTimeOriginal: 2008:12:22 14:46:39
- ExposureCompensation: +3/2
- ExposureMode: Manual
- ExposureProgram: Aperture-priority AE
- ExposureTime: 1/45
- FNumber: 4,0
- Flash: Auto, Fired
- FocalLength: 28,0 mm
- FocalLengthIn35mmFormat: 42 mm
- ISO: 200
- MeteringMode: Spot
- Saturation: Normal
- SceneCaptureType: Standard
- SceneType: Directly photographed
- SensingMethod: One-chip color area
- Sharpness: Normal
- ShutterSpeedValue: 1/45
- SubjectDistanceRange: Macro
- WhiteBalance: Auto
- ICC-header
- ICC-meas
- ICC-view
- IFD0
- Make: PENTAX Corporation
- Model: PENTAX K100D Super
- ModifyDate: 2008:12:21 19:34:16
- Software: K100D Super Ver 1.00
- XMP-aux
- Lens: smc PENTAX-DA 18-55mm F3.5-5.6 AL
- LensID: 4 252
- LensInfo: 180/10 550/10 35/10 56/10
- XMP-crs
- AlreadyApplied: True
- BlueHue: 0
- BlueSaturation: 0
- Brightness: +62
- CameraProfile: ACR 4.4
- ChromaticAberrationB: 0
- ChromaticAberrationR: 0
- Clarity: -75
- ColorNoiseReduction: 100
- Contrast: +31
- ConvertToGrayscale: True
- CropAngle: 0
- CropBottom: 1
- CropHeight: 1750
- CropLeft: 0
- CropRight: 0.916405
- CropTop: 0.128326
- CropUnit: 0
- CropWidth: 2757
- Defringe: 0
- Exposure: -0.58
- FillLight: 0
- GrayMixerAqua: -20
- GrayMixerBlue: +5
- GrayMixerGreen: -24
- GrayMixerMagenta: +6
- GrayMixerOrange: -14
- GrayMixerPurple: +14
- GrayMixerRed: -4
- GrayMixerYellow: -18
- GreenHue: 0
- GreenSaturation: 0
- HasCrop: True
- HasSettings: True
- HighlightRecovery: 0
- LuminanceSmoothing: 100
- ParametricDarks: 0
- ParametricHighlightSplit: 90
- ParametricHighlights: -17
- ParametricLights: +31
- ParametricMidtoneSplit: 41
- ParametricShadowSplit: 10
- ParametricShadows: -8
- PostCropVignetteAmount: 0
- RedHue: 0
- RedSaturation: 0
- ShadowTint: +100
- Shadows: 45
- SharpenDetail: 25
- SharpenEdgeMasking: 68
- SharpenRadius: +1.0
- Sharpness: 11
- SplitToningBalance: -100
- SplitToningHighlightHue: 0
- SplitToningHighlightSaturation: 0
- SplitToningShadowHue: 45
- SplitToningShadowSaturation: 0
- Temperature: 5500
- Tint: +10
- ToneCurve: 0, 0, 32, 22, 64, 56, 128, 128, 192, 196, 255, 255
- ToneCurveName: Medium Contrast
- Version: 4.6
- VignetteAmount: 0
- WhiteBalance: Daylight
- XMP-exif
- DateTimeDigitized: 2008:12:22 14:46:39+03:00
- DateTimeOriginal: 2008:12:22 14:46:39+03:00
- ExifImageHeight: 1750
- ExifImageWidth: 2757
- FlashFired: True
- FlashFunction: False
- FlashMode: Auto
- FlashRedEyeMode: False
- FlashReturn: No return detection
- XMP-tiff
- ImageHeight: 1750
- ImageWidth: 2757
- XMP-xmp
- CreateDate: 2008:12:22 14:46:39+03:00
- ModifyDate: 2008:12:21 19:34:16+03:00
- Просмотров: 190
- Рейтинг: голосов еще нет
- Отзывов: отключены
Получить код для блога
| Вставка фотографии в текущем разрешении |
Вставка миниатюры |
HTML (для вставки в блог):
BBCode (для вставки в форум):
Ссылка на фото:
Ссылка на миниатюру:
- Послать ссылку другу
| Комментарии к фотографии |