| » Участники » healix » Макро » Мороз. 1:1 |
Уважаемые друзья и участники проекта iXBT.photo! К сожалению, 1 марта 2026 года проект iXBT.photo прекратит свою работу и будет закрыт. Мы высоко ценим ваше участие и тот вклад, который вы внесли в развитие нашего сообщества. Пожалуйста, не забудьте сохранить ваши фотографии до этой даты.
С уважением, команда iXBT.com
| Мороз. 1:1 |
Мороз. 1:1
Со стекла балкона.
Кроп 100%
- Раздел: Макро
- Дата съёмки: 07.01.2009 14:33
- Дата загрузки фото: 07.01.2009 17:32
- Оригинальная фотография: 925 x 616 (475 Кб)
- Технические характеристики:
- Фотоаппарат: Canon EOS 400D DIGITAL
- Выдержка: 1/5
- Гиперфокальное расстояние: 205,88 m
- Диафрагма: 11,0
- Светочувствительность: 100
- Фокусное расстояние: 100,0 mm (35 mm equivalent: 680,5 mm)
- Полный EXIF
- Adobe
- ColorTransform: YCbCr
- Composite
- Aperture: 11,0
- CircleOfConfusion: 0,004 mm
- FOV: 3,0 deg
- FocalLength35efl: 100,0 mm (35 mm equivalent: 680,5 mm)
- HyperfocalDistance: 205,88 m
- ScaleFactor35efl: 6,8
- ShutterSpeed: 1/5
- ExifIFD
- ApertureValue: 11,0
- CreateDate: 2009:01:07 14:33:46
- CustomRendered: Normal
- DateTimeOriginal: 2009:01:07 14:33:46
- ExposureCompensation: 0
- ExposureMode: Auto
- ExposureProgram: Aperture-priority AE
- ExposureTime: 1/5
- FNumber: 11,0
- Flash: Off
- FocalLength: 100,0 mm
- ISO: 100
- MaxApertureValue: 2,8
- MeteringMode: Average
- SceneCaptureType: Standard
- ShutterSpeedValue: 1/5
- WhiteBalance: Manual
- ICC-header
- ICC-meas
- ICC-view
- IFD0
- Artist: healix
- Make: Canon
- Model: Canon EOS 400D DIGITAL
- ModifyDate: 2009:01:07 16:28:57
- IPTC
- By-line: healix
- XMP-aux
- Firmware: 1.1.1
- FlashCompensation: 0
- ImageNumber: 208
- Lens: EF100mm f/2.8 Macro USM
- LensInfo: 100/1 100/1 0/0 0/0
- OwnerName: healix
- SerialNumber: 1731111124
- XMP-crs
- AlreadyApplied: True
- BlueHue: 0
- BlueSaturation: 0
- Brightness: 0
- ChromaticAberrationB: 0
- ChromaticAberrationR: 0
- Clarity: 0
- ColorNoiseReduction: 25
- Contrast: +50
- ConvertToGrayscale: True
- CropAngle: 0
- CropBottom: 0.5908
- CropHeight: 925
- CropLeft: 0.597281
- CropRight: 0.755836
- CropTop: 0.234051
- CropUnit: 0
- CropWidth: 616
- Defringe: 0
- Exposure: +1.33
- FillLight: 0
- GrayMixerAqua: -17
- GrayMixerBlue: +12
- GrayMixerGreen: -28
- GrayMixerMagenta: +4
- GrayMixerOrange: -20
- GrayMixerPurple: +17
- GrayMixerRed: -11
- GrayMixerYellow: -24
- GreenHue: 0
- GreenSaturation: 0
- HasCrop: True
- HasSettings: True
- HighlightRecovery: 13
- LuminanceSmoothing: 0
- ParametricDarks: 0
- ParametricHighlightSplit: 75
- ParametricHighlights: 0
- ParametricLights: 0
- ParametricMidtoneSplit: 50
- ParametricShadowSplit: 25
- ParametricShadows: 0
- PostCropVignetteAmount: 0
- RedHue: 0
- RedSaturation: 0
- ShadowTint: 0
- Shadows: 48
- SharpenDetail: 25
- SharpenEdgeMasking: 0
- SharpenRadius: +1.4
- Sharpness: 75
- SplitToningBalance: 0
- SplitToningHighlightHue: 0
- SplitToningHighlightSaturation: 0
- SplitToningShadowHue: 0
- SplitToningShadowSaturation: 0
- Temperature: 6100
- Tint: +13
- ToneCurve: 0, 0, 32, 22, 64, 56, 128, 128, 192, 196, 255, 255
- ToneCurveName: Medium Contrast
- Version: 5.2
- VignetteAmount: 0
- WhiteBalance: As Shot
- XMP-dc
- XMP-exif
- DateTimeDigitized: 2009:01:07 14:33:46+02:00
- DateTimeOriginal: 2009:01:07 14:33:46+02:00
- ExifImageHeight: 616
- ExifImageWidth: 925
- FlashFired: False
- FlashFunction: False
- FlashMode: Off
- FlashRedEyeMode: False
- FlashReturn: No return detection
- XMP-tiff
- ImageHeight: 616
- ImageWidth: 925
- XMP-xmp
- CreateDate: 2009:01:07 14:33:46+02:00
- ModifyDate: 2009:01:07 16:28:57+02:00
- Просмотров: 424
- Рейтинг: голосов еще нет
- Отзывов: 0
Получить код для блога
| Вставка фотографии в текущем разрешении |
Вставка миниатюры |
HTML (для вставки в блог):
BBCode (для вставки в форум):
Ссылка на фото:
Ссылка на миниатюру:
- Послать ссылку другу
| Комментарии к фотографии |