- Раздел: Другое, разное
- Дата съёмки: 23.02.2009 16:12
- Дата загрузки фото: 23.02.2009 18:16
- Оригинальная фотография: 1280 x 851 (339 Кб)
- Технические характеристики:
- Фотоаппарат: Nikon D50
- Выдержка: 1/13
- Гиперфокальное расстояние: 4,62 m
- Диафрагма: 3,5
- Светочувствительность: 1600
- Фокусное расстояние: 18,0 mm (35 mm equivalent: 27,0 mm)
- Экспокоррекция: -1
- Полный EXIF
- Adobe
- ColorTransform: YCbCr
- Composite
- Aperture: 3,5
- CircleOfConfusion: 0,020 mm
- FOV: 67,0 deg
- FocalLength35efl: 18,0 mm (35 mm equivalent: 27,0 mm)
- HyperfocalDistance: 4,62 m
- ScaleFactor35efl: 1,5
- ShutterSpeed: 1/13
- ExifIFD
- ApertureValue: 3,5
- CFAPattern: [Blue,Green][Green,Red]
- ColorSpace: sRGB
- Contrast: Normal
- CreateDate: 2009:02:23 16:12:18
- CustomRendered: Normal
- DateTimeOriginal: 2009:02:23 16:12:18
- DigitalZoomRatio: 1
- ExifImageHeight: 851
- ExifImageWidth: 1280
- ExposureCompensation: -1
- ExposureMode: Auto
- ExposureProgram: Aperture-priority AE
- ExposureTime: 1/13
- FNumber: 3,5
- Flash: No Flash
- FocalLength: 18,0 mm
- FocalLengthIn35mmFormat: 27 mm
- GainControl: Low gain up
- ISO: 1600
- LightSource: Unknown
- MaxApertureValue: 3,5
- MeteringMode: Multi-segment
- Saturation: Normal
- SceneCaptureType: Standard
- SceneType: Directly photographed
- SensingMethod: One-chip color area
- Sharpness: Normal
- ShutterSpeedValue: 1/13
- SubjectDistanceRange: Unknown
- WhiteBalance: Auto
- ICC-header
- ICC-meas
- ICC-view
- IFD0
- Make: NIKON CORPORATION
- Model: NIKON D50
- ModifyDate: 2009:02:23 21:16:06
- Orientation: Horizontal (normal)
- IFD1
- IPTC
- XMP-aux
- ImageNumber: 10225
- Lens: 18.0-135.0 mm f/3.5-5.6
- LensInfo: 180/10 1350/10 35/10 56/10
- XMP-crs
- AlreadyApplied: True
- BlueHue: 0
- BlueSaturation: 0
- Brightness: +96
- CameraProfile: ACR 4.4
- ChromaticAberrationB: 0
- ChromaticAberrationR: 0
- Clarity: 0
- ColorNoiseReduction: 25
- Contrast: +50
- ConvertToGrayscale: False
- Defringe: 0
- Exposure: 0.00
- FillLight: 0
- GreenHue: 0
- GreenSaturation: 0
- HasCrop: False
- HasSettings: True
- HighlightRecovery: 16
- HueAdjustmentAqua: 0
- HueAdjustmentBlue: 0
- HueAdjustmentGreen: 0
- HueAdjustmentMagenta: 0
- HueAdjustmentOrange: 0
- HueAdjustmentPurple: 0
- HueAdjustmentRed: 0
- HueAdjustmentYellow: 0
- LuminanceAdjustmentAqua: 0
- LuminanceAdjustmentBlue: 0
- LuminanceAdjustmentGreen: 0
- LuminanceAdjustmentMagenta: 0
- LuminanceAdjustmentOrange: 0
- LuminanceAdjustmentPurple: 0
- LuminanceAdjustmentRed: 0
- LuminanceAdjustmentYellow: 0
- LuminanceSmoothing: 0
- ParametricDarks: 0
- ParametricHighlightSplit: 75
- ParametricHighlights: 0
- ParametricLights: 0
- ParametricMidtoneSplit: 50
- ParametricShadowSplit: 25
- ParametricShadows: 0
- PostCropVignetteAmount: 0
- RawFileName: 2009-02-23 16-12-18_ride.NEF
- RedHue: 0
- RedSaturation: 0
- Saturation: 0
- SaturationAdjustmentAqua: 0
- SaturationAdjustmentBlue: 0
- SaturationAdjustmentGreen: 0
- SaturationAdjustmentMagenta: 0
- SaturationAdjustmentOrange: 0
- SaturationAdjustmentPurple: 0
- SaturationAdjustmentRed: 0
- SaturationAdjustmentYellow: 0
- ShadowTint: 0
- Shadows: 0
- SharpenDetail: 25
- SharpenEdgeMasking: 0
- SharpenRadius: +1.0
- Sharpness: 25
- SplitToningBalance: 0
- SplitToningHighlightHue: 0
- SplitToningHighlightSaturation: 0
- SplitToningShadowHue: 0
- SplitToningShadowSaturation: 0
- Temperature: 4200
- Tint: -19
- ToneCurve: 0, 0, 32, 22, 64, 56, 128, 128, 192, 196, 255, 255
- ToneCurveName: Medium Contrast
- Version: 5.2
- Vibrance: 0
- VignetteAmount: 0
- WhiteBalance: As Shot
- XMP-dc
- XMP-exif
- DateTimeDigitized: 2009:02:23 16:12:18.50+06:00
- DateTimeOriginal: 2009:02:23 16:12:18.50+06:00
- FlashFired: False
- FlashFunction: False
- FlashMode: Unknown
- FlashRedEyeMode: False
- FlashReturn: No return detection
- XMP-tiff
- XMP-xmp
- CreateDate: 2009:02:23 16:12:18.50+06:00
- CreatorTool: Ver.1.00
- ModifyDate: 2009:02:23 21:16:06+06:00
- Rating: 0
- XMP-xmpMM