- Раздел: Репортаж
- Дата съёмки: 24.02.2009 00:09
- Дата загрузки фото: 24.02.2009 02:00
- Оригинальная фотография: 466 x 700 (107 Кб)
- Технические характеристики:
- Фотоаппарат: Canon EOS 400D DIGITAL
- Выдержка: 1/40
- Гиперфокальное расстояние: 881,16 m
- Диафрагма: 4,5
- Светочувствительность: 400
- Фокусное расстояние: 115,0 mm (35 mm equivalent: 1036,0 mm)
- Полный EXIF
- Adobe
- ColorTransform: YCbCr
- Composite
- Aperture: 4,5
- CircleOfConfusion: 0,003 mm
- FOV: 1,0 deg
- FocalLength35efl: 115,0 mm (35 mm equivalent: 1036,0 mm)
- HyperfocalDistance: 881,16 m
- ScaleFactor35efl: 9,0
- ShutterSpeed: 1/40
- ExifIFD
- ApertureValue: 4,5
- ColorSpace: sRGB
- CreateDate: 2009:02:21 21:17:29
- CustomRendered: Normal
- DateTimeOriginal: 2009:02:21 21:17:29
- ExifImageHeight: 700
- ExifImageWidth: 466
- ExposureCompensation: 0
- ExposureMode: Manual
- ExposureProgram: Manual
- ExposureTime: 1/40
- FNumber: 4,5
- Flash: On
- FocalLength: 115,0 mm
- ISO: 400
- MaxApertureValue: 4,0
- MeteringMode: Multi-segment
- SceneCaptureType: Standard
- ShutterSpeedValue: 1/40
- WhiteBalance: Auto
- ICC-header
- ICC-meas
- ICC-view
- IFD0
- Artist: unknown
- Make: Canon
- Model: Canon EOS 400D DIGITAL
- ModifyDate: 2009:02:24 00:09:31
- Orientation: Horizontal (normal)
- IFD1
- IPTC
- By-line: unknown
- XMP-aux
- Firmware: 1.1.1
- FlashCompensation: 1,33333333333333
- ImageNumber: 32
- Lens: EF70-300mm f/4-5.6 IS USM
- LensInfo: 70/1 300/1 0/0 0/0
- OwnerName: unknown
- SerialNumber: 1030571902
- XMP-crs
- AlreadyApplied: True
- BlueHue: 0
- BlueSaturation: 0
- Brightness: +50
- CameraProfile: ACR 4.4
- ChromaticAberrationB: 0
- ChromaticAberrationR: 0
- Clarity: 0
- ColorNoiseReduction: 25
- Contrast: +16
- ConvertToGrayscale: False
- Defringe: 0
- Exposure: 0.00
- FillLight: 47
- GreenHue: 0
- GreenSaturation: 0
- HasCrop: False
- HasSettings: True
- HighlightRecovery: 0
- HueAdjustmentAqua: 0
- HueAdjustmentBlue: 0
- HueAdjustmentGreen: +32
- HueAdjustmentMagenta: 0
- HueAdjustmentOrange: 0
- HueAdjustmentPurple: 0
- HueAdjustmentRed: 0
- HueAdjustmentYellow: +4
- LuminanceAdjustmentAqua: 0
- LuminanceAdjustmentBlue: +13
- LuminanceAdjustmentGreen: +8
- LuminanceAdjustmentMagenta: 0
- LuminanceAdjustmentOrange: +5
- LuminanceAdjustmentPurple: 0
- LuminanceAdjustmentRed: -4
- LuminanceAdjustmentYellow: +31
- LuminanceSmoothing: 0
- ParametricDarks: -9
- ParametricHighlightSplit: 75
- ParametricHighlights: 0
- ParametricLights: +3
- ParametricMidtoneSplit: 50
- ParametricShadowSplit: 25
- ParametricShadows: -63
- RawFileName: _MG_7874.CR2
- RedHue: 0
- RedSaturation: 0
- Saturation: -14
- SaturationAdjustmentAqua: -10
- SaturationAdjustmentBlue: +59
- SaturationAdjustmentGreen: 0
- SaturationAdjustmentMagenta: 0
- SaturationAdjustmentOrange: +28
- SaturationAdjustmentPurple: 0
- SaturationAdjustmentRed: +63
- SaturationAdjustmentYellow: +23
- ShadowTint: 0
- Shadows: 11
- SharpenDetail: 15
- SharpenEdgeMasking: 0
- SharpenRadius: +0.8
- Sharpness: 38
- SplitToningBalance: 0
- SplitToningHighlightHue: 0
- SplitToningHighlightSaturation: 0
- SplitToningShadowHue: 0
- SplitToningShadowSaturation: 0
- Temperature: 5150
- Tint: +2
- ToneCurve: 0, 0, 32, 22, 64, 56, 128, 128, 192, 196, 255, 255
- ToneCurveName: Medium Contrast
- Version: 4.4.1
- Vibrance: +33
- VignetteAmount: -100
- VignetteMidpoint: 0
- WhiteBalance: Custom
- XMP-dc
- Creator: unknown
- Format: image/jpeg
- XMP-exif
- DateTimeDigitized: 2009:02:21 21:17:29+05:00
- DateTimeOriginal: 2009:02:21 21:17:29+05:00
- FlashFired: True
- FlashFunction: False
- FlashMode: On
- FlashRedEyeMode: False
- FlashReturn: No return detection
- XMP-tiff
- XMP-xmp
- CreateDate: 2009:02:24 00:09:31+05:00
- ModifyDate: 2009:02:24 00:09:31+05:00
- Rating: 0
- XMP-xmpMM
- DerivedFrom:
- Просмотров: 280
- Рейтинг: голосов еще нет
- Отзывов: 0