- Раздел: Портрет
- Дата съёмки: 05.03.2009 01:07
- Дата загрузки фото: 05.03.2009 01:08
- Оригинальная фотография: 2848 x 3928 (7,0 Мб)
- Технические характеристики:
- Фотоаппарат: Canon EOS 450D
- Выдержка: 1/125
- Гиперфокальное расстояние: 44,48 m
- Диафрагма: 3,2
- Светочувствительность: 100
- Фокусное расстояние: 50,0 mm (35 mm equivalent: 85,5 mm)
- Полный EXIF
- Adobe
- ColorTransform: YCbCr
- Composite
- Aperture: 3,2
- CircleOfConfusion: 0,018 mm
- FOV: 23,0 deg
- FocalLength35efl: 50,0 mm (35 mm equivalent: 85,5 mm)
- HyperfocalDistance: 44,48 m
- ScaleFactor35efl: 1,7
- ShutterSpeed: 1/125
- ExifIFD
- ApertureValue: 3,2
- ColorSpace: sRGB
- CreateDate: 2009:03:04 16:52:30
- CustomRendered: Normal
- DateTimeOriginal: 2009:03:04 16:52:30
- ExifImageHeight: 3928
- ExifImageWidth: 2848
- ExposureCompensation: 0
- ExposureMode: Auto
- ExposureProgram: Aperture-priority AE
- ExposureTime: 1/125
- FNumber: 3,2
- Flash: On
- FocalLength: 50,0 mm
- ISO: 100
- MaxApertureValue: 1,4
- MeteringMode: Multi-segment
- SceneCaptureType: Standard
- ShutterSpeedValue: 1/125
- WhiteBalance: Auto
- ICC-header
- ICC-meas
- ICC-view
- IFD0
- Make: Canon
- Model: Canon EOS 450D
- ModifyDate: 2009:03:05 01:07:56
- Orientation: Horizontal (normal)
- IFD1
- IPTC
- XMP-aux
- Firmware: 1.0.9
- FlashCompensation: -2
- ImageNumber: 0
- Lens: EF50mm f/1.4 USM
- LensInfo: 50/1 50/1 0/0 0/0
- SerialNumber: 540106604
- XMP-crs
- AlreadyApplied: True
- BlueHue: 0
- BlueSaturation: 0
- Brightness: +38
- CameraProfile: ACR 4.4
- ChromaticAberrationB: 0
- ChromaticAberrationR: 0
- Clarity: 0
- ColorNoiseReduction: 25
- Contrast: +50
- ConvertToGrayscale: False
- CropAngle: 0
- CropBottom: 1
- CropLeft: 0
- CropRight: 0.919521
- CropTop: 0
- Defringe: 0
- Exposure: -0.50
- FillLight: 0
- GreenHue: 0
- GreenSaturation: 0
- HasCrop: True
- HasSettings: True
- HighlightRecovery: 10
- HueAdjustmentAqua: 0
- HueAdjustmentBlue: 0
- HueAdjustmentGreen: 0
- HueAdjustmentMagenta: 0
- HueAdjustmentOrange: 0
- HueAdjustmentPurple: 0
- HueAdjustmentRed: 0
- HueAdjustmentYellow: 0
- LuminanceAdjustmentAqua: 0
- LuminanceAdjustmentBlue: 0
- LuminanceAdjustmentGreen: 0
- LuminanceAdjustmentMagenta: 0
- LuminanceAdjustmentOrange: 0
- LuminanceAdjustmentPurple: 0
- LuminanceAdjustmentRed: 0
- LuminanceAdjustmentYellow: 0
- LuminanceSmoothing: 0
- ParametricDarks: 0
- ParametricHighlightSplit: 75
- ParametricHighlights: 0
- ParametricLights: 0
- ParametricMidtoneSplit: 50
- ParametricShadowSplit: 25
- ParametricShadows: 0
- PostCropVignetteAmount: 0
- RawFileName: _MG_8113.CR2
- RedHue: 0
- RedSaturation: 0
- Saturation: 0
- SaturationAdjustmentAqua: 0
- SaturationAdjustmentBlue: 0
- SaturationAdjustmentGreen: 0
- SaturationAdjustmentMagenta: 0
- SaturationAdjustmentOrange: 0
- SaturationAdjustmentPurple: 0
- SaturationAdjustmentRed: 0
- SaturationAdjustmentYellow: 0
- ShadowTint: 0
- Shadows: 9
- SharpenDetail: 25
- SharpenEdgeMasking: 0
- SharpenRadius: +1.0
- Sharpness: 25
- SplitToningBalance: 0
- SplitToningHighlightHue: 0
- SplitToningHighlightSaturation: 0
- SplitToningShadowHue: 0
- SplitToningShadowSaturation: 0
- Temperature: 4950
- Tint: -3
- ToneCurve: 0, 0, 32, 22, 64, 56, 128, 128, 192, 196, 255, 255
- ToneCurveName: Medium Contrast
- Version: 4.5
- Vibrance: 0
- VignetteAmount: 0
- WhiteBalance: As Shot
- XMP-dc
- XMP-exif
- DateTimeDigitized: 2009:03:04 16:52:30.29+03:00
- DateTimeOriginal: 2009:03:04 16:52:30.29+03:00
- FlashFired: True
- FlashFunction: False
- FlashMode: On
- FlashRedEyeMode: False
- FlashReturn: No return detection
- XMP-tiff
- XMP-xmp
- CreateDate: 2009:03:05 01:07:56+03:00
- ModifyDate: 2009:03:05 01:07:56+03:00
- Rating: 0
- XMP-xmpMM
- DerivedFrom:
- Просмотров: 548
- Рейтинг: голосов еще нет
- Отзывов: 0