- Раздел: Другое, разное
- Дата съёмки: 08.03.2009 22:29
- Дата загрузки фото: 08.03.2009 23:38
- Оригинальная фотография: 1999 x 1841 (1,4 Мб)
- Технические характеристики:
- Фотоаппарат: Nikon D40
- Выдержка: 1/400
- Гиперфокальное расстояние: 3,56 m
- Диафрагма: 11,0
- Светочувствительность: 200
- Фокусное расстояние: 28,0 mm (35 mm equivalent: 42,0 mm)
- Полный EXIF
- Composite
- Aperture: 11,0
- CircleOfConfusion: 0,020 mm
- FOV: 46,0 deg
- FocalLength35efl: 28,0 mm (35 mm equivalent: 42,0 mm)
- HyperfocalDistance: 3,56 m
- ScaleFactor35efl: 1,5
- ShutterSpeed: 1/400
- ExifIFD
- ApertureValue: 11,0
- CFAPattern: [Blue,Green][Green,Red]
- ColorSpace: Unknown (0)
- Contrast: Normal
- CreateDate: 2009:03:08 13:55:02
- CustomRendered: Normal
- DateTimeOriginal: 2009:03:08 13:55:02
- DigitalZoomRatio: 1
- ExifImageHeight: 1841
- ExifImageWidth: 1999
- ExposureCompensation: 0
- ExposureMode: Auto
- ExposureProgram: Not Defined
- ExposureTime: 1/400
- FNumber: 11,0
- Flash: Off
- FocalLength: 28,0 mm
- FocalLengthIn35mmFormat: 42 mm
- GainControl: None
- ISO: 200
- LightSource: Unknown
- MaxApertureValue: 2,8
- MeteringMode: Multi-segment
- Saturation: Normal
- SceneCaptureType: Landscape
- SceneType: Directly photographed
- SensingMethod: One-chip color area
- Sharpness: Hard
- ShutterSpeedValue: 1/400
- SubjectDistanceRange: Unknown
- WhiteBalance: Auto
- ICC-header
- IFD0
- Make: NIKON CORPORATION
- Model: NIKON D40
- ModifyDate: 2009:03:08 22:33:06
- Orientation: Horizontal (normal)
- Software: ACD Systems Digital Imaging
- IFD1
- IPTC
- XMP-aux
- ImageNumber: 14411
- Lens: 28.0-75.0 mm f/2.8
- LensInfo: 280/10 750/10 28/10 28/10
- XMP-crs
- AlreadyApplied: True
- BlueHue: 0
- BlueSaturation: 0
- Brightness: +4
- CameraProfile: ACR 3.7
- ChromaticAberrationB: 0
- ChromaticAberrationR: 0
- ColorNoiseReduction: 25
- Contrast: +41
- ConvertToGrayscale: False
- Exposure: -0.05
- FillLight: 48
- GreenHue: 0
- GreenSaturation: 0
- HasCrop: False
- HasSettings: True
- HighlightRecovery: 0
- HueAdjustmentAqua: 0
- HueAdjustmentBlue: 0
- HueAdjustmentGreen: 0
- HueAdjustmentMagenta: 0
- HueAdjustmentOrange: 0
- HueAdjustmentPurple: 0
- HueAdjustmentRed: 0
- HueAdjustmentYellow: 0
- LuminanceAdjustmentAqua: 0
- LuminanceAdjustmentBlue: 0
- LuminanceAdjustmentGreen: 0
- LuminanceAdjustmentMagenta: 0
- LuminanceAdjustmentOrange: 0
- LuminanceAdjustmentPurple: 0
- LuminanceAdjustmentRed: 0
- LuminanceAdjustmentYellow: 0
- LuminanceSmoothing: 0
- ParametricDarks: 0
- ParametricHighlightSplit: 75
- ParametricHighlights: 0
- ParametricLights: 0
- ParametricMidtoneSplit: 50
- ParametricShadowSplit: 25
- ParametricShadows: 0
- RawFileName: DSC_8188.NEF
- RedHue: 0
- RedSaturation: 0
- Saturation: +16
- SaturationAdjustmentAqua: 0
- SaturationAdjustmentBlue: 0
- SaturationAdjustmentGreen: 0
- SaturationAdjustmentMagenta: 0
- SaturationAdjustmentOrange: 0
- SaturationAdjustmentPurple: 0
- SaturationAdjustmentRed: 0
- SaturationAdjustmentYellow: 0
- ShadowTint: 0
- Shadows: 11
- Sharpness: 25
- SplitToningBalance: 0
- SplitToningHighlightHue: 0
- SplitToningHighlightSaturation: 0
- SplitToningShadowHue: 0
- SplitToningShadowSaturation: 0
- Temperature: 5050
- Tint: -8
- ToneCurve: 0, 0, 32, 22, 64, 56, 128, 128, 192, 196, 255, 255
- ToneCurveName: Medium Contrast
- Version: 4.0
- Vibrance: +15
- VignetteAmount: 0
- WhiteBalance: Custom
- XMP-dc
- XMP-exif
- DateTimeDigitized: 2009:03:08 13:55:02.30+2:00
- DateTimeOriginal: 2009:03:08 13:55:02.30+2:00
- ExifImageHeight: 3008
- ExifImageWidth: 2000
- ExposureProgram: Unknown (0)
- FlashFired: False
- FlashFunction: False
- FlashMode: Off
- FlashRedEyeMode: False
- FlashReturn: No return detection
- FocalLengthIn35mmFormat: 42
- XMP-tiff
- XMP-xmp
- CreateDate: 2009:03:08 22:29:41+02:00
- ModifyDate: 2009:03:08 22:29:41.0+2:00
- Rating: 0
- XMP-xmpMM
- Просмотров: 214
- Рейтинг: голосов еще нет
- Отзывов: 0