- Раздел: Портрет
- Дата съёмки: 12.03.2009 19:38
- Дата загрузки фото: 13.03.2009 17:17
- Оригинальная фотография: 750 x 1000 (593 Кб)
- Технические характеристики:
- Фотоаппарат: Canon EOS 40D
- Выдержка: 1/320
- Гиперфокальное расстояние: 1371,59 m
- Диафрагма: 4,0
- Светочувствительность: 800
- Фокусное расстояние: 165,0 mm (35 mm equivalent: 999,1 mm)
- Полный EXIF
- Adobe
- ColorTransform: YCbCr
- Composite
- Aperture: 4,0
- CircleOfConfusion: 0,005 mm
- FOV: 2,0 deg
- FocalLength35efl: 165,0 mm (35 mm equivalent: 999,1 mm)
- HyperfocalDistance: 1371,59 m
- ScaleFactor35efl: 6,1
- ShutterSpeed: 1/320
- ExifIFD
- ApertureValue: 4,0
- CreateDate: 2009:03:12 19:38:29
- CustomRendered: Normal
- DateTimeOriginal: 2009:03:12 19:38:29
- ExposureCompensation: 0
- ExposureMode: Auto
- ExposureProgram: Aperture-priority AE
- ExposureTime: 1/320
- FNumber: 4,0
- Flash: Off
- FocalLength: 165,0 mm
- ISO: 800
- MaxApertureValue: 4,0
- MeteringMode: Center-weighted average
- SceneCaptureType: Standard
- ShutterSpeedValue: 1/320
- WhiteBalance: Auto
- ICC-header
- ICC-meas
- ICC-view
- IFD0
- Make: Canon
- Model: Canon EOS 40D
- ModifyDate: 2009:03:13 14:51:31
- IFD1
- XMP-aux
- Firmware: 1.1.1
- FlashCompensation: 0
- ImageNumber: 0
- Lens: EF70-200mm f/4L IS USM
- LensInfo: 70/1 200/1 0/0 0/0
- SerialNumber: 1030526517
- XMP-crs
- AlreadyApplied: True
- BlueHue: 0
- BlueSaturation: 0
- Brightness: +15
- ChromaticAberrationB: 0
- ChromaticAberrationR: 0
- Clarity: 0
- ColorNoiseReduction: 25
- Contrast: +50
- ConvertToGrayscale: False
- CropAngle: 0
- CropBottom: 1
- CropHeight: 1000
- CropLeft: 0.332229
- CropRight: 0.797798
- CropTop: 0.068862
- CropUnit: 0
- CropWidth: 750
- Defringe: 0
- Exposure: +1.05
- FillLight: 10
- GreenHue: 0
- GreenSaturation: 0
- HasCrop: True
- HasSettings: True
- HighlightRecovery: 0
- HueAdjustmentAqua: 0
- HueAdjustmentBlue: 0
- HueAdjustmentGreen: 0
- HueAdjustmentMagenta: 0
- HueAdjustmentOrange: 0
- HueAdjustmentPurple: 0
- HueAdjustmentRed: 0
- HueAdjustmentYellow: 0
- LuminanceAdjustmentAqua: 0
- LuminanceAdjustmentBlue: 0
- LuminanceAdjustmentGreen: 0
- LuminanceAdjustmentMagenta: 0
- LuminanceAdjustmentOrange: 0
- LuminanceAdjustmentPurple: 0
- LuminanceAdjustmentRed: 0
- LuminanceAdjustmentYellow: 0
- LuminanceSmoothing: 49
- ParametricDarks: 0
- ParametricHighlightSplit: 75
- ParametricHighlights: 0
- ParametricLights: 0
- ParametricMidtoneSplit: 50
- ParametricShadowSplit: 25
- ParametricShadows: 0
- PostCropVignetteAmount: 0
- RedHue: 0
- RedSaturation: 0
- Saturation: 0
- SaturationAdjustmentAqua: 0
- SaturationAdjustmentBlue: 0
- SaturationAdjustmentGreen: 0
- SaturationAdjustmentMagenta: 0
- SaturationAdjustmentOrange: 0
- SaturationAdjustmentPurple: 0
- SaturationAdjustmentRed: 0
- SaturationAdjustmentYellow: 0
- ShadowTint: 0
- Shadows: 5
- SharpenDetail: 25
- SharpenEdgeMasking: 0
- SharpenRadius: +1.0
- Sharpness: 25
- SplitToningBalance: 0
- SplitToningHighlightHue: 0
- SplitToningHighlightSaturation: 0
- SplitToningShadowHue: 0
- SplitToningShadowSaturation: 0
- Temperature: 3548
- Tint: 0
- ToneCurve: 0, 0, 32, 22, 64, 56, 128, 128, 192, 196, 255, 255
- ToneCurveName: Medium Contrast
- Version: 5.3
- Vibrance: 0
- VignetteAmount: 0
- WhiteBalance: Custom
- XMP-exif
- DateTimeDigitized: 2009:03:12 19:38:29.92+02:00
- DateTimeOriginal: 2009:03:12 19:38:29.92+02:00
- ExifImageHeight: 1000
- ExifImageWidth: 750
- FlashFired: False
- FlashFunction: False
- FlashMode: Off
- FlashRedEyeMode: False
- FlashReturn: No return detection
- XMP-tiff
- ImageHeight: 1000
- ImageWidth: 750
- XMP-xmp
- CreateDate: 2009:03:12 19:38:29.92+02:00
- ModifyDate: 2009:03:13 14:51:31+02:00