- Раздел: Город
- Дата съёмки: 02.03.2009 15:01
- Дата загрузки фото: 21.03.2009 13:35
- Оригинальная фотография: 487 x 730 (230 Кб)
- Технические характеристики:
- Фотоаппарат: Canon EOS 5D Mark II
- Выдержка: 1/1000
- Гиперфокальное расстояние: 109,94 m
- Диафрагма: 2,8
- Светочувствительность: 50
- Фокусное расстояние: 35,0 mm (35 mm equivalent: 264,3 mm)
- Полный EXIF
- Adobe
- ColorTransform: YCbCr
- Composite
- Aperture: 2,8
- CircleOfConfusion: 0,004 mm
- FOV: 7,0 deg
- FocalLength35efl: 35,0 mm (35 mm equivalent: 264,3 mm)
- HyperfocalDistance: 109,94 m
- ScaleFactor35efl: 7,6
- ShutterSpeed: 1/1000
- ExifIFD
- ApertureValue: 2,8
- CreateDate: 2009:03:02 15:01:40
- CustomRendered: Normal
- DateTimeOriginal: 2009:03:02 15:01:40
- ExposureCompensation: 0
- ExposureMode: Manual
- ExposureProgram: Manual
- ExposureTime: 1/1000
- FNumber: 2,8
- Flash: Off
- FocalLength: 35,0 mm
- ISO: 50
- MaxApertureValue: 1,4
- MeteringMode: Center-weighted average
- SceneCaptureType: Standard
- ShutterSpeedValue: 1/1000
- WhiteBalance: Manual
- ICC-header
- ICC-meas
- ICC-view
- IFD0
- Make: Canon
- Model: Canon EOS 5D Mark II
- ModifyDate: 2009:03:21 09:06:27
- IFD1
- XMP-aux
- Firmware: 1.0.7
- FlashCompensation: 0
- ImageNumber: 0
- Lens: EF35mm f/1.4L USM
- LensInfo: 35/1 35/1 0/0 0/0
- SerialNumber: 330229110
- XMP-crs
- AlreadyApplied: True
- BlueHue: -100
- BlueSaturation: +100
- Brightness: +50
- ChromaticAberrationB: 0
- ChromaticAberrationR: 0
- Clarity: 0
- ColorNoiseReduction: 25
- Contrast: +100
- ConvertToGrayscale: False
- Defringe: 2
- Exposure: 0.00
- FillLight: 63
- GreenHue: -2
- GreenSaturation: -48
- HasCrop: False
- HasSettings: True
- HighlightRecovery: 100
- HueAdjustmentAqua: 0
- HueAdjustmentBlue: 0
- HueAdjustmentGreen: 0
- HueAdjustmentMagenta: 0
- HueAdjustmentOrange: +29
- HueAdjustmentPurple: 0
- HueAdjustmentRed: +81
- HueAdjustmentYellow: +5
- LuminanceAdjustmentAqua: +100
- LuminanceAdjustmentBlue: -100
- LuminanceAdjustmentGreen: +100
- LuminanceAdjustmentMagenta: 0
- LuminanceAdjustmentOrange: +40
- LuminanceAdjustmentPurple: 0
- LuminanceAdjustmentRed: -36
- LuminanceAdjustmentYellow: 0
- LuminanceSmoothing: 15
- ParametricDarks: 0
- ParametricHighlightSplit: 75
- ParametricHighlights: 0
- ParametricLights: +39
- ParametricMidtoneSplit: 50
- ParametricShadowSplit: 25
- ParametricShadows: -21
- PostCropVignetteAmount: 0
- RedHue: +100
- RedSaturation: -50
- Saturation: +100
- SaturationAdjustmentAqua: -100
- SaturationAdjustmentBlue: -83
- SaturationAdjustmentGreen: +45
- SaturationAdjustmentMagenta: -100
- SaturationAdjustmentOrange: -74
- SaturationAdjustmentPurple: -100
- SaturationAdjustmentRed: -100
- SaturationAdjustmentYellow: +45
- ShadowTint: +100
- Shadows: 15
- SharpenDetail: 25
- SharpenEdgeMasking: 0
- SharpenRadius: +1.0
- Sharpness: 15
- SplitToningBalance: 0
- SplitToningHighlightHue: 51
- SplitToningHighlightSaturation: 29
- SplitToningShadowHue: 43
- SplitToningShadowSaturation: 5
- Temperature: 4800
- Tint: 0
- ToneCurve: 0, 0, 32, 22, 64, 56, 128, 128, 192, 196, 255, 255
- ToneCurveName: Medium Contrast
- Version: 5.3
- Vibrance: +29
- VignetteAmount: -14
- VignetteMidpoint: 64
- WhiteBalance: Custom
- XMP-exif
- DateTimeDigitized: 2009:03:02 15:01:40.46+03:00
- DateTimeOriginal: 2009:03:02 15:01:40.46+03:00
- ExifImageHeight: 730
- ExifImageWidth: 487
- FlashFired: False
- FlashFunction: False
- FlashMode: Off
- FlashRedEyeMode: False
- FlashReturn: No return detection
- XMP-tiff
- ImageHeight: 730
- ImageWidth: 487
- XMP-xmp
- CreateDate: 2009:03:02 15:01:40.46+03:00
- ModifyDate: 2009:03:21 09:06:27+03:00