- Раздел: Другое, разное
- Дата съёмки: 06.03.2008 06:19
- Дата загрузки фото: 04.04.2009 21:11
- Оригинальная фотография: 532 x 800 (395 Кб)
- Технические характеристики:
- Фотоаппарат: Nikon D40
- Выдержка: 5,0
- Гиперфокальное расстояние: 1,57 m
- Диафрагма: 25,0
- Светочувствительность: 200
- Фокусное расстояние: 28,0 mm (35 mm equivalent: 42,0 mm)
- Полный EXIF
- Adobe
- ColorTransform: YCbCr
- Composite
- Aperture: 25,0
- CircleOfConfusion: 0,020 mm
- FOV: 46,0 deg
- FocalLength35efl: 28,0 mm (35 mm equivalent: 42,0 mm)
- HyperfocalDistance: 1,57 m
- LightValue: 6,0
- ScaleFactor35efl: 1,5
- ShutterSpeed: 5,0
- ExifIFD
- ApertureValue: 25,0
- CFAPattern: [Blue,Green][Green,Red]
- ColorSpace: Uncalibrated
- Contrast: Normal
- CreateDate: 2008:03:06 06:19:50
- CustomRendered: Normal
- DateTimeOriginal: 2008:03:06 06:19:50
- DigitalZoomRatio: 1
- ExifImageHeight: 800
- ExifImageWidth: 532
- ExposureCompensation: 0
- ExposureMode: Manual
- ExposureProgram: Manual
- ExposureTime: 5,0
- FNumber: 25,0
- Flash: No Flash
- FocalLength: 28,0 mm
- FocalLengthIn35mmFormat: 42 mm
- GainControl: None
- ISO: 200
- LightSource: Unknown
- MaxApertureValue: 4,0
- MeteringMode: Multi-segment
- Saturation: Normal
- SceneCaptureType: Standard
- SceneType: Directly photographed
- SensingMethod: One-chip color area
- Sharpness: Normal
- ShutterSpeedValue: 5,0
- SubjectDistanceRange: Unknown
- WhiteBalance: Auto
- ICC-header
- IFD0
- Make: NIKON CORPORATION
- Model: NIKON D40
- ModifyDate: 2009:04:04 20:06:51
- Orientation: Horizontal (normal)
- IFD1
- IPTC
- XMP-aux
- ImageNumber: 1003
- Lens: 18.0-55.0 mm f/3.5-5.6
- LensInfo: 180/10 550/10 35/10 56/10
- XMP-crs
- AlreadyApplied: True
- BlueHue: 0
- BlueSaturation: 0
- Brightness: +50
- CameraProfile: ACR 4.4
- ChromaticAberrationB: 0
- ChromaticAberrationR: 0
- Clarity: 0
- ColorNoiseReduction: 25
- Contrast: +25
- ConvertToGrayscale: False
- Defringe: 0
- Exposure: 0.00
- FillLight: 0
- GreenHue: 0
- GreenSaturation: 0
- HasCrop: False
- HasSettings: True
- HighlightRecovery: 100
- HueAdjustmentAqua: 0
- HueAdjustmentBlue: 0
- HueAdjustmentGreen: 0
- HueAdjustmentMagenta: 0
- HueAdjustmentOrange: 0
- HueAdjustmentPurple: 0
- HueAdjustmentRed: 0
- HueAdjustmentYellow: 0
- LuminanceAdjustmentAqua: 0
- LuminanceAdjustmentBlue: 0
- LuminanceAdjustmentGreen: 0
- LuminanceAdjustmentMagenta: 0
- LuminanceAdjustmentOrange: 0
- LuminanceAdjustmentPurple: 0
- LuminanceAdjustmentRed: 0
- LuminanceAdjustmentYellow: 0
- LuminanceSmoothing: 0
- ParametricDarks: 0
- ParametricHighlightSplit: 75
- ParametricHighlights: 0
- ParametricLights: 0
- ParametricMidtoneSplit: 50
- ParametricShadowSplit: 25
- ParametricShadows: 0
- PostCropVignetteAmount: 0
- RawFileName: DSC_0088.NEF
- RedHue: 0
- RedSaturation: 0
- Saturation: 0
- SaturationAdjustmentAqua: 0
- SaturationAdjustmentBlue: 0
- SaturationAdjustmentGreen: 0
- SaturationAdjustmentMagenta: 0
- SaturationAdjustmentOrange: 0
- SaturationAdjustmentPurple: 0
- SaturationAdjustmentRed: 0
- SaturationAdjustmentYellow: 0
- ShadowTint: 0
- Shadows: 3
- SharpenDetail: 25
- SharpenEdgeMasking: 0
- SharpenRadius: +1.0
- Sharpness: 25
- SplitToningBalance: 0
- SplitToningHighlightHue: 0
- SplitToningHighlightSaturation: 0
- SplitToningShadowHue: 0
- SplitToningShadowSaturation: 0
- Temperature: 8600
- Tint: -10
- ToneCurve: 0, 0, 32, 22, 64, 56, 128, 128, 192, 196, 255, 255
- ToneCurveName: Medium Contrast
- Version: 5.0
- Vibrance: 0
- VignetteAmount: 0
- WhiteBalance: Custom
- XMP-dc
- XMP-exif
- DateTimeDigitized: 2008:03:06 06:19:50.90+02:00
- DateTimeOriginal: 2008:03:06 06:19:50.90+02:00
- FlashFired: False
- FlashFunction: False
- FlashMode: Unknown
- FlashRedEyeMode: False
- FlashReturn: No return detection
- XMP-tiff
- ImageHeight: 3008
- ImageWidth: 2000
- XMP-xmp
- CreateDate: 2008:03:06 06:19:50.90+02:00
- CreatorTool: Ver.1.11
- ModifyDate: 2009:04:04 20:06:51+03:00
- Rating: 0
- XMP-xmpMM
- Просмотров: 272
- Рейтинг: голосов еще нет
- Отзывов: 0