- Раздел: Путешествия
- Дата съёмки: 10.10.2008 21:08
- Дата загрузки фото: 05.04.2009 08:09
- Оригинальная фотография: 1092 x 728 (1000 Кб)
- Технические характеристики:
- Фотоаппарат: Canon EOS 5D
- Выдержка: 1/60
- Гиперфокальное расстояние: 41,69 m
- Диафрагма: 8,0
- Светочувствительность: 100
- Фокусное расстояние: 50,0 mm (35 mm equivalent: 200,4 mm)
- Экспокоррекция: -2/3
- Полный EXIF
- Adobe
- ColorTransform: YCbCr
- Composite
- Aperture: 8,0
- CircleOfConfusion: 0,007 mm
- FOV: 10,0 deg
- FocalLength35efl: 50,0 mm (35 mm equivalent: 200,4 mm)
- HyperfocalDistance: 41,69 m
- ScaleFactor35efl: 4,0
- ShutterSpeed: 1/60
- ExifIFD
- ApertureValue: 8,0
- ColorSpace: sRGB
- CreateDate: 2008:09:24 13:22:43
- CustomRendered: Normal
- DateTimeOriginal: 2008:09:24 13:22:43
- ExifImageHeight: 728
- ExifImageWidth: 1092
- ExposureCompensation: -2/3
- ExposureMode: Auto
- ExposureProgram: Aperture-priority AE
- ExposureTime: 1/60
- FNumber: 8,0
- Flash: Off
- FocalLength: 50,0 mm
- ISO: 100
- MaxApertureValue: 1,4
- MeteringMode: Spot
- SceneCaptureType: Standard
- ShutterSpeedValue: 1/60
- WhiteBalance: Auto
- ICC-header
- ICC-meas
- ICC-view
- IFD0
- Make: Canon
- Model: Canon EOS 5D
- ModifyDate: 2008:10:10 21:08:32
- Orientation: Horizontal (normal)
- IFD1
- IPTC
- XMP-aux
- Firmware: 1.1.1
- FlashCompensation: 0
- ImageNumber: 19
- Lens: EF50mm f/1.4 USM
- LensInfo: 50/1 50/1 0/0 0/0
- SerialNumber: 3231303002
- XMP-crs
- AlreadyApplied: True
- BlueHue: 0
- BlueSaturation: 0
- Brightness: +32
- CameraProfile: ACR 4.4
- ChromaticAberrationB: 0
- ChromaticAberrationR: 0
- Clarity: +10
- ColorNoiseReduction: 25
- Contrast: +43
- ConvertToGrayscale: False
- Defringe: 0
- Exposure: +0.30
- FillLight: 29
- GreenHue: 0
- GreenSaturation: 0
- HasCrop: False
- HasSettings: True
- HighlightRecovery: 0
- HueAdjustmentAqua: 0
- HueAdjustmentBlue: 0
- HueAdjustmentGreen: 0
- HueAdjustmentMagenta: 0
- HueAdjustmentOrange: 0
- HueAdjustmentPurple: 0
- HueAdjustmentRed: 0
- HueAdjustmentYellow: 0
- LuminanceAdjustmentAqua: 0
- LuminanceAdjustmentBlue: 0
- LuminanceAdjustmentGreen: 0
- LuminanceAdjustmentMagenta: 0
- LuminanceAdjustmentOrange: 0
- LuminanceAdjustmentPurple: 0
- LuminanceAdjustmentRed: 0
- LuminanceAdjustmentYellow: 0
- LuminanceSmoothing: 0
- ParametricDarks: 0
- ParametricHighlightSplit: 75
- ParametricHighlights: 0
- ParametricLights: 0
- ParametricMidtoneSplit: 50
- ParametricShadowSplit: 25
- ParametricShadows: 0
- PostCropVignetteAmount: 0
- RawFileName: IMG_0841.CR2
- RedHue: 0
- RedSaturation: 0
- Saturation: +21
- SaturationAdjustmentAqua: 0
- SaturationAdjustmentBlue: 0
- SaturationAdjustmentGreen: 0
- SaturationAdjustmentMagenta: 0
- SaturationAdjustmentOrange: 0
- SaturationAdjustmentPurple: 0
- SaturationAdjustmentRed: 0
- SaturationAdjustmentYellow: 0
- ShadowTint: 0
- Shadows: 4
- SharpenDetail: 25
- SharpenEdgeMasking: 0
- SharpenRadius: +1.0
- Sharpness: 25
- SplitToningBalance: 0
- SplitToningHighlightHue: 0
- SplitToningHighlightSaturation: 0
- SplitToningShadowHue: 0
- SplitToningShadowSaturation: 0
- Temperature: 5000
- Tint: -2
- ToneCurve: 0, 0, 32, 22, 64, 56, 128, 128, 192, 196, 255, 255
- ToneCurveName: Medium Contrast
- Version: 4.5
- Vibrance: +9
- VignetteAmount: 0
- WhiteBalance: Custom
- XMP-dc
- XMP-exif
- DateTimeDigitized: 2008:09:24 13:22:43+04:00
- DateTimeOriginal: 2008:09:24 13:22:43+04:00
- FlashFired: False
- FlashFunction: False
- FlashMode: Off
- FlashRedEyeMode: False
- FlashReturn: No return detection
- XMP-tiff
- ImageHeight: 2912
- ImageWidth: 4368
- XMP-xmp
- CreateDate: 2008:10:10 21:08:32+04:00
- ModifyDate: 2008:10:10 21:08:32+04:00
- XMP-xmpMM
- DerivedFrom:
- Просмотров: 199
- Рейтинг: голосов еще нет
- Отзывов: 0