| » Участники » raimon » Пейзажи » 2009-05-16 20-25-03 В лесу. |
Уважаемые друзья и участники проекта iXBT.photo! К сожалению, 1 марта 2026 года проект iXBT.photo прекратит свою работу и будет закрыт. Мы высоко ценим ваше участие и тот вклад, который вы внесли в развитие нашего сообщества. Пожалуйста, не забудьте сохранить ваши фотографии до этой даты.
С уважением, команда iXBT.com
| 2009-05-16 20-25-03 В лесу. |
2009-05-16 20-25-03 В лесу.
- Раздел: Пейзаж
- Дата съёмки: 16.05.2009 20:25
- Дата загрузки фото: 14.06.2009 11:31
- Оригинальная фотография: 1024 x 1024 (406 Кб)
- Технические характеристики:
- Фотоаппарат: Canon EOS 450D
- Выдержка: 1/25
- Гиперфокальное расстояние: 9,81 m
- Диафрагма: 6,3
- Светочувствительность: 320
- Фокусное расстояние: 18,0 mm (35 mm equivalent: 103,1 mm)
- Полный EXIF
- Adobe
- ColorTransform: YCbCr
- Composite
- Aperture: 6,3
- CircleOfConfusion: 0,005 mm
- FOV: 19,0 deg
- FocalLength35efl: 18,0 mm (35 mm equivalent: 103,1 mm)
- GPSDateTime: 2009:05:16 16:25:03
- GPSLatitude: 60 deg 36' 24,00" N
- GPSLatitudeRef: North
- GPSLongitude: 29 deg 21' 29,00" E
- GPSLongitudeRef: East
- GPSPosition: 60 deg 36' 24,00" N, 29 deg 21' 29,00" E
- HyperfocalDistance: 9,81 m
- ScaleFactor35efl: 5,7
- ShutterSpeed: 1/25
- ExifIFD
- ApertureValue: 6,3
- ColorSpace: sRGB
- CreateDate: 2009:05:16 20:25:03
- CustomRendered: Normal
- DateTimeOriginal: 2009:05:16 20:25:03
- ExifImageHeight: 1024
- ExifImageWidth: 1024
- ExposureCompensation: 0
- ExposureMode: Auto
- ExposureProgram: Aperture-priority AE
- ExposureTime: 1/25
- FNumber: 6,3
- Flash: Off
- FocalLength: 18,0 mm
- ISO: 320
- MaxApertureValue: 3,5
- MeteringMode: Multi-segment
- SceneCaptureType: Standard
- ShutterSpeedValue: 1/25
- WhiteBalance: Auto
- GPS
- GPSAltitude: 20,82 m
- GPSAltitudeRef: Above Sea Level
- GPSDateStamp: 2009:05:16
- GPSLatitude: 60 deg 36' 24,00"
- GPSLongitude: 29 deg 21' 29,00"
- GPSMapDatum: WGS-84
- GPSTimeStamp: 16:25:03
- GPSVersionID: 2.2.0.0
- ICC-header
- ICC-meas
- ICC-view
- IFD0
- Artist: Roman Alexandrov
- BitsPerSample: 16 16 16
- ImageHeight: 4272
- ImageWidth: 2848
- Make: Canon
- Model: Canon EOS 450D
- ModifyDate: 2009:06:04 00:17:09
- Orientation: Horizontal (normal)
- PhotometricInterpretation: RGB
- PlanarConfiguration: Chunky
- SamplesPerPixel: 3
- IFD1
- IPTC
- By-line: Roman Alexandrov
- City: Iskra
- Country-PrimaryLocationName: ??????
- Province-State: RU.42
- XMP-aux
- Firmware: 1.1.0
- FlashCompensation: 0
- ImageNumber: 0
- Lens: 18-200mm
- LensInfo: 18/1 200/1 0/0 0/0
- OwnerName: Roman Alexandrov
- SerialNumber: 530105153
- XMP-crs
- AlreadyApplied: True
- BlueHue: 0
- BlueSaturation: 0
- Brightness: +50
- CameraProfile: Camera Neutral
- ChromaticAberrationB: 0
- ChromaticAberrationR: -31
- Clarity: 0
- ColorNoiseReduction: 30
- Contrast: +28
- ConvertToGrayscale: False
- Defringe: 2
- Exposure: 0.00
- FillLight: 0
- GreenHue: 0
- GreenSaturation: 0
- HasCrop: False
- HasSettings: True
- HighlightRecovery: 100
- HueAdjustmentAqua: 0
- HueAdjustmentBlue: 0
- HueAdjustmentGreen: 0
- HueAdjustmentMagenta: 0
- HueAdjustmentOrange: 0
- HueAdjustmentPurple: 0
- HueAdjustmentRed: 0
- HueAdjustmentYellow: 0
- LuminanceAdjustmentAqua: 0
- LuminanceAdjustmentBlue: -53
- LuminanceAdjustmentGreen: 0
- LuminanceAdjustmentMagenta: 0
- LuminanceAdjustmentOrange: 0
- LuminanceAdjustmentPurple: 0
- LuminanceAdjustmentRed: 0
- LuminanceAdjustmentYellow: 0
- LuminanceSmoothing: 8
- ParametricDarks: 0
- ParametricHighlightSplit: 75
- ParametricHighlights: 0
- ParametricLights: 0
- ParametricMidtoneSplit: 50
- ParametricShadowSplit: 25
- ParametricShadows: 0
- PostCropVignetteAmount: 0
- RawFileName: 2009-05-16 20-25-03.CR2
- RedHue: 0
- RedSaturation: 0
- Saturation: 0
- SaturationAdjustmentAqua: 0
- SaturationAdjustmentBlue: 0
- SaturationAdjustmentGreen: 0
- SaturationAdjustmentMagenta: 0
- SaturationAdjustmentOrange: 0
- SaturationAdjustmentPurple: 0
- SaturationAdjustmentRed: 0
- SaturationAdjustmentYellow: 0
- ShadowTint: 0
- Shadows: 5
- SharpenDetail: 25
- SharpenEdgeMasking: 0
- SharpenRadius: +1.0
- Sharpness: 30
- SplitToningBalance: 0
- SplitToningHighlightHue: 0
- SplitToningHighlightSaturation: 0
- SplitToningShadowHue: 0
- SplitToningShadowSaturation: 0
- Temperature: 5050
- Tint: +24
- ToneCurve: 0, 0, 32, 22, 64, 56, 128, 128, 192, 196, 255, 255
- ToneCurveName: Medium Contrast
- Version: 5.3
- Vibrance: 0
- VignetteAmount: +13
- VignetteMidpoint: 50
- XMP-dc
- Creator: Roman Alexandrov
- Format: image/jpeg
- XMP-exif
- DateTimeDigitized: 2009:05:16 20:25:03.04+04:00
- DateTimeOriginal: 2009:05:16 20:25:03.04+04:00
- FlashFired: False
- FlashFunction: False
- FlashMode: Off
- FlashRedEyeMode: False
- FlashReturn: No return detection
- GPSDateTime: 2009:05:16 16:25:03Z
- GPSLatitude: 60 deg 36' 24,20" N
- GPSLongitude: 29 deg 21' 29,04" E
- XMP-tiff
- BitsPerSample: 8, 8, 8
- ImageHeight: 1024
- ImageWidth: 1024
- XMP-xmp
- CreateDate: 2009:05:16 20:25:03.04+04:00
- ModifyDate: 2009:06:04 00:17:09+04:00
- Rating: 0
- XMP-xmpMM
Получить код для блога
| Вставка фотографии в текущем разрешении |
Вставка миниатюры |
HTML (для вставки в блог):
BBCode (для вставки в форум):
Ссылка на фото:
Ссылка на миниатюру:
- Послать ссылку другу
| Комментарии к фотографии |