| » Участники » raimon » Пейзажи » Пирс. (Восход на большом Раковом). |
Уважаемые друзья и участники проекта iXBT.photo! К сожалению, 1 марта 2026 года проект iXBT.photo прекратит свою работу и будет закрыт. Мы высоко ценим ваше участие и тот вклад, который вы внесли в развитие нашего сообщества. Пожалуйста, не забудьте сохранить ваши фотографии до этой даты.
С уважением, команда iXBT.com
| Пирс. (Восход на большом Раковом). |
Пирс. (Восход на большом Раковом).
- Раздел: Пейзаж
- Дата съёмки: 16.05.2009 05:35
- Дата загрузки фото: 28.06.2009 00:31
- Оригинальная фотография: 1280 x 841 (402 Кб)
- Технические характеристики:
- Фотоаппарат: Canon EOS 450D
- Выдержка: 1/200
- Гиперфокальное расстояние: 27,60 m
- Диафрагма: 8,0
- Светочувствительность: 200
- Фокусное расстояние: 35,0 mm (35 mm equivalent: 189,5 mm)
- Экспокоррекция: +1
- Полный EXIF
- Adobe
- ColorTransform: YCbCr
- Composite
- Aperture: 8,0
- CircleOfConfusion: 0,006 mm
- FOV: 10,0 deg
- FocalLength35efl: 35,0 mm (35 mm equivalent: 189,5 mm)
- GPSDateTime: 2009:05:16 01:35:09
- GPSLatitude: 60 deg 36' 47,00" N
- GPSLatitudeRef: North
- GPSLongitude: 29 deg 20' 36,00" E
- GPSLongitudeRef: East
- GPSPosition: 60 deg 36' 47,00" N, 29 deg 20' 36,00" E
- HyperfocalDistance: 27,60 m
- ScaleFactor35efl: 5,4
- ShutterSpeed: 1/200
- ExifIFD
- ApertureValue: 8,0
- ColorSpace: sRGB
- CreateDate: 2009:05:16 05:35:09
- CustomRendered: Normal
- DateTimeOriginal: 2009:05:16 05:35:09
- ExifImageHeight: 841
- ExifImageWidth: 1280
- ExposureCompensation: +1
- ExposureMode: Auto bracket
- ExposureProgram: Aperture-priority AE
- ExposureTime: 1/200
- FNumber: 8,0
- Flash: Off
- FocalLength: 35,0 mm
- ISO: 200
- MaxApertureValue: 4,4
- MeteringMode: Spot
- SceneCaptureType: Standard
- ShutterSpeedValue: 1/200
- TimeZoneOffset: 4
- WhiteBalance: Auto
- GPS
- GPSAltitude: 2 m
- GPSAltitudeRef: Above Sea Level
- GPSDateStamp: 2009:05:16
- GPSLatitude: 60 deg 36' 47,00"
- GPSLongitude: 29 deg 20' 36,00"
- GPSMapDatum: WGS-84
- GPSSatellites: 0
- GPSSpeed: 0,3361110004
- GPSSpeedRef: km/h
- GPSTimeStamp: 01:35:09
- GPSVersionID: 2.2.0.0
- ICC-header
- ICC-meas
- ICC-view
- IFD0
- Artist: Roman Alexandrov
- Make: Canon
- Model: Canon EOS 450D
- ModifyDate: 2009:05:16 05:35:09
- Orientation: Horizontal (normal)
- IFD1
- IPTC
- By-line: Roman Alexandrov
- By-lineTitle: *
- Country-PrimaryLocationCode: RUS
- Country-PrimaryLocationName: Россия
- DateCreated: 2009:05:16
- Province-State: Leningrad
- ReleaseDate: 2009:06:28
- ReleaseTime: 00:11:44+04:00
- Source:
- Sub-location: Iskra
- XMP-acdsee
- ReleaseDate: 20090628
- ReleaseTime: 001144+0400
- XMP-aux
- Firmware: 1.1.0
- FlashCompensation: 0
- ImageNumber: 0
- Lens: 18-200mm
- LensInfo: 18/1 200/1 0/0 0/0
- OwnerName: Roman Alexandrov
- SerialNumber: 530105153
- XMP-crs
- AlreadyApplied: True
- BlueHue: 0
- BlueSaturation: 0
- Brightness: +50
- CameraProfile: Camera Landscape
- ChromaticAberrationB: 0
- ChromaticAberrationR: -29
- Clarity: 0
- ColorNoiseReduction: 53
- Contrast: +25
- ConvertToGrayscale: False
- Defringe: 2
- Exposure: 0.00
- FillLight: 0
- GreenHue: 0
- GreenSaturation: 0
- HasCrop: False
- HasSettings: True
- HighlightRecovery: 0
- HueAdjustmentAqua: 0
- HueAdjustmentBlue: 0
- HueAdjustmentGreen: 0
- HueAdjustmentMagenta: 0
- HueAdjustmentOrange: 0
- HueAdjustmentPurple: 0
- HueAdjustmentRed: 0
- HueAdjustmentYellow: 0
- LuminanceAdjustmentAqua: 0
- LuminanceAdjustmentBlue: 0
- LuminanceAdjustmentGreen: 0
- LuminanceAdjustmentMagenta: 0
- LuminanceAdjustmentOrange: 0
- LuminanceAdjustmentPurple: 0
- LuminanceAdjustmentRed: 0
- LuminanceAdjustmentYellow: 0
- LuminanceSmoothing: 26
- ParametricDarks: 0
- ParametricHighlightSplit: 75
- ParametricHighlights: 0
- ParametricLights: 0
- ParametricMidtoneSplit: 50
- ParametricShadowSplit: 25
- ParametricShadows: 0
- PostCropVignetteAmount: 0
- RawFileName: 2009-05-16 05-35-09.CR2
- RedHue: 0
- RedSaturation: 0
- Saturation: 0
- SaturationAdjustmentAqua: 0
- SaturationAdjustmentBlue: 0
- SaturationAdjustmentGreen: 0
- SaturationAdjustmentMagenta: 0
- SaturationAdjustmentOrange: 0
- SaturationAdjustmentPurple: 0
- SaturationAdjustmentRed: 0
- SaturationAdjustmentYellow: 0
- ShadowTint: 0
- Shadows: 5
- SharpenDetail: 25
- SharpenEdgeMasking: 0
- SharpenRadius: +1.0
- Sharpness: 25
- SplitToningBalance: 0
- SplitToningHighlightHue: 0
- SplitToningHighlightSaturation: 0
- SplitToningShadowHue: 0
- SplitToningShadowSaturation: 0
- Temperature: 5500
- Tint: +10
- ToneCurve: 0, 0, 32, 22, 64, 56, 128, 128, 192, 196, 255, 255
- ToneCurveName: Medium Contrast
- Version: 5.3
- Vibrance: +18
- VignetteAmount: 0
- WhiteBalance: Daylight
- XMP-dc
- Creator: Roman Alexandrov
- Format: image/jpeg
- Rights:
- XMP-exif
- DateTimeDigitized: 2009:05:16 05:35:09+04:00
- DateTimeOriginal: 2009:05:16 05:35:09+04:00
- FlashFired: False
- FlashFunction: False
- FlashMode: Off
- FlashRedEyeMode: False
- FlashReturn: No return detection
- GPSDateTime: 2009:05:16 01:35:09Z
- GPSLatitude: 60 deg 36' 47,75" N
- GPSLongitude: 29 deg 20' 36,39" E
- GPSSpeed: 0,336111000358837
- XMP-iptcCore
- CountryCode: RUS
- Location: Iskra
- XMP-tiff
- BitsPerSample: 8, 8, 8
- ImageHeight: 841
- ImageWidth: 1280
- PhotometricInterpretation: RGB
- PlanarConfiguration: Chunky
- SamplesPerPixel: 3
- XMP-xmp
- CreateDate: 2009:05:16 05:35:09.03+04:00
- ModifyDate: 2009:05:16 05:35:09+04:00
- XMP-xmpMM
Получить код для блога
| Вставка фотографии в текущем разрешении |
Вставка миниатюры |
HTML (для вставки в блог):
BBCode (для вставки в форум):
Ссылка на фото:
Ссылка на миниатюру:
- Послать ссылку другу
| Комментарии к фотографии |