- Раздел: Портрет
- Дата съёмки: 28.06.2009 17:30
- Дата загрузки фото: 30.06.2009 14:23
- Оригинальная фотография: 532 x 800 (264 Кб)
- Технические характеристики:
- Фотоаппарат: Nikon D40
- Выдержка: 1/250
- Гиперфокальное расстояние: 195,95 m
- Диафрагма: 2,8
- Светочувствительность: 200
- Фокусное расстояние: 105,0 mm (35 mm equivalent: 157,0 mm)
- Полный EXIF
- Adobe
- ColorTransform: YCbCr
- Composite
- Aperture: 2,8
- CircleOfConfusion: 0,020 mm
- FOV: 13,0 deg
- FocalLength35efl: 105,0 mm (35 mm equivalent: 157,0 mm)
- HyperfocalDistance: 195,95 m
- ScaleFactor35efl: 1,5
- ShutterSpeed: 1/250
- ExifIFD
- ApertureValue: 2,8
- CFAPattern: [Blue,Green][Green,Red]
- ColorSpace: sRGB
- Contrast: Low
- CreateDate: 2009:06:28 10:00:27
- CustomRendered: Normal
- DateTimeOriginal: 2009:06:28 10:00:27
- DigitalZoomRatio: 1
- ExifImageHeight: 800
- ExifImageWidth: 532
- ExposureCompensation: 0
- ExposureMode: Manual
- ExposureProgram: Manual
- ExposureTime: 1/250
- FNumber: 2,8
- Flash: Auto, Fired, Return not detected
- FocalLength: 105,0 mm
- FocalLengthIn35mmFormat: 157 mm
- GainControl: None
- ISO: 200
- LightSource: Unknown
- MaxApertureValue: 2,8
- MeteringMode: Spot
- Saturation: Normal
- SceneCaptureType: Standard
- SceneType: Directly photographed
- SensingMethod: One-chip color area
- Sharpness: Normal
- ShutterSpeedValue: 1/250
- SubjectDistanceRange: Unknown
- UserComment: Ghost_stone@mail.ru
- WhiteBalance: Auto
- ICC-header
- ICC-meas
- ICC-view
- IFD0
- Make: NIKON CORPORATION
- Model: NIKON D40
- ModifyDate: 2009:06:28 17:30:44
- Orientation: Horizontal (normal)
- IFD1
- IPTC
- XMP-aux
- ImageNumber: 23950
- Lens: 105.0 mm f/2.8
- LensInfo: 1050/10 1050/10 28/10 28/10
- SerialNumber: 6171764
- XMP-crs
- AlreadyApplied: True
- BlueHue: 0
- BlueSaturation: 0
- Brightness: +50
- CameraProfile: ACR 4.4
- ChromaticAberrationB: 0
- ChromaticAberrationR: 0
- Clarity: +18
- ColorNoiseReduction: 25
- Contrast: +25
- ConvertToGrayscale: False
- Defringe: 0
- Exposure: -0.25
- FillLight: 0
- GreenHue: 0
- GreenSaturation: 0
- HasCrop: False
- HasSettings: True
- HighlightRecovery: 0
- HueAdjustmentAqua: +100
- HueAdjustmentBlue: 0
- HueAdjustmentGreen: +47
- HueAdjustmentMagenta: 0
- HueAdjustmentOrange: 0
- HueAdjustmentPurple: 0
- HueAdjustmentRed: 0
- HueAdjustmentYellow: +14
- LuminanceAdjustmentAqua: +2
- LuminanceAdjustmentBlue: 0
- LuminanceAdjustmentGreen: +100
- LuminanceAdjustmentMagenta: 0
- LuminanceAdjustmentOrange: 0
- LuminanceAdjustmentPurple: 0
- LuminanceAdjustmentRed: 0
- LuminanceAdjustmentYellow: 0
- LuminanceSmoothing: 0
- ParametricDarks: 0
- ParametricHighlightSplit: 75
- ParametricHighlights: 0
- ParametricLights: 0
- ParametricMidtoneSplit: 50
- ParametricShadowSplit: 25
- ParametricShadows: 0
- PostCropVignetteAmount: 0
- RawFileName: DSC_1514.NEF
- RedHue: 0
- RedSaturation: 0
- Saturation: -34
- SaturationAdjustmentAqua: +32
- SaturationAdjustmentBlue: +8
- SaturationAdjustmentGreen: +28
- SaturationAdjustmentMagenta: +25
- SaturationAdjustmentOrange: 0
- SaturationAdjustmentPurple: 0
- SaturationAdjustmentRed: 0
- SaturationAdjustmentYellow: 0
- ShadowTint: 0
- Shadows: 5
- SharpenDetail: 25
- SharpenEdgeMasking: 0
- SharpenRadius: +1.0
- Sharpness: 25
- SplitToningBalance: 0
- SplitToningHighlightHue: 0
- SplitToningHighlightSaturation: 0
- SplitToningShadowHue: 0
- SplitToningShadowSaturation: 0
- Temperature: 7350
- Tint: +9
- ToneCurve: 0, 0, 32, 22, 64, 56, 128, 128, 192, 196, 255, 255
- ToneCurveName: Medium Contrast
- Version: 4.6
- Vibrance: 0
- VignetteAmount: -6
- VignetteMidpoint: 46
- WhiteBalance: Custom
- XMP-dc
- XMP-exif
- DateTimeDigitized: 2009:06:28 10:00:27.70+03:00
- DateTimeOriginal: 2009:06:28 10:00:27.70+03:00
- FlashFired: True
- FlashFunction: False
- FlashMode: Auto
- FlashRedEyeMode: False
- FlashReturn: Return not detected
- XMP-tiff
- XMP-xmp
- CreateDate: 2009:06:28 17:30:44+01:00
- ModifyDate: 2009:06:28 17:30:44+01:00
- Rating: 0
- XMP-xmpMM
- Просмотров: 791
- Рейтинг: голосов еще нет
- Отзывов: 0