- Раздел: Репортаж
- Дата съёмки: 04.07.2009 18:33
- Дата загрузки фото: 04.07.2009 20:05
- Оригинальная фотография: 2370 x 3388 (1,1 Мб)
- Технические характеристики:
- Фотоаппарат: Canon EOS 500D
- Выдержка: 1/100
- Гиперфокальное расстояние: 30,73 m
- Диафрагма: 4,0
- Светочувствительность: 100
- Фокусное расстояние: 41,0 mm (35 mm equivalent: 90,1 mm)
- Экспокоррекция: +2/3
- Полный EXIF
- Adobe
- ColorTransform: YCbCr
- Composite
- Aperture: 4,0
- CircleOfConfusion: 0,014 mm
- FOV: 22,0 deg
- FocalLength35efl: 41,0 mm (35 mm equivalent: 90,1 mm)
- HyperfocalDistance: 30,73 m
- ScaleFactor35efl: 2,2
- ShutterSpeed: 1/100
- ExifIFD
- ApertureValue: 4,0
- CreateDate: 2009:07:04 18:33:29
- CustomRendered: Normal
- DateTimeOriginal: 2009:07:04 18:33:29
- ExposureCompensation: +2/3
- ExposureMode: Auto
- ExposureProgram: Aperture-priority AE
- ExposureTime: 1/100
- FNumber: 4,0
- Flash: Off
- FocalLength: 41,0 mm
- ISO: 100
- MaxApertureValue: 2,8
- MeteringMode: Partial
- SceneCaptureType: Standard
- ShutterSpeedValue: 1/100
- WhiteBalance: Auto
- ICC-header
- ICC-meas
- ICC-view
- IFD0
- Make: Canon
- Model: Canon EOS 500D
- ModifyDate: 2009:07:04 19:59:37
- IFD1
- XMP-aux
- Firmware: 1.0.9
- FlashCompensation: 0
- ImageNumber: 0
- Lens: 17-50mm
- LensInfo: 17/1 50/1 0/0 0/0
- SerialNumber: 430126185
- XMP-crs
- AlreadyApplied: True
- BlueHue: 0
- BlueSaturation: 0
- Brightness: +70
- ChromaticAberrationB: 0
- ChromaticAberrationR: 0
- Clarity: 0
- ColorNoiseReduction: 54
- Contrast: +23
- ConvertToGrayscale: True
- CropAngle: 0
- CropBottom: 0.793103
- CropHeight: 2370
- CropLeft: 0.049
- CropRight: 0.762
- CropTop: 0.044978
- CropUnit: 0
- CropWidth: 3388
- Defringe: 0
- Exposure: 0.00
- FillLight: 0
- GrayMixerAqua: -19
- GrayMixerBlue: +9
- GrayMixerGreen: -27
- GrayMixerMagenta: +4
- GrayMixerOrange: -18
- GrayMixerPurple: +15
- GrayMixerRed: -9
- GrayMixerYellow: -22
- GreenHue: 0
- GreenSaturation: 0
- HasCrop: True
- HasSettings: True
- HighlightRecovery: 24
- LuminanceSmoothing: 0
- ParametricDarks: 0
- ParametricHighlightSplit: 75
- ParametricHighlights: 0
- ParametricLights: 0
- ParametricMidtoneSplit: 50
- ParametricShadowSplit: 25
- ParametricShadows: 0
- PostCropVignetteAmount: 0
- RedHue: 0
- RedSaturation: 0
- ShadowTint: 0
- Shadows: 2
- SharpenDetail: 25
- SharpenEdgeMasking: 0
- SharpenRadius: +1.0
- Sharpness: 0
- SplitToningBalance: 0
- SplitToningHighlightHue: 0
- SplitToningHighlightSaturation: 0
- SplitToningShadowHue: 0
- SplitToningShadowSaturation: 0
- Temperature: 4050
- Tint: -3
- ToneCurve: 0, 0, 32, 22, 64, 56, 128, 128, 192, 196, 255, 255
- ToneCurveName: Medium Contrast
- Version: 5.4
- VignetteAmount: 0
- WhiteBalance: As Shot
- XMP-exif
- DateTimeDigitized: 2009:07:04 18:33:29.26+04:00
- DateTimeOriginal: 2009:07:04 18:33:29.26+04:00
- ExifImageHeight: 3388
- ExifImageWidth: 2370
- FlashFired: False
- FlashFunction: False
- FlashMode: Off
- FlashRedEyeMode: False
- FlashReturn: No return detection
- XMP-tiff
- ImageHeight: 3388
- ImageWidth: 2370
- XMP-xmp
- CreateDate: 2009:07:04 18:33:29.26+04:00
- ModifyDate: 2009:07:04 19:59:37+04:00
- Просмотров: 170
- Рейтинг: голосов еще нет
- Отзывов: 0