dudutki.jpg |
dudutki.jpg
- Раздел: Пейзаж
- Дата съёмки: 05.07.2009 16:02
- Дата загрузки фото: 06.07.2009 09:50
- Оригинальная фотография: 1280 x 853 (538 Кб)
- Технические характеристики:
- Фотоаппарат: Canon EOS 300D DIGITAL
- Выдержка: 1/320
- Диафрагма: 8,0
- Светочувствительность: 200
- Фокусное расстояние: 50,0 mm
- Полный EXIF
- Composite
- Aperture: 8,0
- FocalLength35efl: 50,0 mm
- ShutterSpeed: 1/320
- ExifIFD
- ApertureValue: 8,0
- CreateDate: 2009:07:05 16:02:28
- DateTimeOriginal: 2009:07:05 16:02:28
- ExposureCompensation: 0
- ExposureProgram: Aperture-priority AE
- ExposureTime: 1/320
- FNumber: 8,0
- Flash: No Flash
- FocalLength: 50,0 mm
- ISO: 200
- MaxApertureValue: 4,0
- MeteringMode: Multi-segment
- ShutterSpeedValue: 1/320
- ICC-header
- IFD0
- Make: Canon
- Model: Canon EOS 300D DIGITAL
- ModifyDate: 2009:02:05 00:43:59
- IPTC
- By-line: Belarus
- Keywords: Äóäóòêè
- XMP-aux
- Firmware: 1.1.1
- Lens: 28.0-135.0 mm
- LensInfo: 28/1 135/1 0/0 0/0
- SerialNumber: 2030501535
- XMP-crs
- AlreadyApplied: True
- BlueHue: 0
- BlueSaturation: 0
- Brightness: +13
- CameraProfile: ACR 4.4
- ChromaticAberrationB: 0
- ChromaticAberrationR: 0
- Clarity: +7
- ColorNoiseReduction: 25
- Contrast: +31
- ConvertToGrayscale: False
- Defringe: 0
- Exposure: +1.00
- FillLight: 38
- GreenHue: 0
- GreenSaturation: 0
- HasCrop: False
- HasSettings: True
- HighlightRecovery: 0
- HueAdjustmentAqua: 0
- HueAdjustmentBlue: 0
- HueAdjustmentGreen: 0
- HueAdjustmentMagenta: 0
- HueAdjustmentOrange: 0
- HueAdjustmentPurple: 0
- HueAdjustmentRed: 0
- HueAdjustmentYellow: 0
- LuminanceAdjustmentAqua: 0
- LuminanceAdjustmentBlue: 0
- LuminanceAdjustmentGreen: 0
- LuminanceAdjustmentMagenta: 0
- LuminanceAdjustmentOrange: 0
- LuminanceAdjustmentPurple: 0
- LuminanceAdjustmentRed: 0
- LuminanceAdjustmentYellow: 0
- LuminanceSmoothing: 0
- ParametricDarks: -7
- ParametricHighlightSplit: 75
- ParametricHighlights: +60
- ParametricLights: +10
- ParametricMidtoneSplit: 50
- ParametricShadowSplit: 25
- ParametricShadows: -60
- PostCropVignetteAmount: 0
- RedHue: 0
- RedSaturation: 0
- Saturation: 0
- SaturationAdjustmentAqua: +50
- SaturationAdjustmentBlue: +58
- SaturationAdjustmentGreen: +10
- SaturationAdjustmentMagenta: 0
- SaturationAdjustmentOrange: +13
- SaturationAdjustmentPurple: +23
- SaturationAdjustmentRed: 0
- SaturationAdjustmentYellow: +23
- ShadowTint: 0
- Shadows: 4
- SharpenDetail: 47
- SharpenEdgeMasking: 0
- SharpenRadius: +1.0
- Sharpness: 67
- SplitToningBalance: 0
- SplitToningHighlightHue: 0
- SplitToningHighlightSaturation: 0
- SplitToningShadowHue: 0
- SplitToningShadowSaturation: 0
- Temperature: 6000
- Tint: +8
- ToneCurve: 0, 0, 255, 255
- ToneCurveName: Linear
- Version: 4.5
- Vibrance: 0
- VignetteAmount: 0
- WhiteBalance: As Shot
- XMP-dc
- Creator: Belarus
- Subject: Дудутки
- XMP-exif
- DateTimeDigitized: 2009:07:05 16:02:28+03:00
- DateTimeOriginal: 2009:07:05 16:02:28+03:00
- ExifImageHeight: 2048
- ExifImageWidth: 3072
- FlashFired: False
- XMP-iptcCore
- CreatorContactInfoCiAdrExtadr: gvc@gvcvolley.ru
- XMP-tiff
- ImageHeight: 2048
- ImageWidth: 3072
- XMP-xmp
- CreateDate: 2009:07:05 16:02:28+03:00
- ModifyDate: 2009:02:05 00:43:59+02:00
- Просмотров: 271
- Рейтинг: голосов еще нет
- Отзывов: 0
Получить код для блога
Вставка фотографии в текущем разрешении |
Вставка миниатюры |
HTML (для вставки в блог):
BBCode (для вставки в форум):
Ссылка на фото:
Ссылка на миниатюру:
- Послать ссылку другу
Комментарии к фотографии |