- Раздел: Пейзаж
- Дата съёмки: 08.07.2009 07:25
- Дата загрузки фото: 08.07.2009 08:33
- Оригинальная фотография: 1798 x 1408 (1,9 Мб)
- Технические характеристики:
- Фотоаппарат: Olympus E-510
- Выдержка: 1/3200
- Диафрагма: 3,9
- Светочувствительность: 100
- Фокусное расстояние: 18,0 mm
- Экспокоррекция: -0,3
- Полный EXIF
- Adobe
- ColorTransform: YCbCr
- Composite
- Aperture: 3,9
- FocalLength35efl: 18,0 mm
- ShutterSpeed: 1/3200
- ExifIFD
- ApertureValue: 3,9
- CFAPattern: [Red,Green][Green,Blue]
- ColorSpace: sRGB
- Contrast: Low
- CreateDate: 2009:07:07 14:16:06
- CustomRendered: Normal
- DateTimeOriginal: 2009:07:07 14:16:06
- DigitalZoomRatio: 1
- ExifImageHeight: 1408
- ExifImageWidth: 1798
- ExposureCompensation: -0,3
- ExposureMode: Manual
- ExposureProgram: Aperture-priority AE
- ExposureTime: 1/3200
- FNumber: 3,9
- Flash: Auto, Did not fire
- FocalLength: 18,0 mm
- GainControl: None
- ISO: 100
- LightSource: Unknown
- MaxApertureValue: 3,5
- MeteringMode: Multi-segment
- Saturation: High
- SceneCaptureType: Standard
- Sharpness: Soft
- ShutterSpeedValue: 1/3200
- WhiteBalance: Auto
- ICC-header
- ICC-meas
- ICC-view
- IFD0
- ImageDescription: OLYMPUS DIGITAL CAMERA
- Make: OLYMPUS IMAGING CORP.
- Model: E-510
- ModifyDate: 2009:07:08 07:25:33
- Orientation: Horizontal (normal)
- IFD1
- IPTC
- Caption-Abstract: OLYMPUS DIGITAL CAMERA
- XMP-aux
- FlashCompensation: 0
- Lens: 14.0-42.0 mm f/3.5-5.6
- LensInfo: 14/1 42/1 35/10 56/10
- LensSerialNumber: 212401769
- SerialNumber: D63582545
- XMP-crs
- AlreadyApplied: True
- BlueHue: 0
- BlueSaturation: 0
- Brightness: +50
- CameraProfile: ACR 4.4
- ChromaticAberrationB: 0
- ChromaticAberrationR: 0
- Clarity: +47
- ColorNoiseReduction: 5
- Contrast: +33
- ConvertToGrayscale: False
- Defringe: 0
- Exposure: +0.15
- FillLight: 11
- GreenHue: 0
- GreenSaturation: 0
- HasCrop: False
- HasSettings: True
- HighlightRecovery: 0
- HueAdjustmentAqua: +22
- HueAdjustmentBlue: +13
- HueAdjustmentGreen: 0
- HueAdjustmentMagenta: +1
- HueAdjustmentOrange: +33
- HueAdjustmentPurple: 0
- HueAdjustmentRed: -100
- HueAdjustmentYellow: 0
- LuminanceAdjustmentAqua: -100
- LuminanceAdjustmentBlue: -5
- LuminanceAdjustmentGreen: -23
- LuminanceAdjustmentMagenta: 0
- LuminanceAdjustmentOrange: 0
- LuminanceAdjustmentPurple: 0
- LuminanceAdjustmentRed: +100
- LuminanceAdjustmentYellow: +24
- LuminanceSmoothing: 3
- ParametricDarks: 0
- ParametricHighlightSplit: 75
- ParametricHighlights: 0
- ParametricLights: 0
- ParametricMidtoneSplit: 50
- ParametricShadowSplit: 25
- ParametricShadows: 0
- PostCropVignetteAmount: 0
- RawFileName: P7077221.ORF
- RedHue: 0
- RedSaturation: 0
- Saturation: 0
- SaturationAdjustmentAqua: +68
- SaturationAdjustmentBlue: +23
- SaturationAdjustmentGreen: +53
- SaturationAdjustmentMagenta: 0
- SaturationAdjustmentOrange: 0
- SaturationAdjustmentPurple: +2
- SaturationAdjustmentRed: +100
- SaturationAdjustmentYellow: 0
- ShadowTint: 0
- Shadows: 0
- SharpenDetail: 22
- SharpenEdgeMasking: 0
- SharpenRadius: +0.8
- Sharpness: 49
- SplitToningBalance: 0
- SplitToningHighlightHue: 0
- SplitToningHighlightSaturation: 0
- SplitToningShadowHue: 0
- SplitToningShadowSaturation: 0
- Temperature: 4800
- Tint: +7
- ToneCurve: 0, 0, 32, 22, 64, 56, 128, 128, 192, 196, 255, 255
- ToneCurveName: Medium Contrast
- Version: 4.5
- Vibrance: +36
- VignetteAmount: 0
- WhiteBalance: Custom
- XMP-dc
- Description: OLYMPUS DIGITAL CAMERA
- Format: image/jpeg
- XMP-exif
- DateTimeDigitized: 2009:07:07 14:16:06+03:00
- DateTimeOriginal: 2009:07:07 14:16:06+03:00
- FlashFired: False
- FlashFunction: False
- FlashMode: Auto
- FlashRedEyeMode: False
- FlashReturn: No return detection
- XMP-tiff
- XMP-xmp
- CreateDate: 2009:07:08 07:25:33+03:00
- ModifyDate: 2009:07:08 07:25:33+03:00
- Rating: 0
- XMP-xmpMM