- Раздел: Репортаж
- Дата съёмки: 11.07.2009 18:37
- Дата загрузки фото: 15.07.2009 05:15
- Оригинальная фотография: 1333 x 2000 (697 Кб)
- Технические характеристики:
- Фотоаппарат: Canon EOS 40D
- Выдержка: 1/320
- Гиперфокальное расстояние: 126,82 m
- Диафрагма: 4,0
- Светочувствительность: 100
- Фокусное расстояние: 97,0 mm (35 mm equivalent: 157,1 mm)
- Полный EXIF
- Composite
- Aperture: 4,0
- CircleOfConfusion: 0,019 mm
- FOV: 13,0 deg
- FocalLength35efl: 97,0 mm (35 mm equivalent: 157,1 mm)
- HyperfocalDistance: 126,82 m
- ScaleFactor35efl: 1,6
- ShutterSpeed: 1/320
- ExifIFD
- ApertureValue: 4,0
- CreateDate: 2009:07:11 17:37:50
- CustomRendered: Normal
- DateTimeOriginal: 2009:07:11 17:37:50
- ExifImageHeight: 2000
- ExifImageWidth: 1333
- ExposureCompensation: 0
- ExposureMode: Auto
- ExposureProgram: Aperture-priority AE
- ExposureTime: 1/320
- FNumber: 4,0
- Flash: Off
- FocalLength: 97,0 mm
- ISO: 100
- MaxApertureValue: 4,0
- MeteringMode: Multi-segment
- SceneCaptureType: Standard
- ShutterSpeedValue: 1/320
- WhiteBalance: Auto
- ICC-header
- ICC-meas
- ICC-view
- IFD0
- Artist: Roman E Demakov
- Make: Canon
- Model: Canon EOS 40D
- ModifyDate: 2009:07:15 06:15:27
- Orientation: Horizontal (normal)
- Software: Программа цифровой обработки изображений компании ACD Systems
- IFD1
- IPTC
- XMP-aux
- Firmware: 1.1.1
- FlashCompensation: 0
- ImageNumber: 0
- Lens: EF70-200mm f/4L IS USM
- LensInfo: 70/1 200/1 0/0 0/0
- OwnerName: Roman E Demakov
- SerialNumber: 830523091
- XMP-crs
- AlreadyApplied: True
- BlueHue: 0
- BlueSaturation: 0
- Brightness: +50
- ChromaticAberrationB: 0
- ChromaticAberrationR: 0
- Clarity: 0
- ColorNoiseReduction: 25
- Contrast: +25
- ConvertToGrayscale: True
- Defringe: 0
- Exposure: 0.00
- FillLight: 26
- GrayMixerAqua: -10
- GrayMixerBlue: +20
- GrayMixerGreen: -17
- GrayMixerMagenta: +32
- GrayMixerOrange: +12
- GrayMixerPurple: +25
- GrayMixerRed: +39
- GrayMixerYellow: -9
- GreenHue: 0
- GreenSaturation: 0
- HasCrop: False
- HasSettings: True
- HighlightRecovery: 0
- LuminanceSmoothing: 0
- ParametricDarks: -17
- ParametricHighlightSplit: 75
- ParametricHighlights: 0
- ParametricLights: +28
- ParametricMidtoneSplit: 50
- ParametricShadowSplit: 25
- ParametricShadows: 0
- PostCropVignetteAmount: -40
- PostCropVignetteFeather: 50
- PostCropVignetteMidpoint: 77
- PostCropVignetteRoundness: 0
- RedHue: 0
- RedSaturation: 0
- ShadowTint: 0
- Shadows: 2
- SharpenDetail: 25
- SharpenEdgeMasking: 0
- SharpenRadius: +1.0
- Sharpness: 25
- SplitToningBalance: 0
- SplitToningHighlightHue: 51
- SplitToningHighlightSaturation: 22
- SplitToningShadowHue: 37
- SplitToningShadowSaturation: 32
- Temperature: 5550
- Tint: -4
- ToneCurve: 0, 0, 32, 22, 64, 56, 128, 128, 192, 196, 255, 255
- ToneCurveName: Medium Contrast
- Version: 5.3
- VignetteAmount: 0
- WhiteBalance: Custom
- XMP-dc
- XMP-exif
- DateTimeDigitized: 2009:07:11 17:37:50.76+4:00
- DateTimeOriginal: 2009:07:11 17:37:50.76+4:00
- ExifImageHeight: 3888
- ExifImageWidth: 2592
- FlashFired: False
- FlashFunction: False
- FlashMode: Off
- FlashRedEyeMode: False
- FlashReturn: No return detection
- XMP-tiff
- ImageHeight: 3888
- ImageWidth: 2592
- XMP-xmp
- CreateDate: 2009:07:11 18:37:50.76+05:00
- ModifyDate: 2009:07:15 05:13:54.0+4:00
- Просмотров: 568
- Рейтинг: голосов еще нет
- Отзывов: 0