- Раздел: Отдых, развлечения
- Дата съёмки: 25.06.2009 18:31
- Дата загрузки фото: 17.07.2009 11:45
- Оригинальная фотография: 800 x 533 (145 Кб)
- Технические характеристики:
- Фотоаппарат: Canon EOS 5D Mark II
- Выдержка: 1/200
- Гиперфокальное расстояние: 4561,22 m
- Диафрагма: 8,0
- Светочувствительность: 200
- Фокусное расстояние: 400,0 mm (35 mm equivalent: 2741,0 mm)
- Полный EXIF
- Adobe
- ColorTransform: YCbCr
- Composite
- Aperture: 8,0
- CircleOfConfusion: 0,004 mm
- FOV: 0,0 deg
- FocalLength35efl: 400,0 mm (35 mm equivalent: 2741,0 mm)
- HyperfocalDistance: 4561,22 m
- ScaleFactor35efl: 6,9
- ShutterSpeed: 1/200
- ExifIFD
- ApertureValue: 8,0
- ColorSpace: sRGB
- CreateDate: 2009:06:25 18:31:40
- CustomRendered: Normal
- DateTimeOriginal: 2009:06:25 18:31:40
- ExifImageHeight: 533
- ExifImageWidth: 800
- ExposureCompensation: 0
- ExposureMode: Auto
- ExposureProgram: Aperture-priority AE
- ExposureTime: 1/200
- FNumber: 8,0
- Flash: Off
- FocalLength: 400,0 mm
- ISO: 200
- MaxApertureValue: 5,7
- MeteringMode: Multi-segment
- SceneCaptureType: Standard
- ShutterSpeedValue: 1/200
- WhiteBalance: Auto
- ICC-header
- ICC-meas
- ICC-view
- IFD0
- Artist: Photographer: Anton Balazh
- Copyright: anton@balazh.ru
- Make: Canon
- Model: Canon EOS 5D Mark II
- ModifyDate: 2009:07:16 14:38:52
- Orientation: Horizontal (normal)
- IFD1
- IPTC
- By-line: Photographer: Anton Balazh
- CopyrightNotice: anton@balazh.ru
- Keywords: Montenegro, Mountain, Petrovac
- XMP-aux
- Firmware: 1.1.0
- FlashCompensation: 0
- ImageNumber: 0
- Lens: EF100-400mm f/4.5-5.6L IS USM
- LensInfo: 100/1 400/1 0/0 0/0
- OwnerName: Anton Balazh
- SerialNumber: 230110711
- XMP-crs
- AlreadyApplied: True
- BlueHue: 0
- BlueSaturation: 0
- Brightness: +18
- ChromaticAberrationB: 0
- ChromaticAberrationR: 0
- Clarity: 0
- ColorNoiseReduction: 25
- Contrast: +71
- ConvertToGrayscale: False
- CropAngle: 0
- CropBottom: 0.865148
- CropHeight: 3
- CropLeft: 0.157834
- CropRight: 0.919355
- CropTop: 0.103627
- CropUnit: 3
- CropWidth: 2
- Defringe: 0
- Exposure: +0.35
- FillLight: 9
- GreenHue: 0
- GreenSaturation: 0
- HasCrop: True
- HasSettings: True
- HighlightRecovery: 0
- HueAdjustmentAqua: 0
- HueAdjustmentBlue: 0
- HueAdjustmentGreen: 0
- HueAdjustmentMagenta: 0
- HueAdjustmentOrange: 0
- HueAdjustmentPurple: 0
- HueAdjustmentRed: 0
- HueAdjustmentYellow: 0
- LuminanceAdjustmentAqua: 0
- LuminanceAdjustmentBlue: 0
- LuminanceAdjustmentGreen: 0
- LuminanceAdjustmentMagenta: 0
- LuminanceAdjustmentOrange: 0
- LuminanceAdjustmentPurple: 0
- LuminanceAdjustmentRed: 0
- LuminanceAdjustmentYellow: 0
- LuminanceSmoothing: 0
- ParametricDarks: 0
- ParametricHighlightSplit: 75
- ParametricHighlights: 0
- ParametricLights: 0
- ParametricMidtoneSplit: 50
- ParametricShadowSplit: 25
- ParametricShadows: 0
- PostCropVignetteAmount: 0
- RawFileName: Montenegro_2009 0281.dng
- RedHue: 0
- RedSaturation: 0
- Saturation: 0
- SaturationAdjustmentAqua: 0
- SaturationAdjustmentBlue: 0
- SaturationAdjustmentGreen: 0
- SaturationAdjustmentMagenta: 0
- SaturationAdjustmentOrange: 0
- SaturationAdjustmentPurple: 0
- SaturationAdjustmentRed: 0
- SaturationAdjustmentYellow: 0
- ShadowTint: 0
- Shadows: 10
- SharpenDetail: 25
- SharpenEdgeMasking: 0
- SharpenRadius: +1.0
- Sharpness: 25
- SplitToningBalance: 0
- SplitToningHighlightHue: 0
- SplitToningHighlightSaturation: 0
- SplitToningShadowHue: 0
- SplitToningShadowSaturation: 0
- Temperature: 5150
- Tint: +1
- ToneCurve: 0, 0, 32, 22, 64, 56, 128, 128, 192, 196, 255, 255
- ToneCurveName: Medium Contrast
- Version: 5.4
- Vibrance: 0
- VignetteAmount: +23
- VignetteMidpoint: 29
- WhiteBalance: Custom
- XMP-dc
- Creator: Photographer: Anton Balazh, Антон Балаж, 2009
- Format: image/jpeg
- Rights: anton@balazh.ru
- Subject: Montenegro, Mountain, Petrovac
- XMP-exif
- DateTimeDigitized: 2009:06:25 18:31:40.58+02:00
- DateTimeOriginal: 2009:06:25 18:31:40.58+02:00
- FlashFired: False
- FlashFunction: False
- FlashMode: Off
- FlashRedEyeMode: False
- FlashReturn: No return detection
- XMP-lr
- HierarchicalSubject: Montenegro, Montenegro|Petrovac, Montenegro|Mountain
- XMP-tiff
- XMP-xmp
- CreateDate: 2009:06:25 18:31:40.58+02:00
- ModifyDate: 2009:07:16 14:38:52+04:00
- Rating: 3
- XMP-xmpMM
- PreservedFileName: IMG_3587.CR2
- Просмотров: 221
- Рейтинг: голосов еще нет
- Отзывов: 0