- Раздел: Отдых, развлечения
- Дата съёмки: 03.07.2009 09:34
- Дата загрузки фото: 17.07.2009 12:38
- Оригинальная фотография: 800 x 533 (224 Кб)
- Технические характеристики:
- Фотоаппарат: Canon EOS 5D Mark II
- Выдержка: 1/160
- Гиперфокальное расстояние: 4434,97 m
- Диафрагма: 5,6
- Светочувствительность: 400
- Фокусное расстояние: 330,0 mm (35 mm equivalent: 2261,3 mm)
- Полный EXIF
- Adobe
- ColorTransform: YCbCr
- Composite
- Aperture: 5,6
- CircleOfConfusion: 0,004 mm
- FOV: 0,0 deg
- FocalLength35efl: 330,0 mm (35 mm equivalent: 2261,3 mm)
- HyperfocalDistance: 4434,97 m
- ScaleFactor35efl: 6,9
- ShutterSpeed: 1/160
- ExifIFD
- ApertureValue: 5,6
- ColorSpace: sRGB
- CreateDate: 2009:07:03 09:34:50
- CustomRendered: Normal
- DateTimeOriginal: 2009:07:03 09:34:50
- ExifImageHeight: 533
- ExifImageWidth: 800
- ExposureCompensation: 0
- ExposureMode: Auto
- ExposureProgram: Aperture-priority AE
- ExposureTime: 1/160
- FNumber: 5,6
- Flash: Off
- FocalLength: 330,0 mm
- ISO: 400
- MaxApertureValue: 5,7
- MeteringMode: Multi-segment
- SceneCaptureType: Standard
- ShutterSpeedValue: 1/160
- WhiteBalance: Auto
- ICC-header
- ICC-meas
- ICC-view
- IFD0
- Artist: Photographer: Anton Balazh
- Copyright: anton@balazh.ru
- Make: Canon
- Model: Canon EOS 5D Mark II
- ModifyDate: 2009:07:16 14:54:06
- Orientation: Horizontal (normal)
- IFD1
- IPTC
- By-line: Photographer: Anton Balazh
- CopyrightNotice: anton@balazh.ru
- Keywords: Budva, Montenegro
- XMP-aux
- Firmware: 1.1.0
- FlashCompensation: 0
- ImageNumber: 0
- Lens: EF100-400mm f/4.5-5.6L IS USM
- LensInfo: 100/1 400/1 0/0 0/0
- OwnerName: Anton Balazh
- SerialNumber: 230110711
- XMP-crs
- AlreadyApplied: True
- BlueHue: 0
- BlueSaturation: 0
- Brightness: 0
- ChromaticAberrationB: 0
- ChromaticAberrationR: 0
- Clarity: 0
- ColorNoiseReduction: 25
- Contrast: +84
- ConvertToGrayscale: False
- Defringe: 0
- Exposure: +1.05
- FillLight: 32
- GreenHue: 0
- GreenSaturation: 0
- HasCrop: False
- HasSettings: True
- HighlightRecovery: 0
- HueAdjustmentAqua: 0
- HueAdjustmentBlue: 0
- HueAdjustmentGreen: 0
- HueAdjustmentMagenta: 0
- HueAdjustmentOrange: 0
- HueAdjustmentPurple: 0
- HueAdjustmentRed: 0
- HueAdjustmentYellow: 0
- LuminanceAdjustmentAqua: 0
- LuminanceAdjustmentBlue: 0
- LuminanceAdjustmentGreen: 0
- LuminanceAdjustmentMagenta: 0
- LuminanceAdjustmentOrange: 0
- LuminanceAdjustmentPurple: 0
- LuminanceAdjustmentRed: 0
- LuminanceAdjustmentYellow: 0
- LuminanceSmoothing: 0
- ParametricDarks: 0
- ParametricHighlightSplit: 75
- ParametricHighlights: 0
- ParametricLights: 0
- ParametricMidtoneSplit: 50
- ParametricShadowSplit: 25
- ParametricShadows: 0
- PostCropVignetteAmount: 0
- RawFileName: Montenegro_2009 1388.dng
- RedHue: 0
- RedSaturation: 0
- Saturation: 0
- SaturationAdjustmentAqua: 0
- SaturationAdjustmentBlue: 0
- SaturationAdjustmentGreen: 0
- SaturationAdjustmentMagenta: 0
- SaturationAdjustmentOrange: 0
- SaturationAdjustmentPurple: 0
- SaturationAdjustmentRed: 0
- SaturationAdjustmentYellow: 0
- ShadowTint: 0
- Shadows: 3
- SharpenDetail: 25
- SharpenEdgeMasking: 0
- SharpenRadius: +1.0
- Sharpness: 25
- SplitToningBalance: 0
- SplitToningHighlightHue: 0
- SplitToningHighlightSaturation: 0
- SplitToningShadowHue: 0
- SplitToningShadowSaturation: 0
- Temperature: 5850
- Tint: -10
- ToneCurve: 0, 0, 32, 22, 64, 56, 128, 128, 192, 196, 255, 255
- ToneCurveName: Medium Contrast
- Version: 5.4
- Vibrance: 0
- VignetteAmount: 0
- WhiteBalance: Custom
- XMP-dc
- Creator: Photographer: Anton Balazh, Антон Балаж, 2009
- Format: image/jpeg
- Rights: anton@balazh.ru
- Subject: Budva, Montenegro
- XMP-exif
- DateTimeDigitized: 2009:07:03 09:34:50.43+02:00
- DateTimeOriginal: 2009:07:03 09:34:50.43+02:00
- FlashFired: False
- FlashFunction: False
- FlashMode: Off
- FlashRedEyeMode: False
- FlashReturn: No return detection
- XMP-lr
- HierarchicalSubject: Montenegro, Montenegro|Budva
- XMP-tiff
- XMP-xmp
- CreateDate: 2009:07:03 09:34:50.43+02:00
- ModifyDate: 2009:07:16 14:54:06+04:00
- Rating: 5
- XMP-xmpMM
- PreservedFileName: IMG_6233.CR2
- Просмотров: 267
- Рейтинг: голосов еще нет
- Отзывов: 0