- Раздел: Отдых, развлечения
- Дата съёмки: 30.06.2009 11:05
- Дата загрузки фото: 17.07.2009 12:38
- Оригинальная фотография: 800 x 533 (176 Кб)
- Технические характеристики:
- Фотоаппарат: Canon EOS 5D Mark II
- Выдержка: 1/1250
- Гиперфокальное расстояние: 16,42 m
- Диафрагма: 8,0
- Светочувствительность: 400
- Фокусное расстояние: 24,0 mm (35 mm equivalent: 164,5 mm)
- Полный EXIF
- Adobe
- ColorTransform: YCbCr
- Composite
- Aperture: 8,0
- CircleOfConfusion: 0,004 mm
- FOV: 12,0 deg
- FocalLength35efl: 24,0 mm (35 mm equivalent: 164,5 mm)
- HyperfocalDistance: 16,42 m
- ScaleFactor35efl: 6,9
- ShutterSpeed: 1/1250
- ExifIFD
- ApertureValue: 8,0
- ColorSpace: sRGB
- CreateDate: 2009:06:30 11:05:55
- CustomRendered: Normal
- DateTimeOriginal: 2009:06:30 11:05:55
- ExifImageHeight: 533
- ExifImageWidth: 800
- ExposureCompensation: 0
- ExposureMode: Auto
- ExposureProgram: Aperture-priority AE
- ExposureTime: 1/1250
- FNumber: 8,0
- Flash: Off
- FocalLength: 24,0 mm
- ISO: 400
- MaxApertureValue: 4,0
- MeteringMode: Multi-segment
- SceneCaptureType: Standard
- ShutterSpeedValue: 1/1250
- WhiteBalance: Auto
- ICC-header
- ICC-meas
- ICC-view
- IFD0
- Artist: Photographer: Anton Balazh
- Copyright: anton@balazh.ru
- Make: Canon
- Model: Canon EOS 5D Mark II
- ModifyDate: 2009:07:16 14:52:54
- Orientation: Horizontal (normal)
- IFD1
- IPTC
- By-line: Photographer: Anton Balazh
- CopyrightNotice: anton@balazh.ru
- Keywords: Balazh, Montenegro, Natasha, Petrovac, ГЌГ ГІГ ГёГ
- XMP-aux
- Firmware: 1.1.0
- FlashCompensation: 0
- ImageNumber: 0
- Lens: EF24-105mm f/4L IS USM
- LensInfo: 24/1 105/1 0/0 0/0
- OwnerName: Anton Balazh
- SerialNumber: 230110711
- XMP-crs
- AlreadyApplied: True
- BlueHue: 0
- BlueSaturation: 0
- Brightness: -9
- ChromaticAberrationB: 0
- ChromaticAberrationR: 0
- Clarity: 0
- ColorNoiseReduction: 25
- Contrast: +63
- ConvertToGrayscale: False
- CropAngle: 0
- CropBottom: 0.952884
- CropHeight: 3
- CropLeft: 0.075254
- CropRight: 0.980339
- CropTop: 0.0478
- CropUnit: 3
- CropWidth: 2
- Defringe: 0
- Exposure: +0.65
- FillLight: 17
- GreenHue: 0
- GreenSaturation: 0
- HasCrop: True
- HasSettings: True
- HighlightRecovery: 13
- HueAdjustmentAqua: 0
- HueAdjustmentBlue: 0
- HueAdjustmentGreen: 0
- HueAdjustmentMagenta: 0
- HueAdjustmentOrange: 0
- HueAdjustmentPurple: 0
- HueAdjustmentRed: 0
- HueAdjustmentYellow: 0
- LuminanceAdjustmentAqua: 0
- LuminanceAdjustmentBlue: 0
- LuminanceAdjustmentGreen: 0
- LuminanceAdjustmentMagenta: 0
- LuminanceAdjustmentOrange: 0
- LuminanceAdjustmentPurple: 0
- LuminanceAdjustmentRed: 0
- LuminanceAdjustmentYellow: 0
- LuminanceSmoothing: 0
- ParametricDarks: 0
- ParametricHighlightSplit: 75
- ParametricHighlights: 0
- ParametricLights: 0
- ParametricMidtoneSplit: 50
- ParametricShadowSplit: 25
- ParametricShadows: 0
- PostCropVignetteAmount: 0
- RawFileName: Montenegro_2009 0723.dng
- RedHue: 0
- RedSaturation: 0
- Saturation: 0
- SaturationAdjustmentAqua: 0
- SaturationAdjustmentBlue: 0
- SaturationAdjustmentGreen: 0
- SaturationAdjustmentMagenta: 0
- SaturationAdjustmentOrange: 0
- SaturationAdjustmentPurple: 0
- SaturationAdjustmentRed: 0
- SaturationAdjustmentYellow: 0
- ShadowTint: 0
- Shadows: 9
- SharpenDetail: 25
- SharpenEdgeMasking: 0
- SharpenRadius: +1.0
- Sharpness: 25
- SplitToningBalance: 0
- SplitToningHighlightHue: 0
- SplitToningHighlightSaturation: 0
- SplitToningShadowHue: 0
- SplitToningShadowSaturation: 0
- Temperature: 5300
- Tint: 0
- ToneCurve: 0, 0, 32, 22, 64, 56, 128, 128, 192, 196, 255, 255
- ToneCurveName: Medium Contrast
- Version: 5.4
- Vibrance: 0
- VignetteAmount: +42
- VignetteMidpoint: 50
- WhiteBalance: Custom
- XMP-dc
- Creator: Photographer: Anton Balazh, Антон Балаж, 2009
- Format: image/jpeg
- Rights: anton@balazh.ru
- Subject: Balazh, Montenegro, Natasha, Petrovac, Наташа
- XMP-exif
- DateTimeDigitized: 2009:06:30 11:05:55.49+02:00
- DateTimeOriginal: 2009:06:30 11:05:55.49+02:00
- FlashFired: False
- FlashFunction: False
- FlashMode: Off
- FlashRedEyeMode: False
- FlashReturn: No return detection
- XMP-lr
- HierarchicalSubject: Montenegro, Montenegro|Petrovac, Balazh, Balazh|Natasha, Balazh|Наташа
- XMP-tiff
- XMP-xmp
- CreateDate: 2009:06:30 11:05:55.49+02:00
- ModifyDate: 2009:07:16 14:52:54+04:00
- Rating: 4
- XMP-xmpMM
- PreservedFileName: IMG_4485.CR2
- Просмотров: 315
- Рейтинг: голосов еще нет
- Отзывов: 0