Уважаемые друзья и участники проекта iXBT.photo! К сожалению, 1 марта 2026 года проект iXBT.photo прекратит свою работу и будет закрыт. Мы высоко ценим ваше участие и тот вклад, который вы внесли в развитие нашего сообщества. Пожалуйста, не забудьте сохранить ваши фотографии до этой даты.
С уважением, команда iXBT.com
| IMG_1636.jpg |
IMG_1636.jpg
- Раздел: Автомобили
- Дата съёмки: 17.07.2009 21:10
- Дата загрузки фото: 20.07.2009 20:24
- Оригинальная фотография: 1280 x 853 (307 Кб)
- Технические характеристики:
- Фотоаппарат: Canon EOS 5D
- Выдержка: 1/500
- Гиперфокальное расстояние: 165,43 m
- Диафрагма: 4,0
- Светочувствительность: 640
- Фокусное расстояние: 135,0 mm (35 mm equivalent: 147,3 mm)
- Экспокоррекция: +1/3
- Полный EXIF
- Composite
- Aperture: 4,0
- CircleOfConfusion: 0,028 mm
- FOV: 13,0 deg
- FocalLength35efl: 135,0 mm (35 mm equivalent: 147,3 mm)
- HyperfocalDistance: 165,43 m
- ScaleFactor35efl: 1,1
- ShutterSpeed: 1/500
- ExifIFD
- ApertureValue: 4,0
- CreateDate: 2009:07:17 21:10:48
- CustomRendered: Normal
- DateTimeOriginal: 2009:07:17 21:10:48
- ExifImageHeight: 853
- ExifImageWidth: 1280
- ExposureCompensation: +1/3
- ExposureMode: Auto
- ExposureProgram: Aperture-priority AE
- ExposureTime: 1/500
- FNumber: 4,0
- Flash: Off
- FocalLength: 135,0 mm
- ISO: 640
- MaxApertureValue: 4,0
- MeteringMode: Unknown
- SceneCaptureType: Standard
- ShutterSpeedValue: 1/500
- WhiteBalance: Manual
- ICC-header
- ICC-meas
- ICC-view
- IFD0
- Make: Canon
- Model: Canon EOS 5D
- ModifyDate: 2009:07:20 16:55:09
- Orientation: Horizontal (normal)
- Software: ACD Systems Digital Imaging
- XMP-aux
- Firmware: 1.1.1
- FlashCompensation: 0
- ImageNumber: 49
- Lens: EF70-200mm f/4L IS USM
- LensInfo: 70/1 200/1 0/0 0/0
- SerialNumber: 3131307142
- XMP-crs
- AlreadyApplied: True
- BlueHue: 0
- BlueSaturation: 0
- Brightness: +50
- CameraProfile: ACR 4.4
- ChromaticAberrationB: 0
- ChromaticAberrationR: 0
- Clarity: 0
- ColorNoiseReduction: 25
- Contrast: +25
- ConvertToGrayscale: False
- CropAngle: 0
- CropBottom: 1
- CropHeight: 2675
- CropLeft: 0
- CropRight: 0.918519
- CropTop: 0.081481
- CropUnit: 0
- CropWidth: 4012
- Defringe: 0
- Exposure: -0.30
- FillLight: 20
- GreenHue: 0
- GreenSaturation: 0
- HasCrop: True
- HasSettings: True
- HighlightRecovery: 0
- HueAdjustmentAqua: 0
- HueAdjustmentBlue: 0
- HueAdjustmentGreen: 0
- HueAdjustmentMagenta: 0
- HueAdjustmentOrange: 0
- HueAdjustmentPurple: 0
- HueAdjustmentRed: 0
- HueAdjustmentYellow: 0
- LuminanceAdjustmentAqua: 0
- LuminanceAdjustmentBlue: 0
- LuminanceAdjustmentGreen: 0
- LuminanceAdjustmentMagenta: 0
- LuminanceAdjustmentOrange: 0
- LuminanceAdjustmentPurple: 0
- LuminanceAdjustmentRed: 0
- LuminanceAdjustmentYellow: 0
- LuminanceSmoothing: 0
- ParametricDarks: 0
- ParametricHighlightSplit: 75
- ParametricHighlights: +7
- ParametricLights: +7
- ParametricMidtoneSplit: 50
- ParametricShadowSplit: 25
- ParametricShadows: 0
- PostCropVignetteAmount: 0
- RedHue: 0
- RedSaturation: 0
- Saturation: 0
- SaturationAdjustmentAqua: 0
- SaturationAdjustmentBlue: 0
- SaturationAdjustmentGreen: 0
- SaturationAdjustmentMagenta: 0
- SaturationAdjustmentOrange: 0
- SaturationAdjustmentPurple: 0
- SaturationAdjustmentRed: 0
- SaturationAdjustmentYellow: 0
- ShadowTint: 0
- Shadows: 5
- SharpenDetail: 25
- SharpenEdgeMasking: 0
- SharpenRadius: +1.0
- Sharpness: 25
- SplitToningBalance: 0
- SplitToningHighlightHue: 0
- SplitToningHighlightSaturation: 0
- SplitToningShadowHue: 0
- SplitToningShadowSaturation: 0
- Temperature: 4700
- Tint: +4
- ToneCurve: 0, 0, 32, 22, 64, 56, 128, 128, 192, 196, 255, 255
- ToneCurveName: Medium Contrast
- Version: 4.5
- Vibrance: +78
- VignetteAmount: 0
- WhiteBalance: Custom
- XMP-exif
- DateTimeDigitized: 2009:07:17 21:10:48+04:00
- DateTimeOriginal: 2009:07:17 21:10:48+04:00
- ExifImageHeight: 2675
- ExifImageWidth: 4012
- FlashFired: False
- FlashFunction: False
- FlashMode: Off
- FlashRedEyeMode: False
- FlashReturn: No return detection
- XMP-tiff
- ImageHeight: 2675
- ImageWidth: 4012
- XMP-xmp
- CreateDate: 2009:07:17 21:10:48+04:00
- ModifyDate: 2009:07:20 16:12:18+04:00
- Просмотров: 284
- Рейтинг: голосов еще нет
- Отзывов: 0
Получить код для блога
| Вставка фотографии в текущем разрешении |
Вставка миниатюры |
HTML (для вставки в блог):
BBCode (для вставки в форум):
Ссылка на фото:
Ссылка на миниатюру:
- Послать ссылку другу
| Комментарии к фотографии |