- Раздел: Животные
- Дата съёмки: 24.07.2009 17:50
- Дата загрузки фото: 27.07.2009 13:59
- Оригинальная фотография: 1280 x 960 (264 Кб)
- Технические характеристики:
- Фотоаппарат: Samsung GX10
- Выдержка: 1/500
- Гиперфокальное расстояние: 211,27 m
- Диафрагма: 4,5
- Светочувствительность: 200
- Фокусное расстояние: 138,0 mm (35 mm equivalent: 207,0 mm)
- Экспокоррекция: +0,7
- Полный EXIF
- Composite
- Aperture: 4,5
- CircleOfConfusion: 0,020 mm
- FOV: 9,0 deg
- FocalLength35efl: 138,0 mm (35 mm equivalent: 207,0 mm)
- HyperfocalDistance: 211,27 m
- ScaleFactor35efl: 1,5
- ShutterSpeed: 1/500
- ExifIFD
- ApertureValue: 4,5
- Contrast: Low
- CreateDate: 2009:07:24 17:50:53
- CustomRendered: Normal
- DateTimeOriginal: 2009:07:24 17:50:53
- ExposureCompensation: +0,7
- ExposureMode: Manual
- ExposureProgram: Aperture-priority AE
- ExposureTime: 1/500
- FNumber: 4,5
- Flash: Off
- FocalLength: 138,0 mm
- FocalLengthIn35mmFormat: 207 mm
- ISO: 200
- MeteringMode: Multi-segment
- Saturation: Low
- SceneCaptureType: Standard
- SensingMethod: One-chip color area
- Sharpness: Hard
- ShutterSpeedValue: 1/500
- SubjectDistanceRange: Distant
- WhiteBalance: Manual
- ICC-header
- ICC-meas
- ICC-view
- IFD0
- Make: SAMSUNG TECHWIN Co.
- Model: SAMSUNG GX10
- ModifyDate: 2009:07:27 13:48:04
- Software: GX10 Ver 1.30
- XMP-aux
- Lens: Schneider D-XENON 50-200mm
- LensID: 4 245
- LensInfo: 500/10 2000/10 40/10 56/10
- XMP-crs
- AlreadyApplied: True
- BlueHue: 0
- BlueSaturation: 0
- Brightness: +60
- CameraProfile: ACR 4.4
- ChromaticAberrationB: 0
- ChromaticAberrationR: 0
- Clarity: 0
- ColorNoiseReduction: 25
- Contrast: +38
- ConvertToGrayscale: False
- CropAngle: 0
- CropBottom: 0.870353
- CropHeight: 4
- CropLeft: 0.236227
- CropRight: 1
- CropTop: 0.014644
- CropUnit: 3
- CropWidth: 3
- Defringe: 0
- Exposure: +0.40
- FillLight: 18
- GreenHue: 0
- GreenSaturation: 0
- HasCrop: True
- HasSettings: True
- HighlightRecovery: 0
- HueAdjustmentAqua: 0
- HueAdjustmentBlue: 0
- HueAdjustmentGreen: 0
- HueAdjustmentMagenta: 0
- HueAdjustmentOrange: 0
- HueAdjustmentPurple: 0
- HueAdjustmentRed: 0
- HueAdjustmentYellow: 0
- LuminanceAdjustmentAqua: 0
- LuminanceAdjustmentBlue: 0
- LuminanceAdjustmentGreen: 0
- LuminanceAdjustmentMagenta: 0
- LuminanceAdjustmentOrange: 0
- LuminanceAdjustmentPurple: 0
- LuminanceAdjustmentRed: 0
- LuminanceAdjustmentYellow: 0
- LuminanceSmoothing: 0
- ParametricDarks: 0
- ParametricHighlightSplit: 75
- ParametricHighlights: 0
- ParametricLights: 0
- ParametricMidtoneSplit: 50
- ParametricShadowSplit: 25
- ParametricShadows: 0
- PostCropVignetteAmount: 0
- RawFileName: SG103673_1.dng
- RedHue: 0
- RedSaturation: 0
- Saturation: 0
- SaturationAdjustmentAqua: 0
- SaturationAdjustmentBlue: 0
- SaturationAdjustmentGreen: 0
- SaturationAdjustmentMagenta: 0
- SaturationAdjustmentOrange: 0
- SaturationAdjustmentPurple: 0
- SaturationAdjustmentRed: 0
- SaturationAdjustmentYellow: 0
- ShadowTint: 0
- Shadows: 2
- SharpenDetail: 25
- SharpenEdgeMasking: 0
- SharpenRadius: +1.0
- Sharpness: 25
- SplitToningBalance: 0
- SplitToningHighlightHue: 0
- SplitToningHighlightSaturation: 0
- SplitToningShadowHue: 0
- SplitToningShadowSaturation: 0
- Temperature: 8400
- Tint: -15
- ToneCurve: 0, 0, 32, 22, 64, 56, 128, 128, 192, 196, 255, 255
- ToneCurveName: Medium Contrast
- Version: 5.0
- Vibrance: 0
- VignetteAmount: 0
- WhiteBalance: As Shot
- XMP-exif
- DateTimeDigitized: 2009:07:24 17:50:53+04:00
- DateTimeOriginal: 2009:07:24 17:50:53+04:00
- ExifImageHeight: 2218
- ExifImageWidth: 2957
- FlashFired: False
- FlashFunction: False
- FlashMode: Off
- FlashRedEyeMode: False
- FlashReturn: No return detection
- XMP-tiff
- ImageHeight: 2218
- ImageWidth: 2957
- XMP-xmp
- CreateDate: 2009:07:24 17:50:53+04:00
- CreatorTool: GX10 Ver 1.30
- ModifyDate: 2009:07:27 13:48:04+04:00
- Просмотров: 379
- Рейтинг: голосов еще нет
- Отзывов: 0