- Раздел: Город
- Дата съёмки: 11.08.2009 13:05
- Дата загрузки фото: 11.08.2009 13:59
- Оригинальная фотография: 1152 x 768 ( 88 Кб)
- Технические характеристики:
- Фотоаппарат: Canon EOS 1000D
- Выдержка: 1/160
- Гиперфокальное расстояние: 2,46 m
- Диафрагма: 7,1
- Светочувствительность: 100
- Фокусное расстояние: 18,0 mm (35 mm equivalent: 29,1 mm)
- Полный EXIF
- Composite
- Aperture: 7,1
- CircleOfConfusion: 0,019 mm
- FOV: 63,0 deg
- FocalLength35efl: 18,0 mm (35 mm equivalent: 29,1 mm)
- HyperfocalDistance: 2,46 m
- ScaleFactor35efl: 1,6
- ShutterSpeed: 1/160
- ExifIFD
- ApertureValue: 7,1
- CreateDate: 2009:08:11 13:05:48
- CustomRendered: Normal
- DateTimeOriginal: 2009:08:11 13:05:48
- ExifImageHeight: 768
- ExifImageWidth: 1152
- ExposureCompensation: 0
- ExposureMode: Auto
- ExposureProgram: Aperture-priority AE
- ExposureTime: 1/160
- FNumber: 7,1
- Flash: Off
- FocalLength: 18,0 mm
- ISO: 100
- MaxApertureValue: 3,5
- MeteringMode: Multi-segment
- SceneCaptureType: Standard
- ShutterSpeedValue: 1/160
- WhiteBalance: Auto
- ICC-header
- ICC-meas
- ICC-view
- IFD0
- Make: Canon
- Model: Canon EOS 1000D
- ModifyDate: 2009:08:11 13:50:56
- Orientation: Horizontal (normal)
- Software: ACD Systems Digital Imaging
- XMP-aux
- Firmware: 1.0.5
- FlashCompensation: 0
- ImageNumber: 0
- Lens: EF-S18-55mm f/3.5-5.6
- LensInfo: 18/1 55/1 0/0 0/0
- SerialNumber: 1280214624
- XMP-crs
- AlreadyApplied: True
- BlueHue: 0
- BlueSaturation: 0
- Brightness: +50
- ChromaticAberrationB: 0
- ChromaticAberrationR: 0
- Clarity: 0
- ColorNoiseReduction: 25
- Contrast: +41
- ConvertToGrayscale: False
- Defringe: 0
- Exposure: 0.00
- FillLight: 0
- GreenHue: 0
- GreenSaturation: 0
- HasCrop: False
- HasSettings: True
- HighlightRecovery: 44
- HueAdjustmentAqua: 0
- HueAdjustmentBlue: 0
- HueAdjustmentGreen: 0
- HueAdjustmentMagenta: 0
- HueAdjustmentOrange: 0
- HueAdjustmentPurple: 0
- HueAdjustmentRed: 0
- HueAdjustmentYellow: 0
- LuminanceAdjustmentAqua: 0
- LuminanceAdjustmentBlue: 0
- LuminanceAdjustmentGreen: 0
- LuminanceAdjustmentMagenta: 0
- LuminanceAdjustmentOrange: 0
- LuminanceAdjustmentPurple: 0
- LuminanceAdjustmentRed: 0
- LuminanceAdjustmentYellow: 0
- LuminanceSmoothing: 0
- ParametricDarks: 0
- ParametricHighlightSplit: 75
- ParametricHighlights: 0
- ParametricLights: 0
- ParametricMidtoneSplit: 50
- ParametricShadowSplit: 25
- ParametricShadows: 0
- PostCropVignetteAmount: 0
- RedHue: 0
- RedSaturation: 0
- Saturation: 0
- SaturationAdjustmentAqua: 0
- SaturationAdjustmentBlue: 0
- SaturationAdjustmentGreen: 0
- SaturationAdjustmentMagenta: 0
- SaturationAdjustmentOrange: 0
- SaturationAdjustmentPurple: 0
- SaturationAdjustmentRed: 0
- SaturationAdjustmentYellow: 0
- ShadowTint: 0
- Shadows: 2
- SharpenDetail: 25
- SharpenEdgeMasking: 0
- SharpenRadius: +1.0
- Sharpness: 25
- SplitToningBalance: 0
- SplitToningHighlightHue: 0
- SplitToningHighlightSaturation: 0
- SplitToningShadowHue: 0
- SplitToningShadowSaturation: 0
- Temperature: 5500
- Tint: +8
- ToneCurve: 0, 0, 32, 22, 64, 56, 128, 128, 192, 196, 255, 255
- ToneCurveName: Medium Contrast
- Version: 5.2
- Vibrance: 0
- VignetteAmount: 0
- WhiteBalance: As Shot
- XMP-exif
- DateTimeDigitized: 2009:08:11 13:05:48.24+04:00
- DateTimeOriginal: 2009:08:11 13:05:48.24+04:00
- ExifImageHeight: 2592
- ExifImageWidth: 3888
- FlashFired: False
- FlashFunction: False
- FlashMode: Off
- FlashRedEyeMode: False
- FlashReturn: No return detection
- XMP-tiff
- ImageHeight: 2592
- ImageWidth: 3888
- XMP-xmp
- CreateDate: 2009:08:11 13:05:48.24+04:00
- ModifyDate: 2009:08:11 13:47:47+04:00
- Rating: 1
- Просмотров: 203
- Рейтинг: голосов еще нет
- Отзывов: отключены