- Раздел: Репортаж
- Дата съёмки: 05.08.2009 01:45
- Дата загрузки фото: 15.08.2009 02:30
- Оригинальная фотография: 1024 x 641 (854 Кб)
- Технические характеристики:
- Фотоаппарат: Nikon COOLPIX L16
- Выдержка: 1/75
- Гиперфокальное расстояние: 2,37 m
- Диафрагма: 2,8
- Светочувствительность: 800
- Фокусное расстояние: 5,7 mm (35 mm equivalent: 35,0 mm)
- Полный EXIF
- Adobe
- ColorTransform: YCbCr
- Composite
- Aperture: 2,8
- CircleOfConfusion: 0,005 mm
- FOV: 54,0 deg
- FocalLength35efl: 5,7 mm (35 mm equivalent: 35,0 mm)
- HyperfocalDistance: 2,37 m
- ScaleFactor35efl: 6,1
- ShutterSpeed: 1/75
- ExifIFD
- ApertureValue: 2,8
- ColorSpace: Uncalibrated
- Contrast: Normal
- CreateDate: 2009:07:25 17:09:39
- CustomRendered: Normal
- DateTimeOriginal: 2009:07:25 17:09:39
- DigitalZoomRatio: 0
- ExifImageHeight: 641
- ExifImageWidth: 1024
- ExposureCompensation: 0
- ExposureMode: Auto
- ExposureProgram: Program AE
- ExposureTime: 1/75
- FNumber: 2,8
- Flash: Off
- FocalLength: 5,7 mm
- FocalLengthIn35mmFormat: 35 mm
- GainControl: High gain up
- ISO: 800
- LightSource: Cloudy
- MaxApertureValue: 2,8
- MeteringMode: Multi-segment
- Saturation: Normal
- SceneCaptureType: Standard
- SceneType: Directly photographed
- Sharpness: Normal
- ShutterSpeedValue: 1/75
- SubjectDistanceRange: Unknown
- WhiteBalance: Manual
- ICC-header
- IFD0
- ImageDescription:
- Make: NIKON
- Model: COOLPIX L16
- ModifyDate: 2009:08:15 01:28:49
- Orientation: Horizontal (normal)
- IFD1
- IPTC
- Caption-Abstract:
- XMP-crs
- AlreadyApplied: True
- BlueHue: 0
- BlueSaturation: 0
- Brightness: 0
- CameraProfile: Embedded
- ChromaticAberrationB: 0
- ChromaticAberrationR: 0
- Clarity: +25
- ColorNoiseReduction: 0
- Contrast: +27
- ConvertToGrayscale: False
- Defringe: 0
- Exposure: -0.05
- FillLight: 15
- GreenHue: 0
- GreenSaturation: 0
- HasCrop: False
- HasSettings: True
- HighlightRecovery: 47
- HueAdjustmentAqua: 0
- HueAdjustmentBlue: 0
- HueAdjustmentGreen: +60
- HueAdjustmentMagenta: 0
- HueAdjustmentOrange: 0
- HueAdjustmentPurple: 0
- HueAdjustmentRed: +8
- HueAdjustmentYellow: -13
- IncrementalTemperature: +5
- IncrementalTint: -3
- LuminanceAdjustmentAqua: 0
- LuminanceAdjustmentBlue: 0
- LuminanceAdjustmentGreen: 0
- LuminanceAdjustmentMagenta: 0
- LuminanceAdjustmentOrange: 0
- LuminanceAdjustmentPurple: 0
- LuminanceAdjustmentRed: 0
- LuminanceAdjustmentYellow: 0
- LuminanceSmoothing: 60
- ParametricDarks: 0
- ParametricHighlightSplit: 75
- ParametricHighlights: 0
- ParametricLights: 0
- ParametricMidtoneSplit: 50
- ParametricShadowSplit: 25
- ParametricShadows: 0
- PostCropVignetteAmount: 0
- RawFileName: CosmiChild1.AK-47.SweetTooth.jpg
- RedHue: -8
- RedSaturation: 0
- Saturation: +3
- SaturationAdjustmentAqua: 0
- SaturationAdjustmentBlue: 0
- SaturationAdjustmentGreen: 0
- SaturationAdjustmentMagenta: 0
- SaturationAdjustmentOrange: 0
- SaturationAdjustmentPurple: 0
- SaturationAdjustmentRed: 0
- SaturationAdjustmentYellow: 0
- ShadowTint: 0
- Shadows: 5
- SharpenDetail: 25
- SharpenEdgeMasking: 18
- SharpenRadius: +0.9
- Sharpness: 43
- SplitToningBalance: 0
- SplitToningHighlightHue: 0
- SplitToningHighlightSaturation: 0
- SplitToningShadowHue: 0
- SplitToningShadowSaturation: 0
- ToneCurve: 0, 0, 255, 255
- ToneCurveName: Linear
- Version: 4.6
- Vibrance: +42
- VignetteAmount: 0
- WhiteBalance: Custom
- XMP-dc
- Description:
- Format: image/jpeg
- XMP-exif
- ColorSpace: Unknown (-1)
- CompressedBitsPerPixel: 2
- DateTimeDigitized: 2009:07:25 17:09:39+06:00
- DateTimeOriginal: 2009:07:25 17:09:39+06:00
- FlashFired: False
- FlashFunction: False
- FlashMode: Off
- FlashRedEyeMode: False
- FlashReturn: No return detection
- XMP-tiff
- ImageHeight: 641
- ImageWidth: 1024
- XMP-xmp
- CreateDate: 2009:08:05 01:45:12+06:00
- ModifyDate: 2009:08:15 01:28:49+03:00
- XMP-xmpMM