| » Участники » Yuras » Львов » Солнечно |
Уважаемые друзья и участники проекта iXBT.photo! К сожалению, 5 марта 2026 года проект iXBT.photo прекратит свою работу и будет закрыт. Мы высоко ценим ваше участие и тот вклад, который вы внесли в развитие нашего сообщества. Пожалуйста, не забудьте сохранить ваши фотографии до этой даты.
С уважением, команда iXBT.com
| Солнечно |
Солнечно
- Раздел: Город
- Дата съёмки: 27.09.2008 17:47
- Дата загрузки фото: 19.08.2009 02:02
- Оригинальная фотография: 1600 x 1147 (487 Кб)
- Технические характеристики:
- Фотоаппарат: Canon EOS 350D DIGITAL
- Выдержка: 1/800
- Гиперфокальное расстояние: 120,52 m
- Диафрагма: 8,0
- Светочувствительность: 200
- Фокусное расстояние: 92,0 mm (35 mm equivalent: 314,9 mm)
- Экспокоррекция: -1/3
- Полный EXIF
- Adobe
- ColorTransform: Unknown (RGB or CMYK)
- Composite
- Aperture: 8,0
- CircleOfConfusion: 0,009 mm
- FOV: 6,0 deg
- FocalLength35efl: 92,0 mm (35 mm equivalent: 314,9 mm)
- HyperfocalDistance: 120,52 m
- ScaleFactor35efl: 3,4
- ShutterSpeed: 1/800
- ExifIFD
- ApertureValue: 8,0
- ColorSpace: Uncalibrated
- CreateDate: 2008:09:27 17:47:01
- CustomRendered: Normal
- DateTimeOriginal: 2008:09:27 17:47:01
- ExifImageHeight: 1147
- ExifImageWidth: 1600
- ExposureCompensation: -1/3
- ExposureMode: Auto
- ExposureProgram: Aperture-priority AE
- ExposureTime: 1/800
- FNumber: 8,0
- Flash: Off
- FocalLength: 92,0 mm
- ISO: 200
- MaxApertureValue: 4,0
- MeteringMode: Multi-segment
- SceneCaptureType: Standard
- ShutterSpeedValue: 1/800
- WhiteBalance: Auto
- ICC-header
- IFD0
- Artist: Yuras
- Make: Canon
- Model: Canon EOS 350D DIGITAL
- ModifyDate: 2009:08:19 01:00:03
- Orientation: Horizontal (normal)
- IFD1
- IPTC
- By-line: Yuras
- XMP-aux
- Firmware: 1.0.3
- FlashCompensation: 0
- ImageNumber: 168
- Lens: 70.0-300.0 mm
- LensInfo: 70/1 300/1 0/0 0/0
- OwnerName: Yuras
- SerialNumber: 230102161
- XMP-crs
- AlreadyApplied: True
- BlueHue: 0
- BlueSaturation: 0
- Brightness: +78
- ChromaticAberrationB: 0
- ChromaticAberrationR: 0
- Clarity: +35
- ColorNoiseReduction: 25
- Contrast: +100
- ConvertToGrayscale: True
- Defringe: 0
- Exposure: -0.80
- FillLight: 8
- GrayMixerAqua: -19
- GrayMixerBlue: +9
- GrayMixerGreen: -26
- GrayMixerMagenta: +4
- GrayMixerOrange: -18
- GrayMixerPurple: +15
- GrayMixerRed: -9
- GrayMixerYellow: -22
- GreenHue: 0
- GreenSaturation: 0
- HasCrop: False
- HasSettings: True
- HighlightRecovery: 11
- LuminanceSmoothing: 15
- ParametricDarks: 0
- ParametricHighlightSplit: 75
- ParametricHighlights: 0
- ParametricLights: 0
- ParametricMidtoneSplit: 50
- ParametricShadowSplit: 25
- ParametricShadows: 0
- PostCropVignetteAmount: 0
- RawFileName: IMG_6824.CR2
- RedHue: 0
- RedSaturation: 0
- ShadowTint: 0
- Shadows: 6
- SharpenDetail: 25
- SharpenEdgeMasking: 3
- SharpenRadius: +1.2
- Sharpness: 21
- SplitToningBalance: 0
- SplitToningHighlightHue: 0
- SplitToningHighlightSaturation: 0
- SplitToningShadowHue: 0
- SplitToningShadowSaturation: 0
- Temperature: 3900
- Tint: +7
- ToneCurve: 0, 0, 30, 18, 65, 43, 128, 140, 190, 211, 255, 255
- ToneCurveName: Custom
- Version: 5.4
- VignetteAmount: 0
- WhiteBalance: Custom
- XMP-dc
- Creator: Yuras
- Format: image/jpeg
- XMP-exif
- DateTimeDigitized: 2008:09:27 17:47:01+03:00
- DateTimeOriginal: 2008:09:27 17:47:01+03:00
- FlashFired: False
- FlashFunction: False
- FlashMode: Off
- FlashRedEyeMode: False
- FlashReturn: No return detection
- XMP-tiff
- XMP-xmp
- CreateDate: 2008:09:27 17:47:01+03:00
- ModifyDate: 2009:08:19 01:00:03+03:00
- Rating: 0
- XMP-xmpMM
Получить код для блога
| Вставка фотографии в текущем разрешении |
Вставка миниатюры |
HTML (для вставки в блог):
BBCode (для вставки в форум):
Ссылка на фото:
Ссылка на миниатюру:
- Послать ссылку другу
| Комментарии к фотографии |