- Раздел: Другое, разное
- Дата съёмки: 07.09.2009 23:16
- Дата загрузки фото: 08.09.2009 00:34
- Оригинальная фотография: 2000 x 1333 (473 Кб)
- Технические характеристики:
- Фотоаппарат: Canon EOS Kiss X3
- Выдержка: 1/640
- Гиперфокальное расстояние: 6,64 m
- Диафрагма: 10,0
- Светочувствительность: 100
- Фокусное расстояние: 23,0 mm (35 mm equivalent: 86,8 mm)
- Полный EXIF
- Adobe
- ColorTransform: YCbCr
- Composite
- Aperture: 10,0
- CircleOfConfusion: 0,008 mm
- FOV: 23,0 deg
- FocalLength35efl: 23,0 mm (35 mm equivalent: 86,8 mm)
- HyperfocalDistance: 6,64 m
- ScaleFactor35efl: 3,8
- ShutterSpeed: 1/640
- ExifIFD
- ApertureValue: 10,0
- ColorSpace: sRGB
- CreateDate: 2009:09:07 11:05:00
- CustomRendered: Normal
- DateTimeOriginal: 2009:09:07 11:05:00
- ExifImageHeight: 1333
- ExifImageWidth: 2000
- ExposureCompensation: 0
- ExposureMode: Manual
- ExposureProgram: Manual
- ExposureTime: 1/640
- FNumber: 10,0
- Flash: Off
- FocalLength: 23,0 mm
- ISO: 100
- MaxApertureValue: 3,5
- MeteringMode: Multi-segment
- SceneCaptureType: Standard
- ShutterSpeedValue: 1/640
- WhiteBalance: Auto
- ICC-header
- ICC-meas
- ICC-view
- IFD0
- Artist: Photographer: Michael Ortenberg
- Copyright: Copyright: Michael Ortenberg
- Make: Canon
- Model: Canon EOS Kiss X3
- ModifyDate: 2009:09:07 23:16:51
- Orientation: Horizontal (normal)
- IFD1
- IPTC
- By-line: Photographer: Michael Ortenberg
- CopyrightNotice: Copyright: Michael Ortenberg
- XMP-aux
- Firmware: 1.0.9
- FlashCompensation: 0
- ImageNumber: 0
- Lens: EF-S18-55mm f/3.5-5.6 IS
- LensInfo: 18/1 55/1 0/0 0/0
- OwnerName: Michael Ortenberg
- SerialNumber: 310109437
- XMP-crs
- AlreadyApplied: True
- BlueHue: 0
- BlueSaturation: 0
- Brightness: +50
- ChromaticAberrationB: 0
- ChromaticAberrationR: 0
- Clarity: +100
- ColorNoiseReduction: 25
- Contrast: +79
- ConvertToGrayscale: False
- Defringe: 0
- Exposure: +0.57
- FillLight: 19
- GreenHue: 0
- GreenSaturation: 0
- HasCrop: False
- HasSettings: True
- HighlightRecovery: 10
- HueAdjustmentAqua: 0
- HueAdjustmentBlue: 0
- HueAdjustmentGreen: 0
- HueAdjustmentMagenta: 0
- HueAdjustmentOrange: 0
- HueAdjustmentPurple: 0
- HueAdjustmentRed: 0
- HueAdjustmentYellow: 0
- LuminanceAdjustmentAqua: 0
- LuminanceAdjustmentBlue: 0
- LuminanceAdjustmentGreen: 0
- LuminanceAdjustmentMagenta: 0
- LuminanceAdjustmentOrange: 0
- LuminanceAdjustmentPurple: 0
- LuminanceAdjustmentRed: 0
- LuminanceAdjustmentYellow: 0
- LuminanceSmoothing: 0
- ParametricDarks: +57
- ParametricHighlightSplit: 75
- ParametricHighlights: +90
- ParametricLights: -55
- ParametricMidtoneSplit: 50
- ParametricShadowSplit: 25
- ParametricShadows: +36
- PostCropVignetteAmount: 0
- RedHue: 0
- RedSaturation: 0
- Saturation: +19
- SaturationAdjustmentAqua: 0
- SaturationAdjustmentBlue: 0
- SaturationAdjustmentGreen: 0
- SaturationAdjustmentMagenta: 0
- SaturationAdjustmentOrange: 0
- SaturationAdjustmentPurple: 0
- SaturationAdjustmentRed: 0
- SaturationAdjustmentYellow: 0
- ShadowTint: 0
- Shadows: 10
- SharpenDetail: 25
- SharpenEdgeMasking: 0
- SharpenRadius: +1.0
- Sharpness: 48
- SplitToningBalance: +2
- SplitToningHighlightHue: 21
- SplitToningHighlightSaturation: 0
- SplitToningShadowHue: 0
- SplitToningShadowSaturation: 0
- Temperature: 5350
- Tint: 0
- ToneCurve: 0, 0, 32, 22, 64, 56, 128, 128, 192, 196, 255, 255
- ToneCurveName: Medium Contrast
- Version: 5.4
- Vibrance: +40
- VignetteAmount: 0
- WhiteBalance: As Shot
- XMP-dc
- Creator: Photographer: Michael Ortenberg
- Format: image/jpeg
- Rights: Copyright: Michael Ortenberg
- XMP-exif
- DateTimeDigitized: 2009:09:07 11:05:00.23+03:00
- DateTimeOriginal: 2009:09:07 11:05:00.23+03:00
- FlashFired: False
- FlashFunction: False
- FlashMode: Off
- FlashRedEyeMode: False
- FlashReturn: No return detection
- XMP-tiff
- ImageHeight: 3168
- ImageWidth: 4752
- XMP-xmp
- CreateDate: 2009:09:07 23:16:51+03:00
- ModifyDate: 2009:09:07 23:16:51+03:00
- XMP-xmpMM
- Просмотров: 488
- Рейтинг: голосов еще нет
- Отзывов: отключены