- Раздел: Путешествия
- Дата съёмки: 23.07.2007 10:21
- Дата загрузки фото: 08.09.2009 23:03
- Оригинальная фотография: 640 x 427 (189 Кб)
- Технические характеристики:
- Фотоаппарат: Canon EOS 400D DIGITAL
- Выдержка: 1/3200
- Гиперфокальное расстояние: 9346,78 m
- Диафрагма: 5,6
- Светочувствительность: 400
- Фокусное расстояние: 400,0 mm (35 mm equivalent: 3931,7 mm)
- Полный EXIF
- Adobe
- ColorTransform: YCbCr
- Composite
- Aperture: 5,6
- CircleOfConfusion: 0,003 mm
- FOV: 0,0 deg
- FocalLength35efl: 400,0 mm (35 mm equivalent: 3931,7 mm)
- HyperfocalDistance: 9346,78 m
- ScaleFactor35efl: 9,8
- ShutterSpeed: 1/3200
- ExifIFD
- ApertureValue: 5,6
- ColorSpace: sRGB
- CreateDate: 2007:07:23 10:21:06
- CustomRendered: Normal
- DateTimeOriginal: 2007:07:23 10:21:06
- ExifImageHeight: 427
- ExifImageWidth: 640
- ExposureCompensation: 0
- ExposureMode: Auto
- ExposureProgram: Aperture-priority AE
- ExposureTime: 1/3200
- FNumber: 5,6
- Flash: Off
- FocalLength: 400,0 mm
- ISO: 400
- MaxApertureValue: 5,6
- MeteringMode: Partial
- SceneCaptureType: Standard
- ShutterSpeedValue: 1/3200
- WhiteBalance: Manual
- ICC-header
- ICC-meas
- ICC-view
- IFD0
- Artist: unknown
- Make: Canon
- Model: Canon EOS 400D DIGITAL
- ModifyDate: 2009:09:08 05:52:10
- Orientation: Horizontal (normal)
- IFD1
- IPTC
- By-line: unknown
- XMP-aux
- Firmware: 1.0.4
- FlashCompensation: 0
- ImageNumber: 128
- Lens: EF100-400mm f/4.5-5.6L IS USM
- LensInfo: 100/1 400/1 0/0 0/0
- OwnerName: unknown
- SerialNumber: 430188164
- XMP-crs
- AlreadyApplied: True
- BlueHue: 0
- BlueSaturation: 0
- Brightness: +8
- CameraProfile: ACR 3.6
- ChromaticAberrationB: 0
- ChromaticAberrationR: 0
- Clarity: 0
- ColorNoiseReduction: 0
- Contrast: +69
- ConvertToGrayscale: False
- CropAngle: 0
- CropBottom: 0.88459
- CropHeight: 3
- CropLeft: 0
- CropRight: 0.82688
- CropTop: 0.057711
- CropUnit: 3
- CropWidth: 2
- Defringe: 0
- Exposure: +0.30
- FillLight: 14
- GreenHue: 0
- GreenSaturation: 0
- HasCrop: True
- HasSettings: True
- HighlightRecovery: 15
- HueAdjustmentAqua: 0
- HueAdjustmentBlue: 0
- HueAdjustmentGreen: 0
- HueAdjustmentMagenta: 0
- HueAdjustmentOrange: 0
- HueAdjustmentPurple: 0
- HueAdjustmentRed: 0
- HueAdjustmentYellow: 0
- LuminanceAdjustmentAqua: 0
- LuminanceAdjustmentBlue: 0
- LuminanceAdjustmentGreen: 0
- LuminanceAdjustmentMagenta: 0
- LuminanceAdjustmentOrange: 0
- LuminanceAdjustmentPurple: 0
- LuminanceAdjustmentRed: 0
- LuminanceAdjustmentYellow: 0
- LuminanceSmoothing: 0
- ParametricDarks: 0
- ParametricHighlightSplit: 75
- ParametricHighlights: 0
- ParametricLights: 0
- ParametricMidtoneSplit: 50
- ParametricShadowSplit: 25
- ParametricShadows: 0
- PostCropVignetteAmount: 0
- RawFileName: IMG_4136.CR2
- RedHue: 0
- RedSaturation: 0
- Saturation: 0
- SaturationAdjustmentAqua: 0
- SaturationAdjustmentBlue: 0
- SaturationAdjustmentGreen: 0
- SaturationAdjustmentMagenta: 0
- SaturationAdjustmentOrange: 0
- SaturationAdjustmentPurple: 0
- SaturationAdjustmentRed: 0
- SaturationAdjustmentYellow: 0
- ShadowTint: 0
- Shadows: 8
- SharpenDetail: 25
- SharpenEdgeMasking: 0
- SharpenRadius: +1.0
- Sharpness: 0
- SplitToningBalance: 0
- SplitToningHighlightHue: 0
- SplitToningHighlightSaturation: 0
- SplitToningShadowHue: 0
- SplitToningShadowSaturation: 0
- Temperature: 5550
- Tint: 0
- ToneCurve: 0, 0, 255, 255
- ToneCurveName: Linear
- Version: 5.4
- Vibrance: 0
- VignetteAmount: 0
- WhiteBalance: Custom
- XMP-dc
- Creator: unknown
- Format: image/jpeg
- XMP-exif
- DateTimeDigitized: 2007:07:23 10:21:06+04:00
- DateTimeOriginal: 2007:07:23 10:21:06+04:00
- FlashFired: False
- FlashFunction: False
- FlashMode: Off
- FlashRedEyeMode: False
- FlashReturn: No return detection
- XMP-tiff
- XMP-xmp
- CreateDate: 2007:07:23 10:21:06+04:00
- ModifyDate: 2009:09:08 05:52:10+04:00
- Rating: 5
- XMP-xmpMM
- Просмотров: 256
- Рейтинг: голосов еще нет
- Отзывов: 0