- Раздел: Путешествия
- Дата съёмки: 15.12.2008 06:01
- Дата загрузки фото: 13.09.2009 18:24
- Оригинальная фотография: 640 x 427 (185 Кб)
- Технические характеристики:
- Фотоаппарат: Canon EOS 400D DIGITAL
- Выдержка: 1/320
- Гиперфокальное расстояние: 13,25 m
- Диафрагма: 8,0
- Светочувствительность: 100
- Фокусное расстояние: 18,0 mm (35 mm equivalent: 176,9 mm)
- Полный EXIF
- Adobe
- ColorTransform: YCbCr
- Composite
- Aperture: 8,0
- CircleOfConfusion: 0,003 mm
- FOV: 11,0 deg
- FocalLength35efl: 18,0 mm (35 mm equivalent: 176,9 mm)
- HyperfocalDistance: 13,25 m
- ScaleFactor35efl: 9,8
- ShutterSpeed: 1/320
- ExifIFD
- ApertureValue: 8,0
- ColorSpace: sRGB
- CreateDate: 2008:07:16 13:00:04
- CustomRendered: Normal
- DateTimeOriginal: 2008:07:16 13:00:04
- ExifImageHeight: 427
- ExifImageWidth: 640
- ExposureCompensation: 0
- ExposureMode: Auto
- ExposureProgram: Aperture-priority AE
- ExposureTime: 1/320
- FNumber: 8,0
- Flash: Off
- FocalLength: 18,0 mm
- ISO: 100
- MaxApertureValue: 4,0
- MeteringMode: Multi-segment
- SceneCaptureType: Standard
- ShutterSpeedValue: 1/320
- WhiteBalance: Auto
- ICC-header
- ICC-meas
- ICC-view
- IFD0
- Artist: unknown
- Copyright: В© A.Balazh 2008
- Make: Canon
- Model: Canon EOS 400D DIGITAL
- ModifyDate: 2009:09:13 17:37:07
- Orientation: Horizontal (normal)
- IFD1
- IPTC
- By-line: unknown
- CopyrightNotice: В© A.Balazh 2008
- Keywords: ALI, ANGIL, ANT, BOK, COOL, Ford, Ford Ranger, LEE, MARI, Mitsubishi Grandis, Opel Astra, PET, SASHA, Subaru Outback, Suzuki Grand Vitara, TIM, Toyota HiLux, TRO, TROAN, URI, VANGIL
- XMP-aux
- Firmware: 1.0.4
- FlashCompensation: 0
- ImageNumber: 0
- Lens: EF-S10-22mm f/3.5-4.5 USM
- LensInfo: 10/1 22/1 0/0 0/0
- OwnerName: unknown
- SerialNumber: 430188164
- XMP-crs
- AlreadyApplied: True
- BlueHue: 0
- BlueSaturation: 0
- Brightness: +3
- CameraProfile: ACR 4.4
- ChromaticAberrationB: 0
- ChromaticAberrationR: 0
- Clarity: 0
- ColorNoiseReduction: 25
- Contrast: +84
- ConvertToGrayscale: False
- CropAngle: 0
- CropBottom: 0.889918
- CropHeight: 3
- CropLeft: 0.055556
- CropRight: 0.945473
- CropTop: 0
- CropUnit: 3
- CropWidth: 2
- Defringe: 0
- Exposure: +0.30
- FillLight: 25
- GreenHue: 0
- GreenSaturation: 0
- HasCrop: True
- HasSettings: True
- HighlightRecovery: 33
- HueAdjustmentAqua: 0
- HueAdjustmentBlue: 0
- HueAdjustmentGreen: 0
- HueAdjustmentMagenta: 0
- HueAdjustmentOrange: 0
- HueAdjustmentPurple: 0
- HueAdjustmentRed: 0
- HueAdjustmentYellow: 0
- LuminanceAdjustmentAqua: 0
- LuminanceAdjustmentBlue: 0
- LuminanceAdjustmentGreen: 0
- LuminanceAdjustmentMagenta: 0
- LuminanceAdjustmentOrange: 0
- LuminanceAdjustmentPurple: 0
- LuminanceAdjustmentRed: 0
- LuminanceAdjustmentYellow: 0
- LuminanceSmoothing: 0
- ParametricDarks: 0
- ParametricHighlightSplit: 75
- ParametricHighlights: 0
- ParametricLights: 0
- ParametricMidtoneSplit: 50
- ParametricShadowSplit: 25
- ParametricShadows: 0
- PostCropVignetteAmount: 0
- RawFileName: ANT_16.07.08-1300_0025.dng
- RedHue: 0
- RedSaturation: 0
- Saturation: 0
- SaturationAdjustmentAqua: 0
- SaturationAdjustmentBlue: 0
- SaturationAdjustmentGreen: 0
- SaturationAdjustmentMagenta: 0
- SaturationAdjustmentOrange: 0
- SaturationAdjustmentPurple: 0
- SaturationAdjustmentRed: 0
- SaturationAdjustmentYellow: 0
- ShadowTint: 0
- Shadows: 8
- SharpenDetail: 25
- SharpenEdgeMasking: 0
- SharpenRadius: +1.0
- Sharpness: 25
- SplitToningBalance: 0
- SplitToningHighlightHue: 0
- SplitToningHighlightSaturation: 0
- SplitToningShadowHue: 0
- SplitToningShadowSaturation: 0
- Temperature: 5150
- Tint: 0
- ToneCurve: 0, 0, 255, 255
- ToneCurveName: Linear
- Version: 4.6
- Vibrance: 0
- VignetteAmount: 0
- WhiteBalance: Custom
- XMP-dc
- Creator: unknown, Anton A. Balazh
- Format: image/jpeg
- Rights: В© A.Balazh 2008
- Subject: ALI, ANGIL, ANT, BOK, COOL, Ford, Ford Ranger, LEE, MARI, Mitsubishi Grandis, Opel Astra, PET, SASHA, Subaru Outback, Suzuki Grand Vitara, TIM, Toyota HiLux, TRO, TROAN, URI, VANGIL
- XMP-exif
- DateTimeDigitized: 2008:07:16 13:00:04+04:00
- DateTimeOriginal: 2008:07:16 13:00:04+04:00
- FlashFired: False
- FlashFunction: False
- FlashMode: Off
- FlashRedEyeMode: False
- FlashReturn: No return detection
- XMP-lr
- HierarchicalSubject: ALI, ANGIL, ANT, BOK, COOL, Ford, Ford Ranger, LEE, MARI, Mitsubishi Grandis, Opel Astra, PET, SASHA, Subaru Outback, Suzuki Grand Vitara, TIM, Toyota HiLux, TRO, TROAN, URI, VANGIL
- XMP-tiff
- XMP-xmp
- CreateDate: 2008:12:15 06:01:09+03:00
- ModifyDate: 2009:09:13 17:37:07+04:00
- Rating: 5
- XMP-xmpMM
- DerivedFrom:
- Просмотров: 305
- Рейтинг: голосов еще нет
- Отзывов: 0