- Раздел: Портрет
- Дата съёмки: 01.09.2009 13:28
- Дата загрузки фото: 14.09.2009 09:42
- Оригинальная фотография: 713 x 1069 (645 Кб)
- Технические характеристики:
- Фотоаппарат: Canon EOS 50D
- Выдержка: 1/125
- Гиперфокальное расстояние: 1151,75 m
- Диафрагма: 6,3
- Светочувствительность: 100
- Фокусное расстояние: 176,0 mm (35 mm equivalent: 1238,7 mm)
- Полный EXIF
- Adobe
- ColorTransform: YCbCr
- Composite
- Aperture: 6,3
- CircleOfConfusion: 0,004 mm
- FOV: 1,0 deg
- FocalLength35efl: 176,0 mm (35 mm equivalent: 1238,7 mm)
- HyperfocalDistance: 1151,75 m
- ScaleFactor35efl: 7,0
- ShutterSpeed: 1/125
- ExifIFD
- ApertureValue: 6,3
- ColorSpace: sRGB
- CreateDate: 2009:09:01 13:28:46
- CustomRendered: Normal
- DateTimeOriginal: 2009:09:01 13:28:46
- ExifImageHeight: 1069
- ExifImageWidth: 713
- ExposureCompensation: 0
- ExposureMode: Manual
- ExposureProgram: Manual
- ExposureTime: 1/125
- FNumber: 6,3
- Flash: Off
- FocalLength: 176,0 mm
- ISO: 100
- MaxApertureValue: 4,6
- MeteringMode: Multi-segment
- SceneCaptureType: Standard
- ShutterSpeedValue: 1/125
- WhiteBalance: Auto
- ICC-header
- ICC-meas
- ICC-view
- IFD0
- Artist: shanshin
- ImageDescription: look into camera, barefoot, sunglasses on head, make-up, long hair
- Make: Canon
- Model: Canon EOS 50D
- ModifyDate: 2009:09:02 15:03:07
- Orientation: Horizontal (normal)
- IFD1
- IPTC
- By-line: shanshin
- Caption-Abstract: look into camera, barefoot, sunglasses on head, make-up, long hair
- Keywords: young, woman, people, person, alone, one, sitting, park, bench, summer, sunny, day, outdoor, relax, look, stare, eyes, blue, sunglasses, long, hair, beautiful
- ObjectName: young woman sitting on the bench in the park
- XMP-aux
- Firmware: 1.0.3
- FlashCompensation: 0
- ImageNumber: 0
- Lens: 70-300mm
- LensInfo: 70/1 300/1 0/0 0/0
- SerialNumber: 430202074
- XMP-crs
- AlreadyApplied: True
- BlueHue: 0
- BlueSaturation: 0
- Brightness: +31
- CameraProfile: ACR 4.6
- ChromaticAberrationB: 0
- ChromaticAberrationR: 0
- Clarity: +1
- ColorNoiseReduction: 25
- Contrast: +49
- ConvertToGrayscale: False
- Defringe: 0
- Exposure: 0.00
- FillLight: 43
- GreenHue: 0
- GreenSaturation: 0
- HasCrop: False
- HasSettings: True
- HighlightRecovery: 0
- HueAdjustmentAqua: 0
- HueAdjustmentBlue: 0
- HueAdjustmentGreen: 0
- HueAdjustmentMagenta: 0
- HueAdjustmentOrange: 0
- HueAdjustmentPurple: 0
- HueAdjustmentRed: 0
- HueAdjustmentYellow: 0
- LuminanceAdjustmentAqua: 0
- LuminanceAdjustmentBlue: 0
- LuminanceAdjustmentGreen: 0
- LuminanceAdjustmentMagenta: 0
- LuminanceAdjustmentOrange: 0
- LuminanceAdjustmentPurple: 0
- LuminanceAdjustmentRed: 0
- LuminanceAdjustmentYellow: 0
- LuminanceSmoothing: 0
- ParametricDarks: 0
- ParametricHighlightSplit: 75
- ParametricHighlights: 0
- ParametricLights: 0
- ParametricMidtoneSplit: 50
- ParametricShadowSplit: 25
- ParametricShadows: 0
- PostCropVignetteAmount: 0
- RawFileName: IMEG_4544.CR2
- RedHue: 0
- RedSaturation: 0
- Saturation: +20
- SaturationAdjustmentAqua: 0
- SaturationAdjustmentBlue: 0
- SaturationAdjustmentGreen: 0
- SaturationAdjustmentMagenta: 0
- SaturationAdjustmentOrange: 0
- SaturationAdjustmentPurple: 0
- SaturationAdjustmentRed: 0
- SaturationAdjustmentYellow: 0
- ShadowTint: 0
- Shadows: 5
- SharpenDetail: 25
- SharpenEdgeMasking: 0
- SharpenRadius: +1.0
- Sharpness: 25
- SplitToningBalance: 0
- SplitToningHighlightHue: 0
- SplitToningHighlightSaturation: 0
- SplitToningShadowHue: 0
- SplitToningShadowSaturation: 0
- Temperature: 4650
- Tint: 0
- ToneCurve: 0, 0, 32, 22, 64, 56, 128, 128, 192, 196, 255, 255
- ToneCurveName: Medium Contrast
- Version: 5.1
- Vibrance: +17
- VignetteAmount: +30
- VignetteMidpoint: 50
- XMP-dc
- Creator: shanshin
- Description: look into camera, barefoot, sunglasses on head, make-up, long hair
- Format: image/jpeg
- Subject: young, woman, people, person, alone, one, sitting, park, bench, summer, sunny, day, outdoor, relax, look, stare, eyes, blue, sunglasses, long, hair, beautiful
- Title: young woman sitting on the bench in the park
- XMP-exif
- DateTimeDigitized: 2009:09:01 13:28:46.69+04:00
- DateTimeOriginal: 2009:09:01 13:28:46.69+04:00
- FlashFired: False
- FlashFunction: False
- FlashMode: Off
- FlashRedEyeMode: False
- FlashReturn: No return detection
- XMP-tiff
- XMP-xmp
- CreateDate: 2009:09:01 13:28:46.69+04:00
- ModifyDate: 2009:09:02 15:03:07+04:00
- Rating: 0
- XMP-xmpMM
- XMP-xmpRights