- Раздел: Другое, разное
- Дата съёмки: 10.05.2009 06:27
- Дата загрузки фото: 14.09.2009 10:07
- Оригинальная фотография: 776 x 1176 (819 Кб)
- Технические характеристики:
- Фотоаппарат: Canon EOS 50D
- Выдержка: 1/200
- Гиперфокальное расстояние: 32,71 m
- Диафрагма: 8,0
- Светочувствительность: 640
- Фокусное расстояние: 35,0 mm (35 mm equivalent: 224,7 mm)
- Полный EXIF
- Adobe
- ColorTransform: YCbCr
- Composite
- Aperture: 8,0
- CircleOfConfusion: 0,005 mm
- FOV: 9,0 deg
- FocalLength35efl: 35,0 mm (35 mm equivalent: 224,7 mm)
- HyperfocalDistance: 32,71 m
- ScaleFactor35efl: 6,4
- ShutterSpeed: 1/200
- ExifIFD
- ApertureValue: 8,0
- ColorSpace: Uncalibrated
- CreateDate: 2009:05:10 06:27:43
- CustomRendered: Normal
- DateTimeOriginal: 2009:05:10 06:27:43
- ExifImageHeight: 1176
- ExifImageWidth: 776
- ExposureCompensation: 0
- ExposureMode: Manual
- ExposureProgram: Manual
- ExposureTime: 1/200
- FNumber: 8,0
- Flash: Off
- FocalLength: 35,0 mm
- ISO: 640
- MaxApertureValue: 4,0
- MeteringMode: Multi-segment
- SceneCaptureType: Standard
- ShutterSpeedValue: 1/200
- WhiteBalance: Auto
- ICC-header
- IFD0
- Artist: shanshin
- Make: Canon
- Model: Canon EOS 50D
- ModifyDate: 2009:05:12 18:27:49
- Orientation: Horizontal (normal)
- IFD1
- IPTC
- By-line: shanshin
- Keywords: church, religion, chrictianity, street, moscow, russia, sky, blue, clear, reflection, water, nobody, morning, poi
- ObjectName: Õðà ì Õðèñòà Ñïà ñèòåëÿ
- XMP-aux
- Firmware: 1.0.3
- FlashCompensation: 0
- ImageNumber: 0
- Lens: EF24-105mm f/4L IS USM
- LensInfo: 24/1 105/1 0/0 0/0
- SerialNumber: 430202074
- XMP-crs
- AlreadyApplied: True
- BlueHue: 0
- BlueSaturation: 0
- Brightness: 0
- CameraProfile: ACR 4.6
- ChromaticAberrationB: 0
- ChromaticAberrationR: 0
- Clarity: +3
- ColorNoiseReduction: 25
- Contrast: +13
- ConvertToGrayscale: False
- Defringe: 0
- Exposure: +1.00
- FillLight: 20
- GreenHue: 0
- GreenSaturation: 0
- HasCrop: False
- HasSettings: True
- HighlightRecovery: 0
- HueAdjustmentAqua: 0
- HueAdjustmentBlue: 0
- HueAdjustmentGreen: 0
- HueAdjustmentMagenta: 0
- HueAdjustmentOrange: 0
- HueAdjustmentPurple: 0
- HueAdjustmentRed: 0
- HueAdjustmentYellow: 0
- LuminanceAdjustmentAqua: 0
- LuminanceAdjustmentBlue: 0
- LuminanceAdjustmentGreen: 0
- LuminanceAdjustmentMagenta: 0
- LuminanceAdjustmentOrange: 0
- LuminanceAdjustmentPurple: 0
- LuminanceAdjustmentRed: 0
- LuminanceAdjustmentYellow: 0
- LuminanceSmoothing: 0
- ParametricDarks: 0
- ParametricHighlightSplit: 75
- ParametricHighlights: 0
- ParametricLights: 0
- ParametricMidtoneSplit: 50
- ParametricShadowSplit: 25
- ParametricShadows: 0
- PostCropVignetteAmount: 0
- RawFileName: IMEG_1253.CR2
- RedHue: 0
- RedSaturation: 0
- Saturation: +8
- SaturationAdjustmentAqua: 0
- SaturationAdjustmentBlue: 0
- SaturationAdjustmentGreen: 0
- SaturationAdjustmentMagenta: 0
- SaturationAdjustmentOrange: 0
- SaturationAdjustmentPurple: 0
- SaturationAdjustmentRed: 0
- SaturationAdjustmentYellow: 0
- ShadowTint: 0
- Shadows: 3
- SharpenDetail: 25
- SharpenEdgeMasking: 0
- SharpenRadius: +1.0
- Sharpness: 25
- SplitToningBalance: 0
- SplitToningHighlightHue: 0
- SplitToningHighlightSaturation: 0
- SplitToningShadowHue: 0
- SplitToningShadowSaturation: 0
- Temperature: 5350
- Tint: +19
- ToneCurve: 0, 0, 32, 22, 64, 56, 128, 128, 192, 196, 255, 255
- ToneCurveName: Medium Contrast
- Version: 5.1
- Vibrance: 0
- VignetteAmount: -67
- VignetteMidpoint: 50
- WhiteBalance: Custom
- XMP-dc
- Creator: shanshin
- Format: image/jpeg
- Subject: church, religion, chrictianity, street, moscow, russia, sky, blue, clear, reflection, water, nobody, morning, poi
- Title: Храм Христа Спасителя
- XMP-exif
- DateTimeDigitized: 2009:05:10 06:27:43.13+04:00
- DateTimeOriginal: 2009:05:10 06:27:43.13+04:00
- FlashFired: False
- FlashFunction: False
- FlashMode: Off
- FlashRedEyeMode: False
- FlashReturn: No return detection
- XMP-tiff
- XMP-xmp
- CreateDate: 2009:05:10 06:27:43.13+04:00
- ModifyDate: 2009:05:12 18:27:49+04:00
- Rating: 0
- XMP-xmpMM
- XMP-xmpRights
- Просмотров: 157
- Рейтинг: голосов еще нет
- Отзывов: 0