- Раздел: Другое, разное
- Дата съёмки: 05.06.2009 16:51
- Дата загрузки фото: 14.09.2009 10:09
- Оригинальная фотография: 521 x 785 (383 Кб)
- Технические характеристики:
- Фотоаппарат: Canon EOS 50D
- Выдержка: 1/640
- Гиперфокальное расстояние: 18,40 m
- Диафрагма: 10,0
- Светочувствительность: 200
- Фокусное расстояние: 24,0 mm (35 mm equivalent: 230,4 mm)
- Полный EXIF
- Adobe
- ColorTransform: YCbCr
- Composite
- Aperture: 10,0
- CircleOfConfusion: 0,003 mm
- FOV: 8,0 deg
- FocalLength35efl: 24,0 mm (35 mm equivalent: 230,4 mm)
- HyperfocalDistance: 18,40 m
- ScaleFactor35efl: 9,6
- ShutterSpeed: 1/640
- ExifIFD
- ApertureValue: 10,0
- ColorSpace: Uncalibrated
- CreateDate: 2009:06:05 16:51:28
- CustomRendered: Normal
- DateTimeOriginal: 2009:06:05 16:51:28
- ExifImageHeight: 785
- ExifImageWidth: 521
- ExposureCompensation: 0
- ExposureMode: Manual
- ExposureProgram: Manual
- ExposureTime: 1/640
- FNumber: 10,0
- Flash: Off
- FocalLength: 24,0 mm
- ISO: 200
- MaxApertureValue: 4,0
- MeteringMode: Multi-segment
- SceneCaptureType: Standard
- ShutterSpeedValue: 1/640
- WhiteBalance: Auto
- ICC-header
- IFD0
- Artist: shanshin
- Make: Canon
- Model: Canon EOS 50D
- ModifyDate: 2009:06:10 13:12:34
- Orientation: Horizontal (normal)
- IFD1
- IPTC
- By-line: shanshin
- Keywords: industrial, worker, skyscrape, office, building, business, high, tall, mirror, reflection, windows, washing, cleaning, profession, risk, rope, altitude, people, man, sky
- ObjectName: high rise industrial workers on a skyscrape
- XMP-aux
- Firmware: 1.0.3
- FlashCompensation: 0
- ImageNumber: 0
- Lens: EF24-105mm f/4L IS USM
- LensInfo: 24/1 105/1 0/0 0/0
- SerialNumber: 430202074
- XMP-crs
- AlreadyApplied: True
- BlueHue: 0
- BlueSaturation: 0
- Brightness: +57
- CameraProfile: ACR 4.6
- ChromaticAberrationB: 0
- ChromaticAberrationR: 0
- Clarity: 0
- ColorNoiseReduction: 25
- Contrast: +59
- ConvertToGrayscale: False
- Defringe: 0
- Exposure: +0.80
- FillLight: 16
- GreenHue: 0
- GreenSaturation: 0
- HasCrop: False
- HasSettings: True
- HighlightRecovery: 66
- HueAdjustmentAqua: 0
- HueAdjustmentBlue: 0
- HueAdjustmentGreen: 0
- HueAdjustmentMagenta: 0
- HueAdjustmentOrange: 0
- HueAdjustmentPurple: 0
- HueAdjustmentRed: 0
- HueAdjustmentYellow: 0
- LuminanceAdjustmentAqua: 0
- LuminanceAdjustmentBlue: 0
- LuminanceAdjustmentGreen: 0
- LuminanceAdjustmentMagenta: 0
- LuminanceAdjustmentOrange: 0
- LuminanceAdjustmentPurple: 0
- LuminanceAdjustmentRed: 0
- LuminanceAdjustmentYellow: 0
- LuminanceSmoothing: 0
- ParametricDarks: 0
- ParametricHighlightSplit: 75
- ParametricHighlights: 0
- ParametricLights: 0
- ParametricMidtoneSplit: 50
- ParametricShadowSplit: 25
- ParametricShadows: 0
- PostCropVignetteAmount: 0
- RawFileName: IMEG_2704.CR2
- RedHue: 0
- RedSaturation: 0
- Saturation: +4
- SaturationAdjustmentAqua: 0
- SaturationAdjustmentBlue: 0
- SaturationAdjustmentGreen: 0
- SaturationAdjustmentMagenta: 0
- SaturationAdjustmentOrange: 0
- SaturationAdjustmentPurple: 0
- SaturationAdjustmentRed: 0
- SaturationAdjustmentYellow: 0
- ShadowTint: 0
- Shadows: 3
- SharpenDetail: 25
- SharpenEdgeMasking: 0
- SharpenRadius: +1.0
- Sharpness: 25
- SplitToningBalance: 0
- SplitToningHighlightHue: 0
- SplitToningHighlightSaturation: 0
- SplitToningShadowHue: 0
- SplitToningShadowSaturation: 0
- Temperature: 5300
- Tint: +10
- ToneCurve: 0, 0, 32, 22, 64, 56, 128, 128, 192, 196, 255, 255
- ToneCurveName: Medium Contrast
- Version: 5.1
- Vibrance: +32
- VignetteAmount: +13
- VignetteMidpoint: 50
- WhiteBalance: As Shot
- XMP-dc
- Creator: shanshin
- Format: image/jpeg
- Subject: industrial, worker, skyscrape, office, building, business, high, tall, mirror, reflection, windows, washing, cleaning, profession, risk, rope, altitude, people, man, sky
- Title: high rise industrial workers on a skyscrape
- XMP-exif
- DateTimeDigitized: 2009:06:05 16:51:28.12+04:00
- DateTimeOriginal: 2009:06:05 16:51:28.12+04:00
- FlashFired: False
- FlashFunction: False
- FlashMode: Off
- FlashRedEyeMode: False
- FlashReturn: No return detection
- XMP-tiff
- XMP-xmp
- CreateDate: 2009:06:05 16:51:28.12+04:00
- ModifyDate: 2009:06:10 13:12:34+04:00
- Rating: 0
- XMP-xmpMM
- XMP-xmpRights
- Просмотров: 151
- Рейтинг: голосов еще нет
- Отзывов: 0