- Раздел: Другое, разное
- Дата съёмки: 12.11.2008 20:26
- Дата загрузки фото: 14.09.2009 10:09
- Оригинальная фотография: 1092 x 728 (414 Кб)
- Технические характеристики:
- Фотоаппарат: Canon EOS 5D
- Выдержка: 1/10
- Гиперфокальное расстояние: 64,06 m
- Диафрагма: 5,0
- Светочувствительность: 1250
- Фокусное расстояние: 49,0 mm (35 mm equivalent: 196,4 mm)
- Полный EXIF
- Adobe
- ColorTransform: YCbCr
- Composite
- Aperture: 5,0
- CircleOfConfusion: 0,007 mm
- FOV: 10,0 deg
- FocalLength35efl: 49,0 mm (35 mm equivalent: 196,4 mm)
- HyperfocalDistance: 64,06 m
- ScaleFactor35efl: 4,0
- ShutterSpeed: 1/10
- ExifIFD
- ApertureValue: 5,0
- ColorSpace: Uncalibrated
- CreateDate: 2008:11:12 20:26:34
- CustomRendered: Normal
- DateTimeOriginal: 2008:11:12 20:26:34
- ExifImageHeight: 728
- ExifImageWidth: 1092
- ExposureCompensation: 0
- ExposureMode: Manual
- ExposureProgram: Manual
- ExposureTime: 1/10
- FNumber: 5,0
- Flash: Off
- FocalLength: 49,0 mm
- ISO: 1250
- MaxApertureValue: 2,8
- MeteringMode: Multi-segment
- SceneCaptureType: Standard
- ShutterSpeedValue: 1/10
- WhiteBalance: Auto
- ICC-header
- IFD0
- Make: Canon
- Model: Canon EOS 5D
- ModifyDate: 2008:11:13 00:39:17
- Orientation: Horizontal (normal)
- IFD1
- IPTC
- XMP-aux
- Firmware: 1.1.1
- FlashCompensation: 0
- ImageNumber: 2
- Lens: 24.0-60.0 mm
- LensInfo: 24/1 60/1 0/0 0/0
- SerialNumber: 3131307030
- XMP-crs
- AlreadyApplied: True
- BlueHue: 0
- BlueSaturation: 0
- Brightness: +53
- CameraProfile: ACR 4.4
- ChromaticAberrationB: 0
- ChromaticAberrationR: 0
- Clarity: 0
- ColorNoiseReduction: 25
- Contrast: +53
- ConvertToGrayscale: False
- Defringe: 0
- Exposure: 0.00
- FillLight: 5
- GreenHue: 0
- GreenSaturation: 0
- HasCrop: False
- HasSettings: True
- HighlightRecovery: 15
- HueAdjustmentAqua: 0
- HueAdjustmentBlue: 0
- HueAdjustmentGreen: 0
- HueAdjustmentMagenta: 0
- HueAdjustmentOrange: 0
- HueAdjustmentPurple: 0
- HueAdjustmentRed: 0
- HueAdjustmentYellow: 0
- LuminanceAdjustmentAqua: 0
- LuminanceAdjustmentBlue: +1
- LuminanceAdjustmentGreen: 0
- LuminanceAdjustmentMagenta: -100
- LuminanceAdjustmentOrange: -11
- LuminanceAdjustmentPurple: +44
- LuminanceAdjustmentRed: +9
- LuminanceAdjustmentYellow: -6
- LuminanceSmoothing: 0
- ParametricDarks: 0
- ParametricHighlightSplit: 75
- ParametricHighlights: 0
- ParametricLights: 0
- ParametricMidtoneSplit: 50
- ParametricShadowSplit: 25
- ParametricShadows: 0
- PostCropVignetteAmount: 0
- RawFileName: IMG_1141.CR2
- RedHue: 0
- RedSaturation: 0
- Saturation: +3
- SaturationAdjustmentAqua: +33
- SaturationAdjustmentBlue: +3
- SaturationAdjustmentGreen: +26
- SaturationAdjustmentMagenta: +50
- SaturationAdjustmentOrange: +8
- SaturationAdjustmentPurple: -5
- SaturationAdjustmentRed: -42
- SaturationAdjustmentYellow: -6
- ShadowTint: 0
- Shadows: 6
- SharpenDetail: 25
- SharpenEdgeMasking: 0
- SharpenRadius: +1.0
- Sharpness: 25
- SplitToningBalance: -41
- SplitToningHighlightHue: 54
- SplitToningHighlightSaturation: 85
- SplitToningShadowHue: 206
- SplitToningShadowSaturation: 16
- Temperature: 2850
- Tint: 0
- ToneCurve: 0, 0, 32, 22, 64, 56, 128, 128, 192, 196, 255, 255
- ToneCurveName: Medium Contrast
- Version: 5.0
- Vibrance: 0
- VignetteAmount: +48
- VignetteMidpoint: 50
- XMP-dc
- XMP-exif
- DateTimeDigitized: 2008:11:12 20:26:34+03:00
- DateTimeOriginal: 2008:11:12 20:26:34+03:00
- FlashFired: False
- FlashFunction: False
- FlashMode: Off
- FlashRedEyeMode: False
- FlashReturn: No return detection
- XMP-tiff
- ImageHeight: 2912
- ImageWidth: 4368
- XMP-xmp
- CreateDate: 2008:11:12 20:26:34+03:00
- ModifyDate: 2008:11:13 00:39:17+03:00
- XMP-xmpMM
- Просмотров: 193
- Рейтинг: голосов еще нет
- Отзывов: 0