Уважаемые друзья и участники проекта iXBT.photo! К сожалению, 1 марта 2026 года проект iXBT.photo прекратит свою работу и будет закрыт. Мы высоко ценим ваше участие и тот вклад, который вы внесли в развитие нашего сообщества. Пожалуйста, не забудьте сохранить ваши фотографии до этой даты.
С уважением, команда iXBT.com
| дорожка |
дорожка
проверка работы с солнцем в кадре (без коррекции зайцев)
- Раздел: Тесты фототехники
- Дата съёмки: 30.10.2009 11:57
- Дата загрузки фото: 30.10.2009 21:40
- Оригинальная фотография: 3104 x 4672 (4,3 Мб)
- Технические характеристики:
- Фотоаппарат: Pentax K-7
- Выдержка: 1/640
- Гиперфокальное расстояние: 0,40 m
- Диафрагма: 8,0
- Светочувствительность: 100
- Фокусное расстояние: 8,0 mm (35 mm equivalent: 12,0 mm)
- Экспокоррекция: -1,7
- Полный EXIF
- Adobe
- ColorTransform: YCbCr
- Composite
- Aperture: 8,0
- CircleOfConfusion: 0,020 mm
- FOV: 112,0 deg
- FocalLength35efl: 8,0 mm (35 mm equivalent: 12,0 mm)
- HyperfocalDistance: 0,40 m
- ScaleFactor35efl: 1,5
- ShutterSpeed: 1/640
- ExifIFD
- ApertureValue: 8,0
- CFAPattern: [Blue,Green][Green,Red]
- Contrast: Normal
- CreateDate: 2009:10:30 11:57:51
- CustomRendered: Normal
- DateTimeOriginal: 2009:10:30 11:57:51
- ExposureCompensation: -1,7
- ExposureMode: Manual
- ExposureProgram: Aperture-priority AE
- ExposureTime: 1/640
- FNumber: 8,0
- Flash: Off
- FocalLength: 8,0 mm
- FocalLengthIn35mmFormat: 12 mm
- ISO: 100
- MeteringMode: Center-weighted average
- Saturation: Normal
- SceneCaptureType: Standard
- SensingMethod: One-chip color area
- Sharpness: Normal
- ShutterSpeedValue: 1/640
- SubjectDistanceRange: Distant
- WhiteBalance: Auto
- ICC-header
- ICC-meas
- ICC-view
- IFD0
- Artist: Sergej Petrakov
- Copyright: Sergej Petrakov
- Make: PENTAX
- Model: PENTAX K-7
- ModifyDate: 2009:10:30 20:17:39
- Software: K-7 Ver 1.01
- IFD1
- IPTC
- By-line: Sergej Petrakov
- CopyrightNotice: Sergej Petrakov
- Keywords: landscape, nature
- XMP-aux
- Lens: A Series Lens
- LensID: 2 0
- XMP-crs
- AlreadyApplied: True
- BlueHue: 0
- BlueSaturation: 0
- Brightness: +50
- CameraProfile: Camera Standard
- ChromaticAberrationB: +18
- ChromaticAberrationR: -20
- Clarity: +38
- ColorNoiseReduction: 25
- Contrast: +43
- ConvertToGrayscale: False
- Defringe: 2
- Exposure: +0.30
- FillLight: 45
- GreenHue: 0
- GreenSaturation: 0
- HasCrop: False
- HasSettings: True
- HighlightRecovery: 8
- HueAdjustmentAqua: 0
- HueAdjustmentBlue: 0
- HueAdjustmentGreen: 0
- HueAdjustmentMagenta: 0
- HueAdjustmentOrange: 0
- HueAdjustmentPurple: 0
- HueAdjustmentRed: 0
- HueAdjustmentYellow: 0
- LuminanceAdjustmentAqua: 0
- LuminanceAdjustmentBlue: 0
- LuminanceAdjustmentGreen: 0
- LuminanceAdjustmentMagenta: 0
- LuminanceAdjustmentOrange: 0
- LuminanceAdjustmentPurple: 0
- LuminanceAdjustmentRed: 0
- LuminanceAdjustmentYellow: 0
- LuminanceSmoothing: 0
- ParametricDarks: 0
- ParametricHighlightSplit: 75
- ParametricHighlights: 0
- ParametricLights: 0
- ParametricMidtoneSplit: 50
- ParametricShadowSplit: 25
- ParametricShadows: 0
- PostCropVignetteAmount: 0
- RawFileName: IMGA2130.dng
- RedHue: 0
- RedSaturation: 0
- Saturation: 0
- SaturationAdjustmentAqua: 0
- SaturationAdjustmentBlue: 0
- SaturationAdjustmentGreen: 0
- SaturationAdjustmentMagenta: 0
- SaturationAdjustmentOrange: 0
- SaturationAdjustmentPurple: 0
- SaturationAdjustmentRed: 0
- SaturationAdjustmentYellow: 0
- ShadowTint: 0
- Shadows: 0
- SharpenDetail: 50
- SharpenEdgeMasking: 0
- SharpenRadius: +1.0
- Sharpness: 50
- SplitToningBalance: 0
- SplitToningHighlightHue: 0
- SplitToningHighlightSaturation: 0
- SplitToningShadowHue: 0
- SplitToningShadowSaturation: 0
- Temperature: 4750
- Tint: +14
- ToneCurve: 0, 0, 32, 22, 64, 56, 128, 128, 192, 196, 255, 255
- ToneCurveName: Medium Contrast
- Version: 5.5
- Vibrance: +41
- VignetteAmount: 0
- WhiteBalance: As Shot
- XMP-dc
- Creator: Sergej Petrakov, Sergej Petrakov
- Rights: Sergej Petrakov
- Subject: landscape, nature
- XMP-exif
- DateTimeDigitized: 2009:10:30 11:57:51+02:00
- DateTimeOriginal: 2009:10:30 11:57:51+02:00
- ExifImageHeight: 4672
- ExifImageWidth: 3104
- FlashFired: False
- FlashFunction: False
- FlashMode: Off
- FlashRedEyeMode: False
- FlashReturn: No return detection
- XMP-lr
- HierarchicalSubject: Genres|landscape, nature
- XMP-tiff
- ImageHeight: 4672
- ImageWidth: 3104
- XMP-xmp
- CreateDate: 2009:10:30 11:57:51+02:00
- CreatorTool: K-7 Ver 1.01
- ModifyDate: 2009:10:30 20:17:39+02:00
- Rating: 0
- Просмотров: 427
- Рейтинг: голосов еще нет
- Отзывов: 1
Получить код для блога
| Вставка фотографии в текущем разрешении |
Вставка миниатюры |
HTML (для вставки в блог):
BBCode (для вставки в форум):
Ссылка на фото:
Ссылка на миниатюру:
- Послать ссылку другу
| Комментарии к фотографии |