- Раздел: Портрет
- Дата съёмки: 30.10.2009 11:52
- Дата загрузки фото: 12.11.2009 19:25
- Оригинальная фотография: 1333 x 2000 (758 Кб)
- Технические характеристики:
- Фотоаппарат: Canon EOS 40D
- Выдержка: 1/100
- Гиперфокальное расстояние: 31,44 m
- Диафрагма: 4,0
- Светочувствительность: 250
- Фокусное расстояние: 35,0 mm (35 mm equivalent: 108,0 mm)
- Полный EXIF
- Composite
- Aperture: 4,0
- CircleOfConfusion: 0,010 mm
- FOV: 18,0 deg
- FocalLength35efl: 35,0 mm (35 mm equivalent: 108,0 mm)
- HyperfocalDistance: 31,44 m
- ScaleFactor35efl: 3,1
- ShutterSpeed: 1/100
- ExifIFD
- ApertureValue: 4,0
- CreateDate: 2009:10:30 11:52:29
- CustomRendered: Normal
- DateTimeOriginal: 2009:10:30 11:52:29
- ExifImageHeight: 2000
- ExifImageWidth: 1333
- ExposureCompensation: 0
- ExposureMode: Manual
- ExposureProgram: Manual
- ExposureTime: 1/100
- FNumber: 4,0
- Flash: On
- FocalLength: 35,0 mm
- ISO: 250
- MaxApertureValue: 2,8
- MeteringMode: Multi-segment
- SceneCaptureType: Standard
- ShutterSpeedValue: 1/100
- WhiteBalance: Auto
- ICC-header
- ICC-meas
- ICC-view
- IFD0
- Artist: Roman E Demakov
- Make: Canon
- Model: Canon EOS 40D
- ModifyDate: 2009:11:12 20:25:46
- Orientation: Horizontal (normal)
- Software: ACD Systems Digital Imaging
- IFD1
- IPTC
- XMP-aux
- Firmware: 1.1.1
- FlashCompensation: 0
- ImageNumber: 0
- Lens: EF16-35mm f/2.8L II USM
- LensInfo: 16/1 35/1 0/0 0/0
- OwnerName: Roman E Demakov
- SerialNumber: 830523091
- XMP-crs
- AlreadyApplied: True
- BlueHue: 0
- BlueSaturation: 0
- Brightness: +50
- ChromaticAberrationB: 0
- ChromaticAberrationR: 0
- Clarity: 0
- ColorNoiseReduction: 25
- Contrast: +50
- ConvertToGrayscale: True
- CropAngle: 0
- CropBottom: 0.672375
- CropHeight: 1361
- CropLeft: 0.372145
- CropRight: 0.89726
- CropTop: 0.14726
- CropUnit: 0
- CropWidth: 2042
- Defringe: 0
- Exposure: +0.38
- FillLight: 13
- GrayMixerAqua: -19
- GrayMixerBlue: +8
- GrayMixerGreen: -25
- GrayMixerMagenta: +5
- GrayMixerOrange: -17
- GrayMixerPurple: +15
- GrayMixerRed: -8
- GrayMixerYellow: -21
- GreenHue: 0
- GreenSaturation: 0
- HasCrop: True
- HasSettings: True
- HighlightRecovery: 0
- LuminanceSmoothing: 0
- ParametricDarks: -17
- ParametricHighlightSplit: 75
- ParametricHighlights: 0
- ParametricLights: +28
- ParametricMidtoneSplit: 50
- ParametricShadowSplit: 25
- ParametricShadows: 0
- PostCropVignetteAmount: -50
- PostCropVignetteFeather: 50
- PostCropVignetteMidpoint: 45
- PostCropVignetteRoundness: 0
- RedHue: 0
- RedSaturation: 0
- ShadowTint: 0
- Shadows: 0
- SharpenDetail: 25
- SharpenEdgeMasking: 0
- SharpenRadius: +1.0
- Sharpness: 25
- SplitToningBalance: 0
- SplitToningHighlightHue: 52
- SplitToningHighlightSaturation: 64
- SplitToningShadowHue: 37
- SplitToningShadowSaturation: 22
- Temperature: 5550
- Tint: -4
- ToneCurve: 0, 0, 32, 22, 64, 56, 128, 128, 192, 196, 255, 255
- ToneCurveName: Medium Contrast
- Version: 5.5
- VignetteAmount: 0
- WhiteBalance: Custom
- XMP-dc
- XMP-exif
- DateTimeDigitized: 2009:10:30 11:52:29.0+4:00
- DateTimeOriginal: 2009:10:30 11:52:29.0+4:00
- ExifImageHeight: 2042
- ExifImageWidth: 1361
- FlashFired: True
- FlashFunction: False
- FlashMode: On
- FlashRedEyeMode: False
- FlashReturn: No return detection
- XMP-tiff
- ImageHeight: 2042
- ImageWidth: 1361
- XMP-xmp
- CreateDate: 2009:10:30 11:52:29.00+04:00
- ModifyDate: 2009:11:12 20:24:49.0+4:00