| » Участники » navia » Альбом #1 » IMG_9253.jpg |
Уважаемые друзья и участники проекта iXBT.photo! К сожалению, 1 марта 2026 года проект iXBT.photo прекратит свою работу и будет закрыт. Мы высоко ценим ваше участие и тот вклад, который вы внесли в развитие нашего сообщества. Пожалуйста, не забудьте сохранить ваши фотографии до этой даты.
С уважением, команда iXBT.com
| IMG_9253.jpg |
IMG_9253.jpg
- Раздел: Природа
- Дата съёмки: 08.07.2009 18:48
- Дата загрузки фото: 14.11.2009 19:23
- Оригинальная фотография: 2717 x 2099 (2,0 Мб)
- Технические характеристики:
- Фотоаппарат: Canon EOS 350D DIGITAL
- Выдержка: 1/30
- Гиперфокальное расстояние: 6,17 m
- Диафрагма: 32,0
- Светочувствительность: 100
- Фокусное расстояние: 55,0 mm (35 mm equivalent: 107,9 mm)
- Полный EXIF
- Adobe
- ColorTransform: YCbCr
- Composite
- Aperture: 32,0
- CircleOfConfusion: 0,015 mm
- FOV: 18,0 deg
- FocalLength35efl: 55,0 mm (35 mm equivalent: 107,9 mm)
- HyperfocalDistance: 6,17 m
- ScaleFactor35efl: 2,0
- ShutterSpeed: 1/30
- ExifIFD
- ApertureValue: 32,0
- CreateDate: 2009:07:08 18:48:14
- CustomRendered: Normal
- DateTimeOriginal: 2009:07:08 18:48:14
- ExposureCompensation: 0
- ExposureMode: Auto
- ExposureProgram: Aperture-priority AE
- ExposureTime: 1/30
- FNumber: 32,0
- Flash: Off
- FocalLength: 55,0 mm
- ISO: 100
- MaxApertureValue: 4,5
- MeteringMode: Partial
- SceneCaptureType: Standard
- ShutterSpeedValue: 1/30
- WhiteBalance: Auto
- ICC-header
- ICC-meas
- ICC-view
- IFD0
- Artist: unknown
- Make: Canon
- Model: Canon EOS 350D DIGITAL
- ModifyDate: 2009:08:17 18:14:44
- IFD1
- IPTC
- By-line: unknown
- XMP-aux
- Firmware: 1.0.3
- FlashCompensation: 0
- ImageNumber: 37
- Lens: 18.0-55.0 mm
- LensInfo: 18/1 55/1 0/0 0/0
- OwnerName: unknown
- SerialNumber: 330113555
- XMP-crs
- AlreadyApplied: True
- BlueHue: -10
- BlueSaturation: +52
- Brightness: +36
- ChromaticAberrationB: 0
- ChromaticAberrationR: 0
- Clarity: +55
- ColorNoiseReduction: 25
- Contrast: +43
- ConvertToGrayscale: False
- CropAngle: 0
- CropBottom: 0.979942
- CropHeight: 2099
- CropLeft: 0.133716
- CropRight: 0.919771
- CropTop: 0.068768
- CropUnit: 0
- CropWidth: 2717
- Defringe: 0
- Exposure: -0.29
- FillLight: 35
- GreenHue: -74
- GreenSaturation: +33
- HasCrop: True
- HasSettings: True
- HighlightRecovery: 0
- HueAdjustmentAqua: 0
- HueAdjustmentBlue: 0
- HueAdjustmentGreen: 0
- HueAdjustmentMagenta: 0
- HueAdjustmentOrange: 0
- HueAdjustmentPurple: 0
- HueAdjustmentRed: 0
- HueAdjustmentYellow: 0
- LuminanceAdjustmentAqua: 0
- LuminanceAdjustmentBlue: 0
- LuminanceAdjustmentGreen: 0
- LuminanceAdjustmentMagenta: 0
- LuminanceAdjustmentOrange: 0
- LuminanceAdjustmentPurple: 0
- LuminanceAdjustmentRed: 0
- LuminanceAdjustmentYellow: 0
- LuminanceSmoothing: 0
- ParametricDarks: -12
- ParametricHighlightSplit: 75
- ParametricHighlights: -12
- ParametricLights: -45
- ParametricMidtoneSplit: 50
- ParametricShadowSplit: 25
- ParametricShadows: +86
- PostCropVignetteAmount: 0
- RedHue: +7
- RedSaturation: +55
- Saturation: 0
- SaturationAdjustmentAqua: 0
- SaturationAdjustmentBlue: 0
- SaturationAdjustmentGreen: 0
- SaturationAdjustmentMagenta: 0
- SaturationAdjustmentOrange: 0
- SaturationAdjustmentPurple: 0
- SaturationAdjustmentRed: 0
- SaturationAdjustmentYellow: 0
- ShadowTint: 0
- Shadows: 2
- SharpenDetail: 25
- SharpenEdgeMasking: 0
- SharpenRadius: +1.0
- Sharpness: 25
- SplitToningBalance: 0
- SplitToningHighlightHue: 103
- SplitToningHighlightSaturation: 7
- SplitToningShadowHue: 0
- SplitToningShadowSaturation: 0
- Temperature: 4976
- Tint: +4
- ToneCurve: 0, 0, 32, 22, 64, 56, 128, 128, 192, 196, 255, 255
- ToneCurveName: Medium Contrast
- Version: 5.3
- Vibrance: 0
- VignetteAmount: 0
- WhiteBalance: Custom
- XMP-dc
- XMP-exif
- DateTimeDigitized: 2009:07:08 18:48:14+03:00
- DateTimeOriginal: 2009:07:08 18:48:14+03:00
- ExifImageHeight: 2099
- ExifImageWidth: 2717
- FlashFired: False
- FlashFunction: False
- FlashMode: Off
- FlashRedEyeMode: False
- FlashReturn: No return detection
- XMP-tiff
- ImageHeight: 2099
- ImageWidth: 2717
- XMP-xmp
- CreateDate: 2009:07:08 18:48:14+03:00
- ModifyDate: 2009:08:17 18:14:44+03:00
- Просмотров: 222
- Рейтинг: голосов еще нет
- Отзывов: 0
Получить код для блога
| Вставка фотографии в текущем разрешении |
Вставка миниатюры |
HTML (для вставки в блог):
BBCode (для вставки в форум):
Ссылка на фото:
Ссылка на миниатюру:
- Послать ссылку другу
| Комментарии к фотографии |