- Раздел: Натюрморт
- Дата съёмки: 17.11.2009 19:50
- Дата загрузки фото: 17.11.2009 17:07
- Оригинальная фотография: 1200 x 800 (167 Кб)
- Технические характеристики:
- Фотоаппарат: Canon EOS 40D
- Выдержка: 1/30
- Гиперфокальное расстояние: 85,90 m
- Диафрагма: 14,0
- Светочувствительность: 200
- Фокусное расстояние: 83,0 mm (35 mm equivalent: 435,3 mm)
- Полный EXIF
- Adobe
- ColorTransform: YCbCr
- Composite
- Aperture: 14,0
- CircleOfConfusion: 0,006 mm
- FOV: 4,0 deg
- FocalLength35efl: 83,0 mm (35 mm equivalent: 435,3 mm)
- HyperfocalDistance: 85,90 m
- ScaleFactor35efl: 5,2
- ShutterSpeed: 1/30
- ExifIFD
- ApertureValue: 14,0
- ColorSpace: sRGB
- CreateDate: 2008:07:23 18:49:47
- CustomRendered: Normal
- DateTimeOriginal: 2008:07:23 18:49:47
- ExifImageHeight: 800
- ExifImageWidth: 1200
- ExposureCompensation: 0
- ExposureMode: Auto
- ExposureProgram: Aperture-priority AE
- ExposureTime: 1/30
- FNumber: 14,0
- Flash: Off
- FocalLength: 83,0 mm
- ISO: 200
- MaxApertureValue: 5,7
- MeteringMode: Spot
- SceneCaptureType: Standard
- ShutterSpeedValue: 1/30
- WhiteBalance: Auto
- ICC-header
- ICC-meas
- ICC-view
- IFD0
- Artist: Pikalov Sergey
- Make: Canon
- Model: Canon EOS 40D
- ModifyDate: 2009:11:17 19:50:55
- Orientation: Horizontal (normal)
- IFD1
- IPTC
- By-line: Pikalov Sergey
- XMP-aux
- Firmware: 1.0.8
- FlashCompensation: 0
- ImageNumber: 0
- Lens: EF-S17-85mm f/4-5.6 IS USM
- LensInfo: 17/1 85/1 0/0 0/0
- OwnerName: Pikalov Sergey
- SerialNumber: 330112164
- XMP-crs
- AlreadyApplied: True
- BlueHue: 0
- BlueSaturation: 0
- Brightness: +11
- CameraProfile: Embedded
- ChromaticAberrationB: 0
- ChromaticAberrationR: 0
- Clarity: 0
- ColorNoiseReduction: 0
- Contrast: +71
- ConvertToGrayscale: False
- Defringe: 0
- Exposure: 0.00
- FillLight: 10
- GreenHue: 0
- GreenSaturation: 0
- HasCrop: False
- HasSettings: True
- HighlightRecovery: 0
- HueAdjustmentAqua: 0
- HueAdjustmentBlue: 0
- HueAdjustmentGreen: 0
- HueAdjustmentMagenta: 0
- HueAdjustmentOrange: 0
- HueAdjustmentPurple: 0
- HueAdjustmentRed: 0
- HueAdjustmentYellow: 0
- IncrementalTemperature: 0
- IncrementalTint: 0
- LuminanceAdjustmentAqua: 0
- LuminanceAdjustmentBlue: 0
- LuminanceAdjustmentGreen: 0
- LuminanceAdjustmentMagenta: 0
- LuminanceAdjustmentOrange: 0
- LuminanceAdjustmentPurple: 0
- LuminanceAdjustmentRed: 0
- LuminanceAdjustmentYellow: 0
- LuminanceSmoothing: 0
- ParametricDarks: +23
- ParametricHighlightSplit: 75
- ParametricHighlights: 0
- ParametricLights: +14
- ParametricMidtoneSplit: 50
- ParametricShadowSplit: 25
- ParametricShadows: +52
- RedHue: 0
- RedSaturation: 0
- Saturation: 0
- SaturationAdjustmentAqua: 0
- SaturationAdjustmentBlue: 0
- SaturationAdjustmentGreen: 0
- SaturationAdjustmentMagenta: 0
- SaturationAdjustmentOrange: 0
- SaturationAdjustmentPurple: 0
- SaturationAdjustmentRed: 0
- SaturationAdjustmentYellow: 0
- ShadowTint: 0
- Shadows: 12
- SharpenDetail: 29
- SharpenEdgeMasking: 56
- SharpenRadius: +1.2
- Sharpness: 100
- SplitToningBalance: 0
- SplitToningHighlightHue: 0
- SplitToningHighlightSaturation: 0
- SplitToningShadowHue: 0
- SplitToningShadowSaturation: 0
- ToneCurve: 0, 0, 255, 255
- ToneCurveName: Linear
- Version: 4.4.1
- Vibrance: 0
- VignetteAmount: 0
- WhiteBalance: As Shot
- XMP-dc
- Creator: Pikalov Sergey
- Format: image/jpeg
- XMP-exif
- DateTimeDigitized: 2008:07:23 18:49:47.00+06:00
- DateTimeOriginal: 2008:07:23 18:49:47.00+06:00
- FlashFired: False
- FlashFunction: False
- FlashMode: Off
- FlashRedEyeMode: False
- FlashReturn: No return detection
- XMP-tiff
- ImageHeight: 2592
- ImageWidth: 3888
- XMP-xmp
- CreateDate: 2009:11:17 19:50:55+06:00
- ModifyDate: 2009:11:17 19:50:55+06:00
- XMP-xmpMM
- DerivedFrom:
- Просмотров: 557
- Рейтинг: голосов еще нет
- Отзывов: 1